BEGIN:VCALENDAR
VERSION:2.0
PRODID:-//Bahamas Industrial Tribunal - ECPv6.15.20//NONSGML v1.0//EN
CALSCALE:GREGORIAN
METHOD:PUBLISH
X-ORIGINAL-URL:https://www.industrialtribunal.bs
X-WR-CALDESC:Events for Bahamas Industrial Tribunal
REFRESH-INTERVAL;VALUE=DURATION:PT1H
X-Robots-Tag:noindex
X-PUBLISHED-TTL:PT1H
BEGIN:VTIMEZONE
TZID:America/Nassau
BEGIN:DAYLIGHT
TZOFFSETFROM:-0500
TZOFFSETTO:-0400
TZNAME:EDT
DTSTART:20230312T070000
END:DAYLIGHT
BEGIN:STANDARD
TZOFFSETFROM:-0400
TZOFFSETTO:-0500
TZNAME:EST
DTSTART:20231105T060000
END:STANDARD
BEGIN:DAYLIGHT
TZOFFSETFROM:-0500
TZOFFSETTO:-0400
TZNAME:EDT
DTSTART:20240310T070000
END:DAYLIGHT
BEGIN:STANDARD
TZOFFSETFROM:-0400
TZOFFSETTO:-0500
TZNAME:EST
DTSTART:20241103T060000
END:STANDARD
BEGIN:DAYLIGHT
TZOFFSETFROM:-0500
TZOFFSETTO:-0400
TZNAME:EDT
DTSTART:20250309T070000
END:DAYLIGHT
BEGIN:STANDARD
TZOFFSETFROM:-0400
TZOFFSETTO:-0500
TZNAME:EST
DTSTART:20251102T060000
END:STANDARD
END:VTIMEZONE
BEGIN:VEVENT
DTSTART;TZID=America/Nassau:20241112T100000
DTEND;TZID=America/Nassau:20241112T170000
DTSTAMP:20260425T234108
CREATED:20241101T182949Z
LAST-MODIFIED:20241101T182949Z
UID:31596-1731405600-1731430800@www.industrialtribunal.bs
SUMMARY:Janeen Clarke v Solomon Super Center (AML) NP2024-052
DESCRIPTION:
URL:https://www.industrialtribunal.bs/event/janeen-clarke-v-solomon-super-center-aml-np2024-052/
LOCATION:Court 3 – Vice President Sharada Humes Ferguson\, First Floor\, Suite 106\, Saffrey Square Building\, Bank Lane and East Street\, Nassau\, New Providence\, Bahamas
CATEGORIES:Court 3
END:VEVENT
BEGIN:VEVENT
DTSTART;TZID=America/Nassau:20241112T100000
DTEND;TZID=America/Nassau:20241112T170000
DTSTAMP:20260425T234108
CREATED:20241101T183138Z
LAST-MODIFIED:20241101T183138Z
UID:31598-1731405600-1731430800@www.industrialtribunal.bs
SUMMARY:Karunthilaka Rajarathne (Brayan) v Sandpiper Cafe Limited NP2024-099
DESCRIPTION:
URL:https://www.industrialtribunal.bs/event/karunthilaka-rajarathne-brayan-v-sandpiper-cafe-limited-np2024-099/
LOCATION:Court 3 – Vice President Sharada Humes Ferguson\, First Floor\, Suite 106\, Saffrey Square Building\, Bank Lane and East Street\, Nassau\, New Providence\, Bahamas
CATEGORIES:Court 3
END:VEVENT
BEGIN:VEVENT
DTSTART;TZID=America/Nassau:20241112T100000
DTEND;TZID=America/Nassau:20241112T170000
DTSTAMP:20260425T234108
CREATED:20241105T163240Z
LAST-MODIFIED:20241105T163240Z
UID:31627-1731405600-1731430800@www.industrialtribunal.bs
SUMMARY:Eugene Ferguson v Catapult Construction NP2023-105
DESCRIPTION:
URL:https://www.industrialtribunal.bs/event/eugene-ferguson-v-catapult-construction-np2023-105/
LOCATION:Court 5 – Vice President Rionda Godet\, Bank Lane\, Saffrey Square Building 2nd Floor\, New Providence\, Bahamas
CATEGORIES:Court 5
END:VEVENT
BEGIN:VEVENT
DTSTART;TZID=America/Nassau:20241112T100000
DTEND;TZID=America/Nassau:20241112T170000
DTSTAMP:20260425T234108
CREATED:20241107T151852Z
LAST-MODIFIED:20241107T151852Z
UID:31665-1731405600-1731430800@www.industrialtribunal.bs
SUMMARY:Matthew Carey v Last Mile Communication Ltd. t/a Bahamas Wimax NR/NES/045/2024
DESCRIPTION:
URL:https://www.industrialtribunal.bs/event/matthew-carey-v-last-mile-communication-ltd-t-a-bahamas-wimax-nr-nes-045-2024/
LOCATION:Court 2 – Vice President Helen Almorales-Jones\, Suites 2 & 3 Freeport Insurance Center\, 21 B West Mall & Poinciana Dr.\, Freeport\, Grand Bahama\, Bahamas
CATEGORIES:Court 2
END:VEVENT
END:VCALENDAR