BEGIN:VCALENDAR
VERSION:2.0
PRODID:-//Bahamas Industrial Tribunal - ECPv6.15.20//NONSGML v1.0//EN
CALSCALE:GREGORIAN
METHOD:PUBLISH
X-WR-CALNAME:Bahamas Industrial Tribunal
X-ORIGINAL-URL:https://www.industrialtribunal.bs
X-WR-CALDESC:Events for Bahamas Industrial Tribunal
REFRESH-INTERVAL;VALUE=DURATION:PT1H
X-Robots-Tag:noindex
X-PUBLISHED-TTL:PT1H
BEGIN:VTIMEZONE
TZID:America/Nassau
BEGIN:DAYLIGHT
TZOFFSETFROM:-0500
TZOFFSETTO:-0400
TZNAME:EDT
DTSTART:20230312T070000
END:DAYLIGHT
BEGIN:STANDARD
TZOFFSETFROM:-0400
TZOFFSETTO:-0500
TZNAME:EST
DTSTART:20231105T060000
END:STANDARD
BEGIN:DAYLIGHT
TZOFFSETFROM:-0500
TZOFFSETTO:-0400
TZNAME:EDT
DTSTART:20240310T070000
END:DAYLIGHT
BEGIN:STANDARD
TZOFFSETFROM:-0400
TZOFFSETTO:-0500
TZNAME:EST
DTSTART:20241103T060000
END:STANDARD
BEGIN:DAYLIGHT
TZOFFSETFROM:-0500
TZOFFSETTO:-0400
TZNAME:EDT
DTSTART:20250309T070000
END:DAYLIGHT
BEGIN:STANDARD
TZOFFSETFROM:-0400
TZOFFSETTO:-0500
TZNAME:EST
DTSTART:20251102T060000
END:STANDARD
END:VTIMEZONE
BEGIN:VEVENT
DTSTART;TZID=America/Nassau:20241213T100000
DTEND;TZID=America/Nassau:20241213T170000
DTSTAMP:20260425T215541
CREATED:20241203T154157Z
LAST-MODIFIED:20241203T154157Z
UID:31766-1734084000-1734109200@www.industrialtribunal.bs
SUMMARY:Tatiana Tinker & Staff v And More Security Bahamas (Exuma) NP2020-019
DESCRIPTION:
URL:https://www.industrialtribunal.bs/event/tatiana-tinker-staff-v-and-more-security-bahamas-exuma-np2020-019/
LOCATION:Court 5 – Vice President Rionda Godet\, Bank Lane\, Saffrey Square Building 2nd Floor\, New Providence\, Bahamas
CATEGORIES:Court 5
END:VEVENT
BEGIN:VEVENT
DTSTART;TZID=America/Nassau:20241213T100000
DTEND;TZID=America/Nassau:20241213T170000
DTSTAMP:20260425T215541
CREATED:20241205T174132Z
LAST-MODIFIED:20241205T174132Z
UID:31828-1734084000-1734109200@www.industrialtribunal.bs
SUMMARY:Tatiana Tinker & Staff v And More Security Bahamas (Exuma) NP2020-019
DESCRIPTION:
URL:https://www.industrialtribunal.bs/event/tatiana-tinker-staff-v-and-more-security-bahamas-exuma-np2020-019-2/
LOCATION:Court 5 – Vice President Rionda Godet\, Bank Lane\, Saffrey Square Building 2nd Floor\, New Providence\, Bahamas
CATEGORIES:Court 5
END:VEVENT
BEGIN:VEVENT
DTSTART;TZID=America/Nassau:20241213T100000
DTEND;TZID=America/Nassau:20241213T170000
DTSTAMP:20260425T215541
CREATED:20241210T165908Z
LAST-MODIFIED:20241210T165908Z
UID:31848-1734084000-1734109200@www.industrialtribunal.bs
SUMMARY:Ginae Rolle v Mark Smith & Kimeo McIntosh t/a Dominion Technical School/Vanena C. Smith Academy NR/NES/026/2024
DESCRIPTION:
URL:https://www.industrialtribunal.bs/event/ginae-rolle-v-mark-smith-kimeo-mcintosh-t-a-dominion-technical-school-vanena-c-smith-academy-nr-nes-026-2024-2/
LOCATION:Court 2 – Vice President Helen Almorales-Jones\, Suites 2 & 3 Freeport Insurance Center\, 21 B West Mall & Poinciana Dr.\, Freeport\, Grand Bahama\, Bahamas
CATEGORIES:Court 2
END:VEVENT
BEGIN:VEVENT
DTSTART;TZID=America/Nassau:20241213T120000
DTEND;TZID=America/Nassau:20241213T170000
DTSTAMP:20260425T215541
CREATED:20241210T170119Z
LAST-MODIFIED:20241210T170119Z
UID:31850-1734091200-1734109200@www.industrialtribunal.bs
SUMMARY:Sandra K. Wells v JV SBC/ISD Ltd. Carnival Grand Project NR/NES/064/2024
DESCRIPTION:
URL:https://www.industrialtribunal.bs/event/sandra-k-wells-v-jv-sbc-isd-ltd-carnival-grand-project-nr-nes-064-2024/
LOCATION:Court 2 – Vice President Helen Almorales-Jones\, Suites 2 & 3 Freeport Insurance Center\, 21 B West Mall & Poinciana Dr.\, Freeport\, Grand Bahama\, Bahamas
CATEGORIES:Court 2
END:VEVENT
BEGIN:VEVENT
DTSTART;TZID=America/Nassau:20241213T140000
DTEND;TZID=America/Nassau:20241213T170000
DTSTAMP:20260425T215541
CREATED:20241210T170403Z
LAST-MODIFIED:20241210T170403Z
UID:31852-1734098400-1734109200@www.industrialtribunal.bs
SUMMARY:Evita Pintard v Bank of The Bahamas Ltd. NR/NES/067/2024
DESCRIPTION:
URL:https://www.industrialtribunal.bs/event/evita-pintard-v-bank-of-the-bahamas-ltd-nr-nes-067-2024/
LOCATION:Court 2 – Vice President Helen Almorales-Jones\, Suites 2 & 3 Freeport Insurance Center\, 21 B West Mall & Poinciana Dr.\, Freeport\, Grand Bahama\, Bahamas
CATEGORIES:Court 2
END:VEVENT
BEGIN:VEVENT
DTSTART;TZID=America/Nassau:20241213T150000
DTEND;TZID=America/Nassau:20241213T170000
DTSTAMP:20260425T215541
CREATED:20241210T170623Z
LAST-MODIFIED:20241210T170623Z
UID:31854-1734102000-1734109200@www.industrialtribunal.bs
SUMMARY:Marcia L. Ferguson v Weslyan Methodist Missionary Trust Association NR/NES/069/2024
DESCRIPTION:
URL:https://www.industrialtribunal.bs/event/marcia-l-ferguson-v-weslyan-methodist-missionary-trust-association-nr-nes-069-2024/
LOCATION:Court 2 – Vice President Helen Almorales-Jones\, Suites 2 & 3 Freeport Insurance Center\, 21 B West Mall & Poinciana Dr.\, Freeport\, Grand Bahama\, Bahamas
CATEGORIES:Court 2
END:VEVENT
END:VCALENDAR