BEGIN:VCALENDAR
VERSION:2.0
PRODID:-//Bahamas Industrial Tribunal - ECPv6.15.20//NONSGML v1.0//EN
CALSCALE:GREGORIAN
METHOD:PUBLISH
X-ORIGINAL-URL:https://www.industrialtribunal.bs
X-WR-CALDESC:Events for Bahamas Industrial Tribunal
REFRESH-INTERVAL;VALUE=DURATION:PT1H
X-Robots-Tag:noindex
X-PUBLISHED-TTL:PT1H
BEGIN:VTIMEZONE
TZID:America/Nassau
BEGIN:DAYLIGHT
TZOFFSETFROM:-0500
TZOFFSETTO:-0400
TZNAME:EDT
DTSTART:20240310T070000
END:DAYLIGHT
BEGIN:STANDARD
TZOFFSETFROM:-0400
TZOFFSETTO:-0500
TZNAME:EST
DTSTART:20241103T060000
END:STANDARD
BEGIN:DAYLIGHT
TZOFFSETFROM:-0500
TZOFFSETTO:-0400
TZNAME:EDT
DTSTART:20250309T070000
END:DAYLIGHT
BEGIN:STANDARD
TZOFFSETFROM:-0400
TZOFFSETTO:-0500
TZNAME:EST
DTSTART:20251102T060000
END:STANDARD
BEGIN:DAYLIGHT
TZOFFSETFROM:-0500
TZOFFSETTO:-0400
TZNAME:EDT
DTSTART:20260308T070000
END:DAYLIGHT
BEGIN:STANDARD
TZOFFSETFROM:-0400
TZOFFSETTO:-0500
TZNAME:EST
DTSTART:20261101T060000
END:STANDARD
END:VTIMEZONE
BEGIN:VEVENT
DTSTART;TZID=America/Nassau:20250217T100000
DTEND;TZID=America/Nassau:20250217T170000
DTSTAMP:20260425T164932
CREATED:20250131T180827Z
LAST-MODIFIED:20250131T180827Z
UID:31983-1739786400-1739811600@www.industrialtribunal.bs
SUMMARY:Ricardo D. Smith v Reliable Roofing NP2024-035
DESCRIPTION:
URL:https://www.industrialtribunal.bs/event/ricardo-d-smith-v-reliable-roofing-np2024-035-2/
LOCATION:Court 4 – Vice President Ingrid Cooper-Brooks
CATEGORIES:Court 4
END:VEVENT
BEGIN:VEVENT
DTSTART;TZID=America/Nassau:20250217T100000
DTEND;TZID=America/Nassau:20250217T170000
DTSTAMP:20260425T164932
CREATED:20250131T181000Z
LAST-MODIFIED:20250131T181000Z
UID:31985-1739786400-1739811600@www.industrialtribunal.bs
SUMMARY:Joanes LaFrance v Seabreeze Lodge & James Robertson NP2023-104
DESCRIPTION:
URL:https://www.industrialtribunal.bs/event/joanes-lafrance-v-seabreeze-lodge-james-robertson-np2023-104/
LOCATION:Court 4 – Vice President Ingrid Cooper-Brooks
CATEGORIES:Court 4
END:VEVENT
BEGIN:VEVENT
DTSTART;TZID=America/Nassau:20250217T100000
DTEND;TZID=America/Nassau:20250217T170000
DTSTAMP:20260425T164932
CREATED:20250131T181133Z
LAST-MODIFIED:20250131T181133Z
UID:31987-1739786400-1739811600@www.industrialtribunal.bs
SUMMARY:Rodney Husbands v Quality Home Centre NP2023-132
DESCRIPTION:
URL:https://www.industrialtribunal.bs/event/rodney-husbands-v-quality-home-centre-np2023-132/
LOCATION:Court 4 – Vice President Ingrid Cooper-Brooks
CATEGORIES:Court 4
END:VEVENT
BEGIN:VEVENT
DTSTART;TZID=America/Nassau:20250217T100000
DTEND;TZID=America/Nassau:20250217T170000
DTSTAMP:20260425T164932
CREATED:20250203T182436Z
LAST-MODIFIED:20250203T182436Z
UID:32017-1739786400-1739811600@www.industrialtribunal.bs
SUMMARY:Tamieka Russell v Enoryt Investment and Holding Limited t/a Joe's Meat & Produce Market NR/NES/079/2024
DESCRIPTION:
URL:https://www.industrialtribunal.bs/event/tamieka-russell-v-enoryt-investment-and-holding-limited-t-a-joes-meat-produce-market-nr-nes-079-2024/
LOCATION:Court 2 – Vice President Helen Almorales-Jones\, Suites 2 & 3 Freeport Insurance Center\, 21 B West Mall & Poinciana Dr.\, Freeport\, Grand Bahama\, Bahamas
CATEGORIES:Court 2
END:VEVENT
BEGIN:VEVENT
DTSTART;TZID=America/Nassau:20250217T100000
DTEND;TZID=America/Nassau:20250217T170000
DTSTAMP:20260425T164932
CREATED:20250203T182726Z
LAST-MODIFIED:20250203T182726Z
UID:32019-1739786400-1739811600@www.industrialtribunal.bs
SUMMARY:Shavanna Saunders v Enoryt Investment and Holding Limited t/a Joe's Meat & Produce Market NR/NES/080/2024
DESCRIPTION:
URL:https://www.industrialtribunal.bs/event/shavanna-saunders-v-enoryt-investment-and-holding-limited-t-a-joes-meat-produce-market-nr-nes-080-2024/
LOCATION:Court 2 – Vice President Helen Almorales-Jones\, Suites 2 & 3 Freeport Insurance Center\, 21 B West Mall & Poinciana Dr.\, Freeport\, Grand Bahama\, Bahamas
CATEGORIES:Court 2
END:VEVENT
BEGIN:VEVENT
DTSTART;TZID=America/Nassau:20250217T140000
DTEND;TZID=America/Nassau:20250217T170000
DTSTAMP:20260425T164932
CREATED:20250203T182953Z
LAST-MODIFIED:20250203T182953Z
UID:32022-1739800800-1739811600@www.industrialtribunal.bs
SUMMARY:Anthony Sturrup v The Young Men's Christian Association of Freeport NR/NES/077/2024
DESCRIPTION:
URL:https://www.industrialtribunal.bs/event/anthony-sturrup-v-the-young-mens-christian-association-of-freeport-nr-nes-077-2024/
LOCATION:Court 2 – Vice President Helen Almorales-Jones\, Suites 2 & 3 Freeport Insurance Center\, 21 B West Mall & Poinciana Dr.\, Freeport\, Grand Bahama\, Bahamas
CATEGORIES:Court 2
END:VEVENT
END:VCALENDAR