BEGIN:VCALENDAR
VERSION:2.0
PRODID:-//Bahamas Industrial Tribunal - ECPv6.15.20//NONSGML v1.0//EN
CALSCALE:GREGORIAN
METHOD:PUBLISH
X-WR-CALNAME:Bahamas Industrial Tribunal
X-ORIGINAL-URL:https://www.industrialtribunal.bs
X-WR-CALDESC:Events for Bahamas Industrial Tribunal
REFRESH-INTERVAL;VALUE=DURATION:PT1H
X-Robots-Tag:noindex
X-PUBLISHED-TTL:PT1H
BEGIN:VTIMEZONE
TZID:America/Nassau
BEGIN:DAYLIGHT
TZOFFSETFROM:-0500
TZOFFSETTO:-0400
TZNAME:EDT
DTSTART:20240310T070000
END:DAYLIGHT
BEGIN:STANDARD
TZOFFSETFROM:-0400
TZOFFSETTO:-0500
TZNAME:EST
DTSTART:20241103T060000
END:STANDARD
BEGIN:DAYLIGHT
TZOFFSETFROM:-0500
TZOFFSETTO:-0400
TZNAME:EDT
DTSTART:20250309T070000
END:DAYLIGHT
BEGIN:STANDARD
TZOFFSETFROM:-0400
TZOFFSETTO:-0500
TZNAME:EST
DTSTART:20251102T060000
END:STANDARD
BEGIN:DAYLIGHT
TZOFFSETFROM:-0500
TZOFFSETTO:-0400
TZNAME:EDT
DTSTART:20260308T070000
END:DAYLIGHT
BEGIN:STANDARD
TZOFFSETFROM:-0400
TZOFFSETTO:-0500
TZNAME:EST
DTSTART:20261101T060000
END:STANDARD
END:VTIMEZONE
BEGIN:VEVENT
DTSTART;TZID=America/Nassau:20250317T100000
DTEND;TZID=America/Nassau:20250317T170000
DTSTAMP:20260425T150740
CREATED:20250305T185542Z
LAST-MODIFIED:20250305T185542Z
UID:32104-1742205600-1742230800@www.industrialtribunal.bs
SUMMARY:Jackson Joseph v Transformation Landscaping Development NP2023-147
DESCRIPTION:
URL:https://www.industrialtribunal.bs/event/jackson-joseph-v-transformation-landscaping-development-np2023-147-2/
LOCATION:Court 3 – Vice President Sharada Humes Ferguson\, First Floor\, Suite 106\, Saffrey Square Building\, Bank Lane and East Street\, Nassau\, New Providence\, Bahamas
CATEGORIES:Court 3
END:VEVENT
BEGIN:VEVENT
DTSTART;TZID=America/Nassau:20250317T100000
DTEND;TZID=America/Nassau:20250317T170000
DTSTAMP:20260425T150740
CREATED:20250305T185739Z
LAST-MODIFIED:20250305T185739Z
UID:32106-1742205600-1742230800@www.industrialtribunal.bs
SUMMARY:Bildad Saintil v Titans Hospitality (Swimming Pigs) NP2024-130
DESCRIPTION:
URL:https://www.industrialtribunal.bs/event/bildad-saintil-v-titans-hospitality-swimming-pigs-np2024-130/
LOCATION:Court 3 – Vice President Sharada Humes Ferguson\, First Floor\, Suite 106\, Saffrey Square Building\, Bank Lane and East Street\, Nassau\, New Providence\, Bahamas
CATEGORIES:Court 3
END:VEVENT
BEGIN:VEVENT
DTSTART;TZID=America/Nassau:20250317T100000
DTEND;TZID=America/Nassau:20250317T170000
DTSTAMP:20260425T150740
CREATED:20250317T140259Z
LAST-MODIFIED:20250317T140259Z
UID:32248-1742205600-1742230800@www.industrialtribunal.bs
SUMMARY:Ricardo D. Smith v Reliable Roofing NP2024-035
DESCRIPTION:
URL:https://www.industrialtribunal.bs/event/ricardo-d-smith-v-reliable-roofing-np2024-035-3/
LOCATION:Court 4 – Vice President Ingrid Cooper-Brooks
CATEGORIES:Court 4
END:VEVENT
BEGIN:VEVENT
DTSTART;TZID=America/Nassau:20250317T100000
DTEND;TZID=America/Nassau:20250317T170000
DTSTAMP:20260425T150740
CREATED:20250317T140409Z
LAST-MODIFIED:20250317T140409Z
UID:32250-1742205600-1742230800@www.industrialtribunal.bs
SUMMARY:Joanes LaFrance v Seabreeze Lodge & James Robertson NP2023-104
DESCRIPTION:
URL:https://www.industrialtribunal.bs/event/joanes-lafrance-v-seabreeze-lodge-james-robertson-np2023-104-2/
LOCATION:Court 4 – Vice President Ingrid Cooper-Brooks
CATEGORIES:Court 4
END:VEVENT
END:VCALENDAR