BEGIN:VCALENDAR
VERSION:2.0
PRODID:-//Bahamas Industrial Tribunal - ECPv6.15.20//NONSGML v1.0//EN
CALSCALE:GREGORIAN
METHOD:PUBLISH
X-WR-CALNAME:Bahamas Industrial Tribunal
X-ORIGINAL-URL:https://www.industrialtribunal.bs
X-WR-CALDESC:Events for Bahamas Industrial Tribunal
REFRESH-INTERVAL;VALUE=DURATION:PT1H
X-Robots-Tag:noindex
X-PUBLISHED-TTL:PT1H
BEGIN:VTIMEZONE
TZID:America/Nassau
BEGIN:DAYLIGHT
TZOFFSETFROM:-0500
TZOFFSETTO:-0400
TZNAME:EDT
DTSTART:20240310T070000
END:DAYLIGHT
BEGIN:STANDARD
TZOFFSETFROM:-0400
TZOFFSETTO:-0500
TZNAME:EST
DTSTART:20241103T060000
END:STANDARD
BEGIN:DAYLIGHT
TZOFFSETFROM:-0500
TZOFFSETTO:-0400
TZNAME:EDT
DTSTART:20250309T070000
END:DAYLIGHT
BEGIN:STANDARD
TZOFFSETFROM:-0400
TZOFFSETTO:-0500
TZNAME:EST
DTSTART:20251102T060000
END:STANDARD
BEGIN:DAYLIGHT
TZOFFSETFROM:-0500
TZOFFSETTO:-0400
TZNAME:EDT
DTSTART:20260308T070000
END:DAYLIGHT
BEGIN:STANDARD
TZOFFSETFROM:-0400
TZOFFSETTO:-0500
TZNAME:EST
DTSTART:20261101T060000
END:STANDARD
END:VTIMEZONE
BEGIN:VEVENT
DTSTART;TZID=America/Nassau:20250318T100000
DTEND;TZID=America/Nassau:20250318T170000
DTSTAMP:20260425T150802
CREATED:20250317T135824Z
LAST-MODIFIED:20250317T141546Z
UID:32242-1742292000-1742317200@www.industrialtribunal.bs
SUMMARY:Stephano Greene v Bahamas Power & Light NP2023-081
DESCRIPTION:
URL:https://www.industrialtribunal.bs/event/stephano-greene-v-bahamas-power-light-np2023-081-2/
LOCATION:Court 4 – Vice President Ingrid Cooper-Brooks
CATEGORIES:Court 4
END:VEVENT
BEGIN:VEVENT
DTSTART;TZID=America/Nassau:20250318T100000
DTEND;TZID=America/Nassau:20250318T170000
DTSTAMP:20260425T150802
CREATED:20250317T140518Z
LAST-MODIFIED:20250317T141350Z
UID:32252-1742292000-1742317200@www.industrialtribunal.bs
SUMMARY:Rodney Husbands v Quality Home Centre NP2024-132
DESCRIPTION:
URL:https://www.industrialtribunal.bs/event/rodney-husbands-v-quality-home-centre-np2024-132/
LOCATION:Court 4 – Vice President Ingrid Cooper-Brooks
CATEGORIES:Court 4
END:VEVENT
END:VCALENDAR