BEGIN:VCALENDAR
VERSION:2.0
PRODID:-//Bahamas Industrial Tribunal - ECPv6.15.20//NONSGML v1.0//EN
CALSCALE:GREGORIAN
METHOD:PUBLISH
X-WR-CALNAME:Bahamas Industrial Tribunal
X-ORIGINAL-URL:https://www.industrialtribunal.bs
X-WR-CALDESC:Events for Bahamas Industrial Tribunal
REFRESH-INTERVAL;VALUE=DURATION:PT1H
X-Robots-Tag:noindex
X-PUBLISHED-TTL:PT1H
BEGIN:VTIMEZONE
TZID:America/Nassau
BEGIN:DAYLIGHT
TZOFFSETFROM:-0500
TZOFFSETTO:-0400
TZNAME:EDT
DTSTART:20240310T070000
END:DAYLIGHT
BEGIN:STANDARD
TZOFFSETFROM:-0400
TZOFFSETTO:-0500
TZNAME:EST
DTSTART:20241103T060000
END:STANDARD
BEGIN:DAYLIGHT
TZOFFSETFROM:-0500
TZOFFSETTO:-0400
TZNAME:EDT
DTSTART:20250309T070000
END:DAYLIGHT
BEGIN:STANDARD
TZOFFSETFROM:-0400
TZOFFSETTO:-0500
TZNAME:EST
DTSTART:20251102T060000
END:STANDARD
BEGIN:DAYLIGHT
TZOFFSETFROM:-0500
TZOFFSETTO:-0400
TZNAME:EDT
DTSTART:20260308T070000
END:DAYLIGHT
BEGIN:STANDARD
TZOFFSETFROM:-0400
TZOFFSETTO:-0500
TZNAME:EST
DTSTART:20261101T060000
END:STANDARD
END:VTIMEZONE
BEGIN:VEVENT
DTSTART;TZID=America/Nassau:20250326T100000
DTEND;TZID=America/Nassau:20250326T170000
DTSTAMP:20260425T150802
CREATED:20250305T191055Z
LAST-MODIFIED:20250305T191055Z
UID:32118-1742983200-1743008400@www.industrialtribunal.bs
SUMMARY:Kimsley Ferguson BPSU Lucille Strachan & Algeria Lewis v Department of Statistics NP2021-186
DESCRIPTION:
URL:https://www.industrialtribunal.bs/event/kimsley-ferguson-bpsu-lucille-strachan-algeria-lewis-v-department-of-statistics-np2021-186-3/
LOCATION:Court 3 – Vice President Sharada Humes Ferguson\, First Floor\, Suite 106\, Saffrey Square Building\, Bank Lane and East Street\, Nassau\, New Providence\, Bahamas
CATEGORIES:Court 3
END:VEVENT
BEGIN:VEVENT
DTSTART;TZID=America/Nassau:20250326T100000
DTEND;TZID=America/Nassau:20250326T170000
DTSTAMP:20260425T150802
CREATED:20250307T194836Z
LAST-MODIFIED:20250307T194836Z
UID:32166-1742983200-1743008400@www.industrialtribunal.bs
SUMMARY:Delvin McIntosh v Alarms Limited NP2023-134
DESCRIPTION:
URL:https://www.industrialtribunal.bs/event/delvin-mcintosh-v-alarms-limited-np2023-134-2/
LOCATION:Court 1 – President Indira Demeritte-Francis\, Bank Lane\, Saffrey Square Building 1st Floor\, New Providence\, Bahamas
CATEGORIES:Court 1
END:VEVENT
BEGIN:VEVENT
DTSTART;TZID=America/Nassau:20250326T100000
DTEND;TZID=America/Nassau:20250326T170000
DTSTAMP:20260425T150802
CREATED:20250307T195044Z
LAST-MODIFIED:20250307T195044Z
UID:32168-1742983200-1743008400@www.industrialtribunal.bs
SUMMARY:Ashlyn Miller v Delta Airlines DAL Global Services NP2023-132
DESCRIPTION:
URL:https://www.industrialtribunal.bs/event/ashlyn-miller-v-delta-airlines-dal-global-services-np2023-132/
LOCATION:Court 1 – President Indira Demeritte-Francis\, Bank Lane\, Saffrey Square Building 1st Floor\, New Providence\, Bahamas
CATEGORIES:Court 1
END:VEVENT
BEGIN:VEVENT
DTSTART;TZID=America/Nassau:20250326T100000
DTEND;TZID=America/Nassau:20250326T170000
DTSTAMP:20260425T150802
CREATED:20250307T195233Z
LAST-MODIFIED:20250307T195233Z
UID:32170-1742983200-1743008400@www.industrialtribunal.bs
SUMMARY:Charlin Jean -Jacques v Talcove Construction NP2023-087
DESCRIPTION:
URL:https://www.industrialtribunal.bs/event/charlin-jean-jacques-v-talcove-construction-np2023-087/
LOCATION:Court 1 – President Indira Demeritte-Francis\, Bank Lane\, Saffrey Square Building 1st Floor\, New Providence\, Bahamas
CATEGORIES:Court 1
END:VEVENT
BEGIN:VEVENT
DTSTART;TZID=America/Nassau:20250326T100000
DTEND;TZID=America/Nassau:20250326T170000
DTSTAMP:20260425T150802
CREATED:20250307T195338Z
LAST-MODIFIED:20250307T195338Z
UID:32172-1742983200-1743008400@www.industrialtribunal.bs
SUMMARY:Lula Johnson v North Eleuthera District Council NP2020-86
DESCRIPTION:
URL:https://www.industrialtribunal.bs/event/lula-johnson-v-north-eleuthera-district-council-np2020-86-2/
LOCATION:Court 1 – President Indira Demeritte-Francis\, Bank Lane\, Saffrey Square Building 1st Floor\, New Providence\, Bahamas
CATEGORIES:Court 1
END:VEVENT
BEGIN:VEVENT
DTSTART;TZID=America/Nassau:20250326T100000
DTEND;TZID=America/Nassau:20250326T170000
DTSTAMP:20260425T150802
CREATED:20250307T195439Z
LAST-MODIFIED:20250307T195439Z
UID:32174-1742983200-1743008400@www.industrialtribunal.bs
SUMMARY:Mary Fernander v Albany Resort NP2024-106
DESCRIPTION:
URL:https://www.industrialtribunal.bs/event/mary-fernander-v-albany-resort-np2024-106-2/
LOCATION:Court 1 – President Indira Demeritte-Francis\, Bank Lane\, Saffrey Square Building 1st Floor\, New Providence\, Bahamas
CATEGORIES:Court 1
END:VEVENT
BEGIN:VEVENT
DTSTART;TZID=America/Nassau:20250326T100000
DTEND;TZID=America/Nassau:20250326T170000
DTSTAMP:20260425T150802
CREATED:20250307T195550Z
LAST-MODIFIED:20250307T195550Z
UID:32176-1742983200-1743008400@www.industrialtribunal.bs
SUMMARY:Eugina Mckenzie v Albury's Locksmithing Company NP2024-073
DESCRIPTION:
URL:https://www.industrialtribunal.bs/event/eugina-mckenzie-v-alburys-locksmithing-company-np2024-073/
LOCATION:Court 1 – President Indira Demeritte-Francis\, Bank Lane\, Saffrey Square Building 1st Floor\, New Providence\, Bahamas
CATEGORIES:Court 1
END:VEVENT
BEGIN:VEVENT
DTSTART;TZID=America/Nassau:20250326T100000
DTEND;TZID=America/Nassau:20250326T170000
DTSTAMP:20260425T150802
CREATED:20250307T195655Z
LAST-MODIFIED:20250307T195655Z
UID:32178-1742983200-1743008400@www.industrialtribunal.bs
SUMMARY:Darren Ferguson v Sandilands Rehabilitation Centre NP2024-090
DESCRIPTION:
URL:https://www.industrialtribunal.bs/event/darren-ferguson-v-sandilands-rehabilitation-centre-np2024-090-2/
LOCATION:Court 1 – President Indira Demeritte-Francis\, Bank Lane\, Saffrey Square Building 1st Floor\, New Providence\, Bahamas
CATEGORIES:Court 1
END:VEVENT
BEGIN:VEVENT
DTSTART;TZID=America/Nassau:20250326T100000
DTEND;TZID=America/Nassau:20250326T170000
DTSTAMP:20260425T150802
CREATED:20250307T195746Z
LAST-MODIFIED:20250307T195746Z
UID:32180-1742983200-1743008400@www.industrialtribunal.bs
SUMMARY:Kendesha Forbes v Boost Academy NP2024-084
DESCRIPTION:
URL:https://www.industrialtribunal.bs/event/kendesha-forbes-v-boost-academy-np2024-084-2/
LOCATION:Court 1 – President Indira Demeritte-Francis\, Bank Lane\, Saffrey Square Building 1st Floor\, New Providence\, Bahamas
CATEGORIES:Court 1
END:VEVENT
BEGIN:VEVENT
DTSTART;TZID=America/Nassau:20250326T100000
DTEND;TZID=America/Nassau:20250326T170000
DTSTAMP:20260425T150802
CREATED:20250307T195933Z
LAST-MODIFIED:20250307T195933Z
UID:32182-1742983200-1743008400@www.industrialtribunal.bs
SUMMARY:Serina W. Johnson v Bahamas Technical and Vocational Institute (B.T.V.I) NP2024-107
DESCRIPTION:
URL:https://www.industrialtribunal.bs/event/serina-w-johnson-v-bahamas-technical-and-vocational-institute-b-t-v-i-np2024-107/
LOCATION:Court 1 – President Indira Demeritte-Francis\, Bank Lane\, Saffrey Square Building 1st Floor\, New Providence\, Bahamas
CATEGORIES:Court 1
END:VEVENT
BEGIN:VEVENT
DTSTART;TZID=America/Nassau:20250326T100000
DTEND;TZID=America/Nassau:20250326T170000
DTSTAMP:20260425T150802
CREATED:20250307T200154Z
LAST-MODIFIED:20250307T200154Z
UID:32184-1742983200-1743008400@www.industrialtribunal.bs
SUMMARY:Jermaine Gibson v Island Hotel Company NP2024-071
DESCRIPTION:
URL:https://www.industrialtribunal.bs/event/jermaine-gibson-v-island-hotel-company-np2024-071/
LOCATION:Court 1 – President Indira Demeritte-Francis\, Bank Lane\, Saffrey Square Building 1st Floor\, New Providence\, Bahamas
CATEGORIES:Court 1
END:VEVENT
BEGIN:VEVENT
DTSTART;TZID=America/Nassau:20250326T100000
DTEND;TZID=America/Nassau:20250326T170000
DTSTAMP:20260425T150802
CREATED:20250307T200458Z
LAST-MODIFIED:20250307T200458Z
UID:32186-1742983200-1743008400@www.industrialtribunal.bs
SUMMARY:Ifody Atus v Gunnar Krug Construction NP2024-114
DESCRIPTION:
URL:https://www.industrialtribunal.bs/event/ifody-atus-v-gunnar-krug-construction-np2024-114-2/
LOCATION:Court 1 – President Indira Demeritte-Francis\, Bank Lane\, Saffrey Square Building 1st Floor\, New Providence\, Bahamas
CATEGORIES:Court 1
END:VEVENT
BEGIN:VEVENT
DTSTART;TZID=America/Nassau:20250326T100000
DTEND;TZID=America/Nassau:20250326T170000
DTSTAMP:20260425T150802
CREATED:20250307T200703Z
LAST-MODIFIED:20250307T200703Z
UID:32188-1742983200-1743008400@www.industrialtribunal.bs
SUMMARY:Gregory Grant v Scuba Bimini Center/Tide High Ltd NP2024-146
DESCRIPTION:
URL:https://www.industrialtribunal.bs/event/gregory-grant-v-scuba-bimini-center-tide-high-ltd-np2024-146/
LOCATION:Court 1 – President Indira Demeritte-Francis\, Bank Lane\, Saffrey Square Building 1st Floor\, New Providence\, Bahamas
CATEGORIES:Court 1
END:VEVENT
END:VCALENDAR