BEGIN:VCALENDAR
VERSION:2.0
PRODID:-//Bahamas Industrial Tribunal - ECPv6.15.20//NONSGML v1.0//EN
CALSCALE:GREGORIAN
METHOD:PUBLISH
X-ORIGINAL-URL:https://www.industrialtribunal.bs
X-WR-CALDESC:Events for Bahamas Industrial Tribunal
REFRESH-INTERVAL;VALUE=DURATION:PT1H
X-Robots-Tag:noindex
X-PUBLISHED-TTL:PT1H
BEGIN:VTIMEZONE
TZID:America/Nassau
BEGIN:DAYLIGHT
TZOFFSETFROM:-0500
TZOFFSETTO:-0400
TZNAME:EDT
DTSTART:20240310T070000
END:DAYLIGHT
BEGIN:STANDARD
TZOFFSETFROM:-0400
TZOFFSETTO:-0500
TZNAME:EST
DTSTART:20241103T060000
END:STANDARD
BEGIN:DAYLIGHT
TZOFFSETFROM:-0500
TZOFFSETTO:-0400
TZNAME:EDT
DTSTART:20250309T070000
END:DAYLIGHT
BEGIN:STANDARD
TZOFFSETFROM:-0400
TZOFFSETTO:-0500
TZNAME:EST
DTSTART:20251102T060000
END:STANDARD
BEGIN:DAYLIGHT
TZOFFSETFROM:-0500
TZOFFSETTO:-0400
TZNAME:EDT
DTSTART:20260308T070000
END:DAYLIGHT
BEGIN:STANDARD
TZOFFSETFROM:-0400
TZOFFSETTO:-0500
TZNAME:EST
DTSTART:20261101T060000
END:STANDARD
END:VTIMEZONE
BEGIN:VEVENT
DTSTART;TZID=America/Nassau:20250526T100000
DTEND;TZID=America/Nassau:20250526T170000
DTSTAMP:20260425T094753
CREATED:20250505T195248Z
LAST-MODIFIED:20250505T195248Z
UID:32469-1748253600-1748278800@www.industrialtribunal.bs
SUMMARY:Michelle Hanna vs. EJ's Liquor Store NP2024-080
DESCRIPTION:
URL:https://www.industrialtribunal.bs/event/michelle-hanna-vs-ejs-liquor-store-np2024-080/
CATEGORIES:Court 4
END:VEVENT
BEGIN:VEVENT
DTSTART;TZID=America/Nassau:20250526T100000
DTEND;TZID=America/Nassau:20250526T170000
DTSTAMP:20260425T094753
CREATED:20250521T151806Z
LAST-MODIFIED:20250521T151806Z
UID:32519-1748253600-1748278800@www.industrialtribunal.bs
SUMMARY:Siyyid Campbell vs. Albury's Freeport Ltd t/a Carquest NR/NES/008/2024
DESCRIPTION:
URL:https://www.industrialtribunal.bs/event/siyyid-campbell-vs-alburys-freeport-ltd-t-a-carquest-nr-nes-008-2024-2/
CATEGORIES:Court 2
END:VEVENT
BEGIN:VEVENT
DTSTART;TZID=America/Nassau:20250526T100000
DTEND;TZID=America/Nassau:20250526T170000
DTSTAMP:20260425T094753
CREATED:20250526T144416Z
LAST-MODIFIED:20250526T144416Z
UID:32533-1748253600-1748278800@www.industrialtribunal.bs
SUMMARY:Prescott Wilson Sr. v Bahamas Security Investigative Services NP2024-065
DESCRIPTION:
URL:https://www.industrialtribunal.bs/event/prescott-wilson-sr-v-bahamas-security-investigative-services-np2024-065/
CATEGORIES:Court 6
END:VEVENT
BEGIN:VEVENT
DTSTART;TZID=America/Nassau:20250526T100000
DTEND;TZID=America/Nassau:20250526T170000
DTSTAMP:20260425T094753
CREATED:20250526T144544Z
LAST-MODIFIED:20250526T144544Z
UID:32535-1748253600-1748278800@www.industrialtribunal.bs
SUMMARY:Vicente Roberts v The University of The Bahamas NP2023-149
DESCRIPTION:
URL:https://www.industrialtribunal.bs/event/vicente-roberts-v-the-university-of-the-bahamas-np2023-149-2/
CATEGORIES:Court 6
END:VEVENT
BEGIN:VEVENT
DTSTART;TZID=America/Nassau:20250526T100000
DTEND;TZID=America/Nassau:20250526T170000
DTSTAMP:20260425T094753
CREATED:20250526T144654Z
LAST-MODIFIED:20250526T144654Z
UID:32537-1748253600-1748278800@www.industrialtribunal.bs
SUMMARY:Andre Forbes v Grand Isles Resort (Exuma) NP2022-038
DESCRIPTION:
URL:https://www.industrialtribunal.bs/event/andre-forbes-v-grand-isles-resort-exuma-np2022-038/
CATEGORIES:Court 6
END:VEVENT
BEGIN:VEVENT
DTSTART;TZID=America/Nassau:20250526T100000
DTEND;TZID=America/Nassau:20250526T170000
DTSTAMP:20260425T094753
CREATED:20250526T144917Z
LAST-MODIFIED:20250526T144917Z
UID:32539-1748253600-1748278800@www.industrialtribunal.bs
SUMMARY:Francisco Mackey v American Ridge NP2021-062
DESCRIPTION:
URL:https://www.industrialtribunal.bs/event/francisco-mackey-v-american-ridge-np2021-062/
CATEGORIES:Court 6
END:VEVENT
BEGIN:VEVENT
DTSTART;TZID=America/Nassau:20250526T100000
DTEND;TZID=America/Nassau:20250526T170000
DTSTAMP:20260425T094753
CREATED:20250526T145047Z
LAST-MODIFIED:20250526T145047Z
UID:32541-1748253600-1748278800@www.industrialtribunal.bs
SUMMARY:Domingo D Colebrook v Earco Elite NP2022-083
DESCRIPTION:
URL:https://www.industrialtribunal.bs/event/domingo-d-colebrook-v-earco-elite-np2022-083/
CATEGORIES:Court 6
END:VEVENT
BEGIN:VEVENT
DTSTART;TZID=America/Nassau:20250526T100000
DTEND;TZID=America/Nassau:20250526T170000
DTSTAMP:20260425T094753
CREATED:20250526T145210Z
LAST-MODIFIED:20250526T145210Z
UID:32543-1748253600-1748278800@www.industrialtribunal.bs
SUMMARY:Adrian Sands v Double (A) Electric NP2024-033
DESCRIPTION:
URL:https://www.industrialtribunal.bs/event/adrian-sands-v-double-a-electric-np2024-033-2/
CATEGORIES:Court 6
END:VEVENT
BEGIN:VEVENT
DTSTART;TZID=America/Nassau:20250526T100000
DTEND;TZID=America/Nassau:20250526T170000
DTSTAMP:20260425T094753
CREATED:20250526T145349Z
LAST-MODIFIED:20250526T145349Z
UID:32545-1748253600-1748278800@www.industrialtribunal.bs
SUMMARY:Eric Rolle v Bahamas Dreams Web Cafe' Ltd NP2024-059
DESCRIPTION:
URL:https://www.industrialtribunal.bs/event/eric-rolle-v-bahamas-dreams-web-cafe-ltd-np2024-059/
CATEGORIES:Court 6
END:VEVENT
BEGIN:VEVENT
DTSTART;TZID=America/Nassau:20250526T100000
DTEND;TZID=America/Nassau:20250526T170000
DTSTAMP:20260425T094753
CREATED:20250526T195236Z
LAST-MODIFIED:20250526T195236Z
UID:32549-1748253600-1748278800@www.industrialtribunal.bs
SUMMARY:Rudy Taylor vs Airport Authority NP2023-133
DESCRIPTION:
URL:https://www.industrialtribunal.bs/event/rudy-taylor-vs-airport-authority-np2023-133/
CATEGORIES:Court 3
END:VEVENT
END:VCALENDAR