BEGIN:VCALENDAR
VERSION:2.0
PRODID:-//Bahamas Industrial Tribunal - ECPv6.15.20//NONSGML v1.0//EN
CALSCALE:GREGORIAN
METHOD:PUBLISH
X-ORIGINAL-URL:https://www.industrialtribunal.bs
X-WR-CALDESC:Events for Bahamas Industrial Tribunal
REFRESH-INTERVAL;VALUE=DURATION:PT1H
X-Robots-Tag:noindex
X-PUBLISHED-TTL:PT1H
BEGIN:VTIMEZONE
TZID:America/Nassau
BEGIN:DAYLIGHT
TZOFFSETFROM:-0500
TZOFFSETTO:-0400
TZNAME:EDT
DTSTART:20240310T070000
END:DAYLIGHT
BEGIN:STANDARD
TZOFFSETFROM:-0400
TZOFFSETTO:-0500
TZNAME:EST
DTSTART:20241103T060000
END:STANDARD
BEGIN:DAYLIGHT
TZOFFSETFROM:-0500
TZOFFSETTO:-0400
TZNAME:EDT
DTSTART:20250309T070000
END:DAYLIGHT
BEGIN:STANDARD
TZOFFSETFROM:-0400
TZOFFSETTO:-0500
TZNAME:EST
DTSTART:20251102T060000
END:STANDARD
BEGIN:DAYLIGHT
TZOFFSETFROM:-0500
TZOFFSETTO:-0400
TZNAME:EDT
DTSTART:20260308T070000
END:DAYLIGHT
BEGIN:STANDARD
TZOFFSETFROM:-0400
TZOFFSETTO:-0500
TZNAME:EST
DTSTART:20261101T060000
END:STANDARD
END:VTIMEZONE
BEGIN:VEVENT
DTSTART;TZID=America/Nassau:20250707T100000
DTEND;TZID=America/Nassau:20250707T170000
DTSTAMP:20260425T081313
CREATED:20250616T143617Z
LAST-MODIFIED:20250616T143617Z
UID:32661-1751882400-1751907600@www.industrialtribunal.bs
SUMMARY:Salvant St. Merant v Island Hotel NP2022-38
DESCRIPTION:
URL:https://www.industrialtribunal.bs/event/salvant-st-merant-v-island-hotel-np2022-38/
CATEGORIES:Court 6
END:VEVENT
BEGIN:VEVENT
DTSTART;TZID=America/Nassau:20250707T100000
DTEND;TZID=America/Nassau:20250707T170000
DTSTAMP:20260425T081313
CREATED:20250702T175040Z
LAST-MODIFIED:20250702T175040Z
UID:32703-1751882400-1751907600@www.industrialtribunal.bs
SUMMARY:Antony Linden vs. Playtech Systems Limited d/b/a Island Luck NP2024-081
DESCRIPTION:
URL:https://www.industrialtribunal.bs/event/antony-linden-vs-playtech-systems-limited-d-b-a-island-luck-np2024-081/
CATEGORIES:Court 4
END:VEVENT
BEGIN:VEVENT
DTSTART;TZID=America/Nassau:20250707T100000
DTEND;TZID=America/Nassau:20250707T170000
DTSTAMP:20260425T081313
CREATED:20250702T183328Z
LAST-MODIFIED:20250702T183328Z
UID:32719-1751882400-1751907600@www.industrialtribunal.bs
SUMMARY:Jennifer Rolle vs. Abby's Catering NP2023-062
DESCRIPTION:
URL:https://www.industrialtribunal.bs/event/jennifer-rolle-vs-abbys-catering-np2023-062/
CATEGORIES:Court 3
END:VEVENT
END:VCALENDAR