BEGIN:VCALENDAR
VERSION:2.0
PRODID:-//Bahamas Industrial Tribunal - ECPv6.15.20//NONSGML v1.0//EN
CALSCALE:GREGORIAN
METHOD:PUBLISH
X-ORIGINAL-URL:https://www.industrialtribunal.bs
X-WR-CALDESC:Events for Bahamas Industrial Tribunal
REFRESH-INTERVAL;VALUE=DURATION:PT1H
X-Robots-Tag:noindex
X-PUBLISHED-TTL:PT1H
BEGIN:VTIMEZONE
TZID:America/Nassau
BEGIN:DAYLIGHT
TZOFFSETFROM:-0500
TZOFFSETTO:-0400
TZNAME:EDT
DTSTART:20240310T070000
END:DAYLIGHT
BEGIN:STANDARD
TZOFFSETFROM:-0400
TZOFFSETTO:-0500
TZNAME:EST
DTSTART:20241103T060000
END:STANDARD
BEGIN:DAYLIGHT
TZOFFSETFROM:-0500
TZOFFSETTO:-0400
TZNAME:EDT
DTSTART:20250309T070000
END:DAYLIGHT
BEGIN:STANDARD
TZOFFSETFROM:-0400
TZOFFSETTO:-0500
TZNAME:EST
DTSTART:20251102T060000
END:STANDARD
BEGIN:DAYLIGHT
TZOFFSETFROM:-0500
TZOFFSETTO:-0400
TZNAME:EDT
DTSTART:20260308T070000
END:DAYLIGHT
BEGIN:STANDARD
TZOFFSETFROM:-0400
TZOFFSETTO:-0500
TZNAME:EST
DTSTART:20261101T060000
END:STANDARD
END:VTIMEZONE
BEGIN:VEVENT
DTSTART;TZID=America/Nassau:20250722T100000
DTEND;TZID=America/Nassau:20250722T170000
DTSTAMP:20260425T081312
CREATED:20250616T145022Z
LAST-MODIFIED:20250616T145022Z
UID:32680-1753178400-1753203600@www.industrialtribunal.bs
SUMMARY:Mikhail Smith v West Wind Limited NP2024-109
DESCRIPTION:
URL:https://www.industrialtribunal.bs/event/mikhail-smith-v-west-wind-limited-np2024-109/
CATEGORIES:Court 6
END:VEVENT
BEGIN:VEVENT
DTSTART;TZID=America/Nassau:20250722T100000
DTEND;TZID=America/Nassau:20250722T170000
DTSTAMP:20260425T081312
CREATED:20250702T175727Z
LAST-MODIFIED:20250702T175727Z
UID:32709-1753178400-1753203600@www.industrialtribunal.bs
SUMMARY:Willard Colebroke vs. Public Hospital Authority NP2024-079
DESCRIPTION:
URL:https://www.industrialtribunal.bs/event/willard-colebroke-vs-public-hospital-authority-np2024-079/
CATEGORIES:Court 4
END:VEVENT
BEGIN:VEVENT
DTSTART;TZID=America/Nassau:20250722T100000
DTEND;TZID=America/Nassau:20250722T170000
DTSTAMP:20260425T081312
CREATED:20250702T183838Z
LAST-MODIFIED:20250702T183838Z
UID:32731-1753178400-1753203600@www.industrialtribunal.bs
SUMMARY:Daxson Morris vs. Bayside Construction & Development LTD NP2023-102
DESCRIPTION:
URL:https://www.industrialtribunal.bs/event/daxson-morris-vs-bayside-construction-development-ltd-np2023-102-2/
CATEGORIES:Court 3
END:VEVENT
BEGIN:VEVENT
DTSTART;TZID=America/Nassau:20250722T100000
DTEND;TZID=America/Nassau:20250722T170000
DTSTAMP:20260425T081312
CREATED:20250711T163024Z
LAST-MODIFIED:20250711T163024Z
UID:32771-1753178400-1753203600@www.industrialtribunal.bs
SUMMARY:Rheavincia Rolle v Bahamas Telecommunications Company Limited NP2023-137
DESCRIPTION:
URL:https://www.industrialtribunal.bs/event/rheavincia-rolle-v-bahamas-telecommunications-company-limited-np2023-137-2/
CATEGORIES:Court 5
END:VEVENT
END:VCALENDAR