BEGIN:VCALENDAR
VERSION:2.0
PRODID:-//Bahamas Industrial Tribunal - ECPv6.15.20//NONSGML v1.0//EN
CALSCALE:GREGORIAN
METHOD:PUBLISH
X-ORIGINAL-URL:https://www.industrialtribunal.bs
X-WR-CALDESC:Events for Bahamas Industrial Tribunal
REFRESH-INTERVAL;VALUE=DURATION:PT1H
X-Robots-Tag:noindex
X-PUBLISHED-TTL:PT1H
BEGIN:VTIMEZONE
TZID:America/Nassau
BEGIN:DAYLIGHT
TZOFFSETFROM:-0500
TZOFFSETTO:-0400
TZNAME:EDT
DTSTART:20240310T070000
END:DAYLIGHT
BEGIN:STANDARD
TZOFFSETFROM:-0400
TZOFFSETTO:-0500
TZNAME:EST
DTSTART:20241103T060000
END:STANDARD
BEGIN:DAYLIGHT
TZOFFSETFROM:-0500
TZOFFSETTO:-0400
TZNAME:EDT
DTSTART:20250309T070000
END:DAYLIGHT
BEGIN:STANDARD
TZOFFSETFROM:-0400
TZOFFSETTO:-0500
TZNAME:EST
DTSTART:20251102T060000
END:STANDARD
BEGIN:DAYLIGHT
TZOFFSETFROM:-0500
TZOFFSETTO:-0400
TZNAME:EDT
DTSTART:20260308T070000
END:DAYLIGHT
BEGIN:STANDARD
TZOFFSETFROM:-0400
TZOFFSETTO:-0500
TZNAME:EST
DTSTART:20261101T060000
END:STANDARD
END:VTIMEZONE
BEGIN:VEVENT
DTSTART;TZID=America/Nassau:20250723T100000
DTEND;TZID=America/Nassau:20250723T170000
DTSTAMP:20260425T081312
CREATED:20250616T145054Z
LAST-MODIFIED:20250616T145054Z
UID:32682-1753264800-1753290000@www.industrialtribunal.bs
SUMMARY:Mikhail Smith v West Wind Limited NP2024-109
DESCRIPTION:
URL:https://www.industrialtribunal.bs/event/mikhail-smith-v-west-wind-limited-np2024-109-2/
CATEGORIES:Court 6
END:VEVENT
BEGIN:VEVENT
DTSTART;TZID=America/Nassau:20250723T100000
DTEND;TZID=America/Nassau:20250723T170000
DTSTAMP:20260425T081312
CREATED:20250702T184008Z
LAST-MODIFIED:20250702T184008Z
UID:32733-1753264800-1753290000@www.industrialtribunal.bs
SUMMARY:Michelle McKinney vs. M&R Delights NP2025-023
DESCRIPTION:
URL:https://www.industrialtribunal.bs/event/michelle-mckinney-vs-mr-delights-np2025-023/
CATEGORIES:Court 3
END:VEVENT
BEGIN:VEVENT
DTSTART;TZID=America/Nassau:20250723T100000
DTEND;TZID=America/Nassau:20250723T170000
DTSTAMP:20260425T081312
CREATED:20250702T184138Z
LAST-MODIFIED:20250702T184138Z
UID:32735-1753264800-1753290000@www.industrialtribunal.bs
SUMMARY:Shenique Forbes vs. Distinguished Enterprises Limited NP2021-067
DESCRIPTION:
URL:https://www.industrialtribunal.bs/event/shenique-forbes-vs-distinguished-enterprises-limited-np2021-067/
CATEGORIES:Court 3
END:VEVENT
BEGIN:VEVENT
DTSTART;TZID=America/Nassau:20250723T100000
DTEND;TZID=America/Nassau:20250723T170000
DTSTAMP:20260425T081312
CREATED:20250711T141952Z
LAST-MODIFIED:20250714T143935Z
UID:32761-1753264800-1753290000@www.industrialtribunal.bs
SUMMARY:Tiffany Rolle-Moss v Insurance Commission Of The Bahamas NP2024-154
DESCRIPTION:
URL:https://www.industrialtribunal.bs/event/tiffany-rolle-moss-v-insurance-commission-of-the-bahamas-np2024-154/
CATEGORIES:Court 4
END:VEVENT
BEGIN:VEVENT
DTSTART;TZID=America/Nassau:20250723T100000
DTEND;TZID=America/Nassau:20250723T170000
DTSTAMP:20260425T081312
CREATED:20250711T163135Z
LAST-MODIFIED:20250711T163135Z
UID:32773-1753264800-1753290000@www.industrialtribunal.bs
SUMMARY:Charlton Knowles v Tin Plate Limited NP2024-075
DESCRIPTION:
URL:https://www.industrialtribunal.bs/event/charlton-knowles-v-tin-plate-limited-np2024-075-2/
CATEGORIES:Court 5
END:VEVENT
END:VCALENDAR