BEGIN:VCALENDAR
VERSION:2.0
PRODID:-//Bahamas Industrial Tribunal - ECPv6.15.20//NONSGML v1.0//EN
CALSCALE:GREGORIAN
METHOD:PUBLISH
X-WR-CALNAME:Bahamas Industrial Tribunal
X-ORIGINAL-URL:https://www.industrialtribunal.bs
X-WR-CALDESC:Events for Bahamas Industrial Tribunal
REFRESH-INTERVAL;VALUE=DURATION:PT1H
X-Robots-Tag:noindex
X-PUBLISHED-TTL:PT1H
BEGIN:VTIMEZONE
TZID:America/Nassau
BEGIN:DAYLIGHT
TZOFFSETFROM:-0500
TZOFFSETTO:-0400
TZNAME:EDT
DTSTART:20240310T070000
END:DAYLIGHT
BEGIN:STANDARD
TZOFFSETFROM:-0400
TZOFFSETTO:-0500
TZNAME:EST
DTSTART:20241103T060000
END:STANDARD
BEGIN:DAYLIGHT
TZOFFSETFROM:-0500
TZOFFSETTO:-0400
TZNAME:EDT
DTSTART:20250309T070000
END:DAYLIGHT
BEGIN:STANDARD
TZOFFSETFROM:-0400
TZOFFSETTO:-0500
TZNAME:EST
DTSTART:20251102T060000
END:STANDARD
BEGIN:DAYLIGHT
TZOFFSETFROM:-0500
TZOFFSETTO:-0400
TZNAME:EDT
DTSTART:20260308T070000
END:DAYLIGHT
BEGIN:STANDARD
TZOFFSETFROM:-0400
TZOFFSETTO:-0500
TZNAME:EST
DTSTART:20261101T060000
END:STANDARD
END:VTIMEZONE
BEGIN:VEVENT
DTSTART;TZID=America/Nassau:20250724T100000
DTEND;TZID=America/Nassau:20250724T170000
DTSTAMP:20260425T081307
CREATED:20250711T142022Z
LAST-MODIFIED:20250714T143857Z
UID:32763-1753351200-1753376400@www.industrialtribunal.bs
SUMMARY:Tiffany Rolle-Moss v Insurance Commission Of The Bahamas NP2024-154
DESCRIPTION:
URL:https://www.industrialtribunal.bs/event/tiffany-rolle-moss-v-insurance-commission-of-the-bahamas-np2024-154-2/
CATEGORIES:Court 4
END:VEVENT
BEGIN:VEVENT
DTSTART;TZID=America/Nassau:20250724T100000
DTEND;TZID=America/Nassau:20250724T170000
DTSTAMP:20260425T081307
CREATED:20250711T163259Z
LAST-MODIFIED:20250711T163259Z
UID:32775-1753351200-1753376400@www.industrialtribunal.bs
SUMMARY:Clifford Andre Ricardo Theobalds v Caribbean Builders & Construction Co NP2024-060
DESCRIPTION:
URL:https://www.industrialtribunal.bs/event/clifford-andre-ricardo-theobalds-v-caribbean-builders-construction-co-np2024-060/
CATEGORIES:Court 5
END:VEVENT
END:VCALENDAR