BEGIN:VCALENDAR
VERSION:2.0
PRODID:-//Bahamas Industrial Tribunal - ECPv6.15.20//NONSGML v1.0//EN
CALSCALE:GREGORIAN
METHOD:PUBLISH
X-WR-CALNAME:Bahamas Industrial Tribunal
X-ORIGINAL-URL:https://www.industrialtribunal.bs
X-WR-CALDESC:Events for Bahamas Industrial Tribunal
REFRESH-INTERVAL;VALUE=DURATION:PT1H
X-Robots-Tag:noindex
X-PUBLISHED-TTL:PT1H
BEGIN:VTIMEZONE
TZID:America/Nassau
BEGIN:DAYLIGHT
TZOFFSETFROM:-0500
TZOFFSETTO:-0400
TZNAME:EDT
DTSTART:20240310T070000
END:DAYLIGHT
BEGIN:STANDARD
TZOFFSETFROM:-0400
TZOFFSETTO:-0500
TZNAME:EST
DTSTART:20241103T060000
END:STANDARD
BEGIN:DAYLIGHT
TZOFFSETFROM:-0500
TZOFFSETTO:-0400
TZNAME:EDT
DTSTART:20250309T070000
END:DAYLIGHT
BEGIN:STANDARD
TZOFFSETFROM:-0400
TZOFFSETTO:-0500
TZNAME:EST
DTSTART:20251102T060000
END:STANDARD
BEGIN:DAYLIGHT
TZOFFSETFROM:-0500
TZOFFSETTO:-0400
TZNAME:EDT
DTSTART:20260308T070000
END:DAYLIGHT
BEGIN:STANDARD
TZOFFSETFROM:-0400
TZOFFSETTO:-0500
TZNAME:EST
DTSTART:20261101T060000
END:STANDARD
END:VTIMEZONE
BEGIN:VEVENT
DTSTART;TZID=America/Nassau:20251209T100000
DTEND;TZID=America/Nassau:20251209T170000
DTSTAMP:20260425T000239
CREATED:20251201T161715Z
LAST-MODIFIED:20251201T161715Z
UID:33266-1765274400-1765299600@www.industrialtribunal.bs
SUMMARY:Deangelo Moutrie v Sunrise Beach Villas Limited NP2023-148
DESCRIPTION:
URL:https://www.industrialtribunal.bs/event/deangelo-moutrie-v-sunrise-beach-villas-limited-np2023-148-2/
CATEGORIES:Court 6
END:VEVENT
BEGIN:VEVENT
DTSTART;TZID=America/Nassau:20251209T100000
DTEND;TZID=America/Nassau:20251209T170000
DTSTAMP:20260425T000239
CREATED:20251201T161819Z
LAST-MODIFIED:20251201T161819Z
UID:33268-1765274400-1765299600@www.industrialtribunal.bs
SUMMARY:Jamar McPhee v Paradise Games Ltd NP2025-076
DESCRIPTION:
URL:https://www.industrialtribunal.bs/event/jamar-mcphee-v-paradise-games-ltd-np2025-076/
CATEGORIES:Court 6
END:VEVENT
BEGIN:VEVENT
DTSTART;TZID=America/Nassau:20251209T100000
DTEND;TZID=America/Nassau:20251209T170000
DTSTAMP:20260425T000239
CREATED:20251201T161924Z
LAST-MODIFIED:20251201T161924Z
UID:33270-1765274400-1765299600@www.industrialtribunal.bs
SUMMARY:Emily Pearce v Nassau Airport Development Company Limited (NAD) NP2025-127
DESCRIPTION:
URL:https://www.industrialtribunal.bs/event/emily-pearce-v-nassau-airport-development-company-limited-nad-np2025-127/
CATEGORIES:Court 6
END:VEVENT
BEGIN:VEVENT
DTSTART;TZID=America/Nassau:20251209T100000
DTEND;TZID=America/Nassau:20251209T170000
DTSTAMP:20260425T000239
CREATED:20251201T193902Z
LAST-MODIFIED:20251201T193902Z
UID:33278-1765274400-1765299600@www.industrialtribunal.bs
SUMMARY:Dennis Gibson v Greyco Limited NP2024-124
DESCRIPTION:
URL:https://www.industrialtribunal.bs/event/dennis-gibson-v-greyco-limited-np2024-124/
CATEGORIES:Court 3
END:VEVENT
BEGIN:VEVENT
DTSTART;TZID=America/Nassau:20251209T100000
DTEND;TZID=America/Nassau:20251209T170000
DTSTAMP:20260425T000239
CREATED:20251201T194022Z
LAST-MODIFIED:20251201T194022Z
UID:33280-1765274400-1765299600@www.industrialtribunal.bs
SUMMARY:Bahamas Public Service Union-Bargaining Unit v University of The Bahamas NP2025-012
DESCRIPTION:
URL:https://www.industrialtribunal.bs/event/bahamas-public-service-union-bargaining-unit-v-university-of-the-bahamas-np2025-012/
CATEGORIES:Court 3
END:VEVENT
BEGIN:VEVENT
DTSTART;TZID=America/Nassau:20251209T100000
DTEND;TZID=America/Nassau:20251209T170000
DTSTAMP:20260425T000239
CREATED:20251201T194138Z
LAST-MODIFIED:20251201T194138Z
UID:33282-1765274400-1765299600@www.industrialtribunal.bs
SUMMARY:Chearron Marret v Kiffer's Restaurant & Bar NP2025-036
DESCRIPTION:
URL:https://www.industrialtribunal.bs/event/chearron-marret-v-kiffers-restaurant-bar-np2025-036/
CATEGORIES:Court 3
END:VEVENT
BEGIN:VEVENT
DTSTART;TZID=America/Nassau:20251209T100000
DTEND;TZID=America/Nassau:20251209T170000
DTSTAMP:20260425T000239
CREATED:20251201T194248Z
LAST-MODIFIED:20251201T194248Z
UID:33284-1765274400-1765299600@www.industrialtribunal.bs
SUMMARY:Antee Bain v Dan Brad Limited (McDonalds) NP2025-061
DESCRIPTION:
URL:https://www.industrialtribunal.bs/event/antee-bain-v-dan-brad-limited-mcdonalds-np2025-061/
CATEGORIES:Court 3
END:VEVENT
BEGIN:VEVENT
DTSTART;TZID=America/Nassau:20251209T100000
DTEND;TZID=America/Nassau:20251209T170000
DTSTAMP:20260425T000239
CREATED:20251216T150300Z
LAST-MODIFIED:20251216T150300Z
UID:33336-1765274400-1765299600@www.industrialtribunal.bs
SUMMARY:Marvin Johnson v Southern Air Charter NP2024-055
DESCRIPTION:
URL:https://www.industrialtribunal.bs/event/marvin-johnson-v-southern-air-charter-np2024-055-2/
CATEGORIES:Court 5
END:VEVENT
BEGIN:VEVENT
DTSTART;TZID=America/Nassau:20251209T100000
DTEND;TZID=America/Nassau:20251209T170000
DTSTAMP:20260425T000239
CREATED:20251216T150416Z
LAST-MODIFIED:20251216T150416Z
UID:33338-1765274400-1765299600@www.industrialtribunal.bs
SUMMARY:Mr. Earnest Winters v Mrs. Alice Williams/ Manager E-10 Construction Co. NP2025-045
DESCRIPTION:
URL:https://www.industrialtribunal.bs/event/mr-earnest-winters-v-mrs-alice-williams-manager-e-10-construction-co-np2025-045/
CATEGORIES:Court 5
END:VEVENT
BEGIN:VEVENT
DTSTART;TZID=America/Nassau:20251209T100000
DTEND;TZID=America/Nassau:20251209T170000
DTSTAMP:20260425T000239
CREATED:20251216T150524Z
LAST-MODIFIED:20251216T150524Z
UID:33340-1765274400-1765299600@www.industrialtribunal.bs
SUMMARY:Hugh Jones v Island Hotel Company Limited D/B/A Atlantis NP2024-013
DESCRIPTION:
URL:https://www.industrialtribunal.bs/event/hugh-jones-v-island-hotel-company-limited-d-b-a-atlantis-np2024-013/
CATEGORIES:Court 5
END:VEVENT
BEGIN:VEVENT
DTSTART;TZID=America/Nassau:20251209T100000
DTEND;TZID=America/Nassau:20251209T170000
DTSTAMP:20260425T000239
CREATED:20251216T151502Z
LAST-MODIFIED:20251216T151502Z
UID:33348-1765274400-1765299600@www.industrialtribunal.bs
SUMMARY:Eddiemae Gibson Home v Pats Senior Citizen Home NP2025-007
DESCRIPTION:
URL:https://www.industrialtribunal.bs/event/eddiemae-gibson-home-v-pats-senior-citizen-home-np2025-007/
CATEGORIES:Court 4
END:VEVENT
END:VCALENDAR