BEGIN:VCALENDAR
VERSION:2.0
PRODID:-//Bahamas Industrial Tribunal - ECPv6.15.20//NONSGML v1.0//EN
CALSCALE:GREGORIAN
METHOD:PUBLISH
X-WR-CALNAME:Bahamas Industrial Tribunal
X-ORIGINAL-URL:https://www.industrialtribunal.bs
X-WR-CALDESC:Events for Bahamas Industrial Tribunal
REFRESH-INTERVAL;VALUE=DURATION:PT1H
X-Robots-Tag:noindex
X-PUBLISHED-TTL:PT1H
BEGIN:VTIMEZONE
TZID:America/Nassau
BEGIN:DAYLIGHT
TZOFFSETFROM:-0500
TZOFFSETTO:-0400
TZNAME:EDT
DTSTART:20250309T070000
END:DAYLIGHT
BEGIN:STANDARD
TZOFFSETFROM:-0400
TZOFFSETTO:-0500
TZNAME:EST
DTSTART:20251102T060000
END:STANDARD
BEGIN:DAYLIGHT
TZOFFSETFROM:-0500
TZOFFSETTO:-0400
TZNAME:EDT
DTSTART:20260308T070000
END:DAYLIGHT
BEGIN:STANDARD
TZOFFSETFROM:-0400
TZOFFSETTO:-0500
TZNAME:EST
DTSTART:20261101T060000
END:STANDARD
BEGIN:DAYLIGHT
TZOFFSETFROM:-0500
TZOFFSETTO:-0400
TZNAME:EDT
DTSTART:20270314T070000
END:DAYLIGHT
BEGIN:STANDARD
TZOFFSETFROM:-0400
TZOFFSETTO:-0500
TZNAME:EST
DTSTART:20271107T060000
END:STANDARD
END:VTIMEZONE
BEGIN:VEVENT
DTSTART;TZID=America/Nassau:20260205T100000
DTEND;TZID=America/Nassau:20260205T170000
DTSTAMP:20260424T203742
CREATED:20260219T173045Z
LAST-MODIFIED:20260219T173045Z
UID:33551-1770285600-1770310800@www.industrialtribunal.bs
SUMMARY:Janice L. Johnson v Kj's Janitorial & Maintenance Co. NR/NES/021/2025
DESCRIPTION:
URL:https://www.industrialtribunal.bs/event/janice-l-johnson-v-kjs-janitorial-maintenance-co-nr-nes-021-2025-2/
CATEGORIES:Court 2
END:VEVENT
BEGIN:VEVENT
DTSTART;TZID=America/Nassau:20260205T100000
DTEND;TZID=America/Nassau:20260205T170000
DTSTAMP:20260424T203742
CREATED:20260219T173159Z
LAST-MODIFIED:20260219T173159Z
UID:33553-1770285600-1770310800@www.industrialtribunal.bs
SUMMARY:Janice Johnson v Kj's Janitorial & Maintenance Co. NR/NES/063/2025
DESCRIPTION:
URL:https://www.industrialtribunal.bs/event/janice-johnson-v-kjs-janitorial-maintenance-co-nr-nes-063-2025-2/
CATEGORIES:Court 2
END:VEVENT
END:VCALENDAR