BEGIN:VCALENDAR
VERSION:2.0
PRODID:-//Bahamas Industrial Tribunal - ECPv6.15.20//NONSGML v1.0//EN
CALSCALE:GREGORIAN
METHOD:PUBLISH
X-ORIGINAL-URL:https://www.industrialtribunal.bs
X-WR-CALDESC:Events for Bahamas Industrial Tribunal
REFRESH-INTERVAL;VALUE=DURATION:PT1H
X-Robots-Tag:noindex
X-PUBLISHED-TTL:PT1H
BEGIN:VTIMEZONE
TZID:America/Nassau
BEGIN:DAYLIGHT
TZOFFSETFROM:-0500
TZOFFSETTO:-0400
TZNAME:EDT
DTSTART:20250309T070000
END:DAYLIGHT
BEGIN:STANDARD
TZOFFSETFROM:-0400
TZOFFSETTO:-0500
TZNAME:EST
DTSTART:20251102T060000
END:STANDARD
BEGIN:DAYLIGHT
TZOFFSETFROM:-0500
TZOFFSETTO:-0400
TZNAME:EDT
DTSTART:20260308T070000
END:DAYLIGHT
BEGIN:STANDARD
TZOFFSETFROM:-0400
TZOFFSETTO:-0500
TZNAME:EST
DTSTART:20261101T060000
END:STANDARD
BEGIN:DAYLIGHT
TZOFFSETFROM:-0500
TZOFFSETTO:-0400
TZNAME:EDT
DTSTART:20270314T070000
END:DAYLIGHT
BEGIN:STANDARD
TZOFFSETFROM:-0400
TZOFFSETTO:-0500
TZNAME:EST
DTSTART:20271107T060000
END:STANDARD
END:VTIMEZONE
BEGIN:VEVENT
DTSTART;TZID=America/Nassau:20260225T100000
DTEND;TZID=America/Nassau:20260225T170000
DTSTAMP:20260424T185955
CREATED:20260204T154117Z
LAST-MODIFIED:20260204T154117Z
UID:33488-1772013600-1772038800@www.industrialtribunal.bs
SUMMARY:Mark Johnson v Kamalame Cay NP2024-014
DESCRIPTION:
URL:https://www.industrialtribunal.bs/event/mark-johnson-v-kamalame-cay-np2024-014-3/
CATEGORIES:Court 5
END:VEVENT
BEGIN:VEVENT
DTSTART;TZID=America/Nassau:20260225T100000
DTEND;TZID=America/Nassau:20260225T170000
DTSTAMP:20260424T185955
CREATED:20260204T155835Z
LAST-MODIFIED:20260204T155835Z
UID:33512-1772013600-1772038800@www.industrialtribunal.bs
SUMMARY:Kimsley Ferguson President of BPSU on Behalf of Lucille Strachan & Algeria Lewis v Department of Statistics NP2021-186
DESCRIPTION:
URL:https://www.industrialtribunal.bs/event/kimsley-ferguson-president-of-bpsu-on-behalf-of-lucille-strachan-algeria-lewis-v-department-of-statistics-np2021-186-2/
CATEGORIES:Court 3
END:VEVENT
BEGIN:VEVENT
DTSTART;TZID=America/Nassau:20260225T100000
DTEND;TZID=America/Nassau:20260225T170000
DTSTAMP:20260424T185955
CREATED:20260205T204057Z
LAST-MODIFIED:20260205T204057Z
UID:33530-1772013600-1772038800@www.industrialtribunal.bs
SUMMARY:Samantha Rahming v Albany Resort Operator NP2025-016
DESCRIPTION:
URL:https://www.industrialtribunal.bs/event/samantha-rahming-v-albany-resort-operator-np2025-016/
CATEGORIES:Court 1
END:VEVENT
BEGIN:VEVENT
DTSTART;TZID=America/Nassau:20260225T100000
DTEND;TZID=America/Nassau:20260225T170000
DTSTAMP:20260424T185955
CREATED:20260205T204200Z
LAST-MODIFIED:20260205T204200Z
UID:33532-1772013600-1772038800@www.industrialtribunal.bs
SUMMARY:Andre Forbes v Grand Isles Resort Exuma NP2024-034
DESCRIPTION:
URL:https://www.industrialtribunal.bs/event/andre-forbes-v-grand-isles-resort-exuma-np2024-034-2/
CATEGORIES:Court 1
END:VEVENT
BEGIN:VEVENT
DTSTART;TZID=America/Nassau:20260225T100000
DTEND;TZID=America/Nassau:20260225T170000
DTSTAMP:20260424T185955
CREATED:20260205T204305Z
LAST-MODIFIED:20260205T204305Z
UID:33534-1772013600-1772038800@www.industrialtribunal.bs
SUMMARY:Lynderia Scott v Atlantis Paradise Island NP2023-145
DESCRIPTION:
URL:https://www.industrialtribunal.bs/event/lynderia-scott-v-atlantis-paradise-island-np2023-145-4/
CATEGORIES:Court 1
END:VEVENT
BEGIN:VEVENT
DTSTART;TZID=America/Nassau:20260225T100000
DTEND;TZID=America/Nassau:20260225T170000
DTSTAMP:20260424T185955
CREATED:20260219T175322Z
LAST-MODIFIED:20260219T175322Z
UID:33579-1772013600-1772038800@www.industrialtribunal.bs
SUMMARY:Dr. Cheyanne Harvey v The University of the Bahamas NR/NES/023/2025
DESCRIPTION:
URL:https://www.industrialtribunal.bs/event/dr-cheyanne-harvey-v-the-university-of-the-bahamas-nr-nes-023-2025-2/
CATEGORIES:Court 2
END:VEVENT
BEGIN:VEVENT
DTSTART;TZID=America/Nassau:20260225T100000
DTEND;TZID=America/Nassau:20260225T170000
DTSTAMP:20260424T185955
CREATED:20260219T181456Z
LAST-MODIFIED:20260219T181456Z
UID:33606-1772013600-1772038800@www.industrialtribunal.bs
SUMMARY:Samantha Rahming v Albany Resort Operator NP2025-016
DESCRIPTION:
URL:https://www.industrialtribunal.bs/event/samantha-rahming-v-albany-resort-operator-np2025-016-2/
CATEGORIES:Court 1
END:VEVENT
BEGIN:VEVENT
DTSTART;TZID=America/Nassau:20260225T100000
DTEND;TZID=America/Nassau:20260225T170000
DTSTAMP:20260424T185955
CREATED:20260219T181724Z
LAST-MODIFIED:20260219T181724Z
UID:33608-1772013600-1772038800@www.industrialtribunal.bs
SUMMARY:Andre Forbes v Grand Isles Resort Exuma NP2024-034
DESCRIPTION:
URL:https://www.industrialtribunal.bs/event/andre-forbes-v-grand-isles-resort-exuma-np2024-034-3/
CATEGORIES:Court 1
END:VEVENT
BEGIN:VEVENT
DTSTART;TZID=America/Nassau:20260225T100000
DTEND;TZID=America/Nassau:20260225T170000
DTSTAMP:20260424T185955
CREATED:20260219T181820Z
LAST-MODIFIED:20260219T181820Z
UID:33610-1772013600-1772038800@www.industrialtribunal.bs
SUMMARY:Lynderia Scott v Atlantis Paradise Island NP2023-145
DESCRIPTION:
URL:https://www.industrialtribunal.bs/event/lynderia-scott-v-atlantis-paradise-island-np2023-145-5/
CATEGORIES:Court 1
END:VEVENT
END:VCALENDAR