BEGIN:VCALENDAR
VERSION:2.0
PRODID:-//Bahamas Industrial Tribunal - ECPv6.15.20//NONSGML v1.0//EN
CALSCALE:GREGORIAN
METHOD:PUBLISH
X-WR-CALNAME:Bahamas Industrial Tribunal
X-ORIGINAL-URL:https://www.industrialtribunal.bs
X-WR-CALDESC:Events for Bahamas Industrial Tribunal
REFRESH-INTERVAL;VALUE=DURATION:PT1H
X-Robots-Tag:noindex
X-PUBLISHED-TTL:PT1H
BEGIN:VTIMEZONE
TZID:America/Nassau
BEGIN:DAYLIGHT
TZOFFSETFROM:-0500
TZOFFSETTO:-0400
TZNAME:EDT
DTSTART:20240310T070000
END:DAYLIGHT
BEGIN:STANDARD
TZOFFSETFROM:-0400
TZOFFSETTO:-0500
TZNAME:EST
DTSTART:20241103T060000
END:STANDARD
BEGIN:DAYLIGHT
TZOFFSETFROM:-0500
TZOFFSETTO:-0400
TZNAME:EDT
DTSTART:20250309T070000
END:DAYLIGHT
BEGIN:STANDARD
TZOFFSETFROM:-0400
TZOFFSETTO:-0500
TZNAME:EST
DTSTART:20251102T060000
END:STANDARD
BEGIN:DAYLIGHT
TZOFFSETFROM:-0500
TZOFFSETTO:-0400
TZNAME:EDT
DTSTART:20260308T070000
END:DAYLIGHT
BEGIN:STANDARD
TZOFFSETFROM:-0400
TZOFFSETTO:-0500
TZNAME:EST
DTSTART:20261101T060000
END:STANDARD
END:VTIMEZONE
BEGIN:VEVENT
DTSTART;TZID=America/Nassau:20250717T100000
DTEND;TZID=America/Nassau:20250717T170000
DTSTAMP:20260425T114401
CREATED:20250616T144658Z
LAST-MODIFIED:20250616T144658Z
UID:32674-1752746400-1752771600@www.industrialtribunal.bs
SUMMARY:Clinton Storr v The Cacique International Np2022-128
DESCRIPTION:
URL:https://www.industrialtribunal.bs/event/clinton-storr-v-the-cacique-international-np2022-128/
CATEGORIES:Court 6
END:VEVENT
BEGIN:VEVENT
DTSTART;TZID=America/Nassau:20250717T100000
DTEND;TZID=America/Nassau:20250717T170000
DTSTAMP:20260425T114401
CREATED:20250616T144812Z
LAST-MODIFIED:20250616T144812Z
UID:32676-1752746400-1752771600@www.industrialtribunal.bs
SUMMARY:Lauriette Lightfoot v Evangelistic Temple NP2023-020
DESCRIPTION:
URL:https://www.industrialtribunal.bs/event/lauriette-lightfoot-v-evangelistic-temple-np2023-020-4/
CATEGORIES:Court 6
END:VEVENT
BEGIN:VEVENT
DTSTART;TZID=America/Nassau:20250717T100000
DTEND;TZID=America/Nassau:20250717T170000
DTSTAMP:20260425T114401
CREATED:20250616T144911Z
LAST-MODIFIED:20250616T144911Z
UID:32678-1752746400-1752771600@www.industrialtribunal.bs
SUMMARY:Eddiemae Gibson v Pats Senior NP2025-007
DESCRIPTION:
URL:https://www.industrialtribunal.bs/event/eddiemae-gibson-v-pats-senior-np2025-007/
CATEGORIES:Court 6
END:VEVENT
END:VCALENDAR