BEGIN:VCALENDAR
VERSION:2.0
PRODID:-//Bahamas Industrial Tribunal - ECPv6.15.20//NONSGML v1.0//EN
CALSCALE:GREGORIAN
METHOD:PUBLISH
X-WR-CALNAME:Bahamas Industrial Tribunal
X-ORIGINAL-URL:https://www.industrialtribunal.bs
X-WR-CALDESC:Events for Bahamas Industrial Tribunal
REFRESH-INTERVAL;VALUE=DURATION:PT1H
X-Robots-Tag:noindex
X-PUBLISHED-TTL:PT1H
BEGIN:VTIMEZONE
TZID:America/Nassau
BEGIN:DAYLIGHT
TZOFFSETFROM:-0500
TZOFFSETTO:-0400
TZNAME:EDT
DTSTART:20240310T070000
END:DAYLIGHT
BEGIN:STANDARD
TZOFFSETFROM:-0400
TZOFFSETTO:-0500
TZNAME:EST
DTSTART:20241103T060000
END:STANDARD
BEGIN:DAYLIGHT
TZOFFSETFROM:-0500
TZOFFSETTO:-0400
TZNAME:EDT
DTSTART:20250309T070000
END:DAYLIGHT
BEGIN:STANDARD
TZOFFSETFROM:-0400
TZOFFSETTO:-0500
TZNAME:EST
DTSTART:20251102T060000
END:STANDARD
BEGIN:DAYLIGHT
TZOFFSETFROM:-0500
TZOFFSETTO:-0400
TZNAME:EDT
DTSTART:20260308T070000
END:DAYLIGHT
BEGIN:STANDARD
TZOFFSETFROM:-0400
TZOFFSETTO:-0500
TZNAME:EST
DTSTART:20261101T060000
END:STANDARD
END:VTIMEZONE
BEGIN:VEVENT
DTSTART;TZID=America/Nassau:20251001T100000
DTEND;TZID=America/Nassau:20251001T170000
DTSTAMP:20260425T064626
CREATED:20251003T144901Z
LAST-MODIFIED:20251003T144901Z
UID:32941-1759312800-1759338000@www.industrialtribunal.bs
SUMMARY:Clinton Storr v The Cacique International NP2022-128
DESCRIPTION:
URL:https://www.industrialtribunal.bs/event/clinton-storr-v-the-cacique-international-np2022-128-2/
CATEGORIES:Court 6
END:VEVENT
BEGIN:VEVENT
DTSTART;TZID=America/Nassau:20251001T100000
DTEND;TZID=America/Nassau:20251001T170000
DTSTAMP:20260425T064626
CREATED:20251003T145001Z
LAST-MODIFIED:20251003T145001Z
UID:32943-1759312800-1759338000@www.industrialtribunal.bs
SUMMARY:Terrana Pyfrom v The National Sports Authority NP2025-049
DESCRIPTION:
URL:https://www.industrialtribunal.bs/event/terrana-pyfrom-v-the-national-sports-authority-np2025-049/
CATEGORIES:Court 6
END:VEVENT
END:VCALENDAR