BEGIN:VCALENDAR
VERSION:2.0
PRODID:-//Bahamas Industrial Tribunal - ECPv6.15.20//NONSGML v1.0//EN
CALSCALE:GREGORIAN
METHOD:PUBLISH
X-ORIGINAL-URL:https://www.industrialtribunal.bs
X-WR-CALDESC:Events for Bahamas Industrial Tribunal
REFRESH-INTERVAL;VALUE=DURATION:PT1H
X-Robots-Tag:noindex
X-PUBLISHED-TTL:PT1H
BEGIN:VTIMEZONE
TZID:America/Nassau
BEGIN:DAYLIGHT
TZOFFSETFROM:-0500
TZOFFSETTO:-0400
TZNAME:EDT
DTSTART:20250309T070000
END:DAYLIGHT
BEGIN:STANDARD
TZOFFSETFROM:-0400
TZOFFSETTO:-0500
TZNAME:EST
DTSTART:20251102T060000
END:STANDARD
BEGIN:DAYLIGHT
TZOFFSETFROM:-0500
TZOFFSETTO:-0400
TZNAME:EDT
DTSTART:20260308T070000
END:DAYLIGHT
BEGIN:STANDARD
TZOFFSETFROM:-0400
TZOFFSETTO:-0500
TZNAME:EST
DTSTART:20261101T060000
END:STANDARD
BEGIN:DAYLIGHT
TZOFFSETFROM:-0500
TZOFFSETTO:-0400
TZNAME:EDT
DTSTART:20270314T070000
END:DAYLIGHT
BEGIN:STANDARD
TZOFFSETFROM:-0400
TZOFFSETTO:-0500
TZNAME:EST
DTSTART:20271107T060000
END:STANDARD
END:VTIMEZONE
BEGIN:VEVENT
DTSTART;TZID=America/Nassau:20260408T100000
DTEND;TZID=America/Nassau:20260408T170000
DTSTAMP:20260424T191338
CREATED:20260311T195730Z
LAST-MODIFIED:20260311T195730Z
UID:33806-1775642400-1775667600@www.industrialtribunal.bs
SUMMARY:Caroline Thompson v SMG Millwork Limited NP2025-123
DESCRIPTION:
URL:https://www.industrialtribunal.bs/event/caroline-thompson-v-smg-millwork-limited-np2025-123-2/
CATEGORIES:Court 6
END:VEVENT
BEGIN:VEVENT
DTSTART;TZID=America/Nassau:20260408T100000
DTEND;TZID=America/Nassau:20260408T170000
DTSTAMP:20260424T191338
CREATED:20260311T195903Z
LAST-MODIFIED:20260311T195903Z
UID:33808-1775642400-1775667600@www.industrialtribunal.bs
SUMMARY:Leslie Ellis-Tynes v Scoops & Tingz Ltd T/A Tipsy Scoop NP2025-125
DESCRIPTION:
URL:https://www.industrialtribunal.bs/event/leslie-ellis-tynes-v-scoops-tingz-ltd-t-a-tipsy-scoop-np2025-125/
CATEGORIES:Court 6
END:VEVENT
BEGIN:VEVENT
DTSTART;TZID=America/Nassau:20260408T100000
DTEND;TZID=America/Nassau:20260408T170000
DTSTAMP:20260424T191338
CREATED:20260311T200035Z
LAST-MODIFIED:20260311T200035Z
UID:33810-1775642400-1775667600@www.industrialtribunal.bs
SUMMARY:Jason Hamilton v Falcon Security Services NP2025-065
DESCRIPTION:
URL:https://www.industrialtribunal.bs/event/jason-hamilton-v-falcon-security-services-np2025-065/
CATEGORIES:Court 6
END:VEVENT
BEGIN:VEVENT
DTSTART;TZID=America/Nassau:20260408T100000
DTEND;TZID=America/Nassau:20260408T170000
DTSTAMP:20260424T191338
CREATED:20260311T200353Z
LAST-MODIFIED:20260311T200353Z
UID:33812-1775642400-1775667600@www.industrialtribunal.bs
SUMMARY:Stacy Newton v Mucka Mucks NP2025-050
DESCRIPTION:
URL:https://www.industrialtribunal.bs/event/stacy-newton-v-mucka-mucks-np2025-050/
CATEGORIES:Court 6
END:VEVENT
BEGIN:VEVENT
DTSTART;TZID=America/Nassau:20260408T100000
DTEND;TZID=America/Nassau:20260408T170000
DTSTAMP:20260424T191338
CREATED:20260311T200511Z
LAST-MODIFIED:20260311T200511Z
UID:33814-1775642400-1775667600@www.industrialtribunal.bs
SUMMARY:Shannon Russell-Smith v Kamalame Cay Resort NP2025-029
DESCRIPTION:
URL:https://www.industrialtribunal.bs/event/shannon-russell-smith-v-kamalame-cay-resort-np2025-029/
CATEGORIES:Court 6
END:VEVENT
BEGIN:VEVENT
DTSTART;TZID=America/Nassau:20260408T100000
DTEND;TZID=America/Nassau:20260408T170000
DTSTAMP:20260424T191338
CREATED:20260311T200619Z
LAST-MODIFIED:20260311T200619Z
UID:33816-1775642400-1775667600@www.industrialtribunal.bs
SUMMARY:Cepoudy Beauburn v Inline Project Company Limited NP2025-032
DESCRIPTION:
URL:https://www.industrialtribunal.bs/event/cepoudy-beauburn-v-inline-project-company-limited-np2025-032/
CATEGORIES:Court 6
END:VEVENT
BEGIN:VEVENT
DTSTART;TZID=America/Nassau:20260408T100000
DTEND;TZID=America/Nassau:20260408T170000
DTSTAMP:20260424T191338
CREATED:20260311T200721Z
LAST-MODIFIED:20260311T200721Z
UID:33818-1775642400-1775667600@www.industrialtribunal.bs
SUMMARY:Anthony Balfour v Exuma Yacht Club NP2025-040
DESCRIPTION:
URL:https://www.industrialtribunal.bs/event/anthony-balfour-v-exuma-yacht-club-np2025-040/
CATEGORIES:Court 6
END:VEVENT
END:VCALENDAR