BEGIN:VCALENDAR
VERSION:2.0
PRODID:-//Bahamas Industrial Tribunal - ECPv6.15.20//NONSGML v1.0//EN
CALSCALE:GREGORIAN
METHOD:PUBLISH
X-ORIGINAL-URL:https://www.industrialtribunal.bs
X-WR-CALDESC:Events for Bahamas Industrial Tribunal
REFRESH-INTERVAL;VALUE=DURATION:PT1H
X-Robots-Tag:noindex
X-PUBLISHED-TTL:PT1H
BEGIN:VTIMEZONE
TZID:America/Nassau
BEGIN:DAYLIGHT
TZOFFSETFROM:-0500
TZOFFSETTO:-0400
TZNAME:EDT
DTSTART:20240310T070000
END:DAYLIGHT
BEGIN:STANDARD
TZOFFSETFROM:-0400
TZOFFSETTO:-0500
TZNAME:EST
DTSTART:20241103T060000
END:STANDARD
BEGIN:DAYLIGHT
TZOFFSETFROM:-0500
TZOFFSETTO:-0400
TZNAME:EDT
DTSTART:20250309T070000
END:DAYLIGHT
BEGIN:STANDARD
TZOFFSETFROM:-0400
TZOFFSETTO:-0500
TZNAME:EST
DTSTART:20251102T060000
END:STANDARD
BEGIN:DAYLIGHT
TZOFFSETFROM:-0500
TZOFFSETTO:-0400
TZNAME:EDT
DTSTART:20260308T070000
END:DAYLIGHT
BEGIN:STANDARD
TZOFFSETFROM:-0400
TZOFFSETTO:-0500
TZNAME:EST
DTSTART:20261101T060000
END:STANDARD
END:VTIMEZONE
BEGIN:VEVENT
DTSTART;TZID=America/Nassau:20250717T100000
DTEND;TZID=America/Nassau:20250717T170000
DTSTAMP:20260425T101557
CREATED:20250711T141154Z
LAST-MODIFIED:20250711T141154Z
UID:32749-1752746400-1752771600@www.industrialtribunal.bs
SUMMARY:Kishon Bain v Airborne Freight and Cargo Service NP2025-075
DESCRIPTION:
URL:https://www.industrialtribunal.bs/event/kishon-bain-v-airborne-freight-and-cargo-service-np2025-075/
CATEGORIES:Court 1
END:VEVENT
BEGIN:VEVENT
DTSTART;TZID=America/Nassau:20250717T100000
DTEND;TZID=America/Nassau:20250717T170000
DTSTAMP:20260425T101557
CREATED:20250711T141306Z
LAST-MODIFIED:20250711T141306Z
UID:32751-1752746400-1752771600@www.industrialtribunal.bs
SUMMARY:Monalisa Mott v Black & White Studio NP2025-037
DESCRIPTION:
URL:https://www.industrialtribunal.bs/event/monalisa-mott-v-black-white-studio-np2025-037/
CATEGORIES:Court 1
END:VEVENT
BEGIN:VEVENT
DTSTART;TZID=America/Nassau:20250717T100000
DTEND;TZID=America/Nassau:20250717T170000
DTSTAMP:20260425T101557
CREATED:20250711T141447Z
LAST-MODIFIED:20250711T141447Z
UID:32753-1752746400-1752771600@www.industrialtribunal.bs
SUMMARY:Quintin Johnson v Doubles S. Stevedoring & Sherman Johnson/Trucking NP2024-172
DESCRIPTION:
URL:https://www.industrialtribunal.bs/event/quintin-johnson-v-doubles-s-stevedoring-sherman-johnson-trucking-np2024-172/
CATEGORIES:Court 1
END:VEVENT
BEGIN:VEVENT
DTSTART;TZID=America/Nassau:20250717T100000
DTEND;TZID=America/Nassau:20250717T170000
DTSTAMP:20260425T101557
CREATED:20250711T141602Z
LAST-MODIFIED:20250711T141602Z
UID:32755-1752746400-1752771600@www.industrialtribunal.bs
SUMMARY:Stanford Davis v ICS Security Concept NP2025-021
DESCRIPTION:
URL:https://www.industrialtribunal.bs/event/stanford-davis-v-ics-security-concept-np2025-021/
CATEGORIES:Court 1
END:VEVENT
BEGIN:VEVENT
DTSTART;TZID=America/Nassau:20250717T100000
DTEND;TZID=America/Nassau:20250717T170000
DTSTAMP:20260425T101557
CREATED:20250711T141709Z
LAST-MODIFIED:20250711T141709Z
UID:32757-1752746400-1752771600@www.industrialtribunal.bs
SUMMARY:Malina Mareus v Early Bird Supermarket NP2025-024
DESCRIPTION:
URL:https://www.industrialtribunal.bs/event/malina-mareus-v-early-bird-supermarket-np2025-024/
CATEGORIES:Court 1
END:VEVENT
BEGIN:VEVENT
DTSTART;TZID=America/Nassau:20250717T100000
DTEND;TZID=America/Nassau:20250717T170000
DTSTAMP:20260425T101557
CREATED:20250711T141809Z
LAST-MODIFIED:20250711T141809Z
UID:32759-1752746400-1752771600@www.industrialtribunal.bs
SUMMARY:Helen Johnson v Big Boys Cafe NP2023-106
DESCRIPTION:
URL:https://www.industrialtribunal.bs/event/helen-johnson-v-big-boys-cafe-np2023-106-2/
CATEGORIES:Court 1
END:VEVENT
END:VCALENDAR