BEGIN:VCALENDAR
VERSION:2.0
PRODID:-//Bahamas Industrial Tribunal - ECPv6.15.20//NONSGML v1.0//EN
CALSCALE:GREGORIAN
METHOD:PUBLISH
X-ORIGINAL-URL:https://www.industrialtribunal.bs
X-WR-CALDESC:Events for Bahamas Industrial Tribunal
REFRESH-INTERVAL;VALUE=DURATION:PT1H
X-Robots-Tag:noindex
X-PUBLISHED-TTL:PT1H
BEGIN:VTIMEZONE
TZID:America/Nassau
BEGIN:DAYLIGHT
TZOFFSETFROM:-0500
TZOFFSETTO:-0400
TZNAME:EDT
DTSTART:20240310T070000
END:DAYLIGHT
BEGIN:STANDARD
TZOFFSETFROM:-0400
TZOFFSETTO:-0500
TZNAME:EST
DTSTART:20241103T060000
END:STANDARD
BEGIN:DAYLIGHT
TZOFFSETFROM:-0500
TZOFFSETTO:-0400
TZNAME:EDT
DTSTART:20250309T070000
END:DAYLIGHT
BEGIN:STANDARD
TZOFFSETFROM:-0400
TZOFFSETTO:-0500
TZNAME:EST
DTSTART:20251102T060000
END:STANDARD
BEGIN:DAYLIGHT
TZOFFSETFROM:-0500
TZOFFSETTO:-0400
TZNAME:EDT
DTSTART:20260308T070000
END:DAYLIGHT
BEGIN:STANDARD
TZOFFSETFROM:-0400
TZOFFSETTO:-0500
TZNAME:EST
DTSTART:20261101T060000
END:STANDARD
END:VTIMEZONE
BEGIN:VEVENT
DTSTART;TZID=America/Nassau:20250320T100000
DTEND;TZID=America/Nassau:20250320T170000
DTSTAMP:20260425T183625
CREATED:20250307T181452Z
LAST-MODIFIED:20250307T181452Z
UID:32152-1742464800-1742490000@www.industrialtribunal.bs
SUMMARY:Francisco Mackey v American Bridge NP2023-112
DESCRIPTION:
URL:https://www.industrialtribunal.bs/event/francisco-mackey-v-american-bridge-np2023-112/
LOCATION:Court 1 – President Indira Demeritte-Francis\, Bank Lane\, Saffrey Square Building 1st Floor\, New Providence\, Bahamas
CATEGORIES:Court 1
END:VEVENT
BEGIN:VEVENT
DTSTART;TZID=America/Nassau:20250320T100000
DTEND;TZID=America/Nassau:20250320T170000
DTSTAMP:20260425T183625
CREATED:20250307T181634Z
LAST-MODIFIED:20250307T181634Z
UID:32154-1742464800-1742490000@www.industrialtribunal.bs
SUMMARY:Evernique Moss v Bahamas Telecommunications Company NP2023-116
DESCRIPTION:
URL:https://www.industrialtribunal.bs/event/evernique-moss-v-bahamas-telecommunications-company-np2023-116/
LOCATION:Court 1 – President Indira Demeritte-Francis\, Bank Lane\, Saffrey Square Building 1st Floor\, New Providence\, Bahamas
CATEGORIES:Court 1
END:VEVENT
BEGIN:VEVENT
DTSTART;TZID=America/Nassau:20250320T100000
DTEND;TZID=America/Nassau:20250320T170000
DTSTAMP:20260425T183625
CREATED:20250307T181951Z
LAST-MODIFIED:20250307T181951Z
UID:32156-1742464800-1742490000@www.industrialtribunal.bs
SUMMARY:Darrinique Sands v Signature Bundles & Beauty Bar NP2023-118
DESCRIPTION:
URL:https://www.industrialtribunal.bs/event/darrinique-sands-v-signature-bundles-beauty-bar-np2023-118/
LOCATION:Court 1 – President Indira Demeritte-Francis\, Bank Lane\, Saffrey Square Building 1st Floor\, New Providence\, Bahamas
CATEGORIES:Court 1
END:VEVENT
BEGIN:VEVENT
DTSTART;TZID=America/Nassau:20250320T100000
DTEND;TZID=America/Nassau:20250320T170000
DTSTAMP:20260425T183625
CREATED:20250307T194232Z
LAST-MODIFIED:20250307T194232Z
UID:32158-1742464800-1742490000@www.industrialtribunal.bs
SUMMARY:Lynderia Scott v Atlantis Paradise Island NP2023-145
DESCRIPTION:
URL:https://www.industrialtribunal.bs/event/lynderia-scott-v-atlantis-paradise-island-np2023-145/
LOCATION:Court 1 – President Indira Demeritte-Francis\, Bank Lane\, Saffrey Square Building 1st Floor\, New Providence\, Bahamas
CATEGORIES:Court 1
END:VEVENT
BEGIN:VEVENT
DTSTART;TZID=America/Nassau:20250320T100000
DTEND;TZID=America/Nassau:20250320T170000
DTSTAMP:20260425T183625
CREATED:20250307T194418Z
LAST-MODIFIED:20250307T194418Z
UID:32160-1742464800-1742490000@www.industrialtribunal.bs
SUMMARY:Prescott Wilson Sr v Bahamas Security Investigative Services (BSIS) NP2024-065
DESCRIPTION:
URL:https://www.industrialtribunal.bs/event/prescott-wilson-sr-v-bahamas-security-investigative-services-bsis-np2024-065/
LOCATION:Court 1 – President Indira Demeritte-Francis\, Bank Lane\, Saffrey Square Building 1st Floor\, New Providence\, Bahamas
CATEGORIES:Court 1
END:VEVENT
BEGIN:VEVENT
DTSTART;TZID=America/Nassau:20250320T100000
DTEND;TZID=America/Nassau:20250320T170000
DTSTAMP:20260425T183625
CREATED:20250307T194614Z
LAST-MODIFIED:20250307T194614Z
UID:32162-1742464800-1742490000@www.industrialtribunal.bs
SUMMARY:Kendera Moss v Rainbow Dental Care NP2023-108
DESCRIPTION:
URL:https://www.industrialtribunal.bs/event/kendera-moss-v-rainbow-dental-care-np2023-108/
LOCATION:Court 1 – President Indira Demeritte-Francis\, Bank Lane\, Saffrey Square Building 1st Floor\, New Providence\, Bahamas
CATEGORIES:Court 1
END:VEVENT
BEGIN:VEVENT
DTSTART;TZID=America/Nassau:20250320T100000
DTEND;TZID=America/Nassau:20250320T170000
DTSTAMP:20260425T183625
CREATED:20250307T194705Z
LAST-MODIFIED:20250307T194705Z
UID:32164-1742464800-1742490000@www.industrialtribunal.bs
SUMMARY:Domingo D. Colebrook v Earco Elite NP2023-019
DESCRIPTION:
URL:https://www.industrialtribunal.bs/event/domingo-d-colebrook-v-earco-elite-np2023-019-2/
LOCATION:Court 1 – President Indira Demeritte-Francis\, Bank Lane\, Saffrey Square Building 1st Floor\, New Providence\, Bahamas
CATEGORIES:Court 1
END:VEVENT
END:VCALENDAR