BEGIN:VCALENDAR
VERSION:2.0
PRODID:-//Bahamas Industrial Tribunal - ECPv6.15.20//NONSGML v1.0//EN
CALSCALE:GREGORIAN
METHOD:PUBLISH
X-WR-CALNAME:Bahamas Industrial Tribunal
X-ORIGINAL-URL:https://www.industrialtribunal.bs
X-WR-CALDESC:Events for Bahamas Industrial Tribunal
REFRESH-INTERVAL;VALUE=DURATION:PT1H
X-Robots-Tag:noindex
X-PUBLISHED-TTL:PT1H
BEGIN:VTIMEZONE
TZID:America/Nassau
BEGIN:DAYLIGHT
TZOFFSETFROM:-0500
TZOFFSETTO:-0400
TZNAME:EDT
DTSTART:20240310T070000
END:DAYLIGHT
BEGIN:STANDARD
TZOFFSETFROM:-0400
TZOFFSETTO:-0500
TZNAME:EST
DTSTART:20241103T060000
END:STANDARD
BEGIN:DAYLIGHT
TZOFFSETFROM:-0500
TZOFFSETTO:-0400
TZNAME:EDT
DTSTART:20250309T070000
END:DAYLIGHT
BEGIN:STANDARD
TZOFFSETFROM:-0400
TZOFFSETTO:-0500
TZNAME:EST
DTSTART:20251102T060000
END:STANDARD
BEGIN:DAYLIGHT
TZOFFSETFROM:-0500
TZOFFSETTO:-0400
TZNAME:EDT
DTSTART:20260308T070000
END:DAYLIGHT
BEGIN:STANDARD
TZOFFSETFROM:-0400
TZOFFSETTO:-0500
TZNAME:EST
DTSTART:20261101T060000
END:STANDARD
END:VTIMEZONE
BEGIN:VEVENT
DTSTART;TZID=America/Nassau:20250409T100000
DTEND;TZID=America/Nassau:20250409T170000
DTSTAMP:20260425T170033
CREATED:20250424T195555Z
LAST-MODIFIED:20250424T195555Z
UID:32325-1744192800-1744218000@www.industrialtribunal.bs
SUMMARY:Mikin Jean v. Breezes Resort NP2023-095
DESCRIPTION:
URL:https://www.industrialtribunal.bs/event/mikin-jean-v-breezes-resort-np2023-095-2/
CATEGORIES:Court 1
END:VEVENT
BEGIN:VEVENT
DTSTART;TZID=America/Nassau:20250409T100000
DTEND;TZID=America/Nassau:20250409T170000
DTSTAMP:20260425T170033
CREATED:20250424T195934Z
LAST-MODIFIED:20250424T195934Z
UID:32327-1744192800-1744218000@www.industrialtribunal.bs
SUMMARY:Eric Rolle v. Bahama Dreams Web Cafe Limited d/b/a Ultra Games NP2024-059
DESCRIPTION:
URL:https://www.industrialtribunal.bs/event/eric-rolle-v-bahama-dreams-web-cafe-limited-d-b-a-ultra-games-np2024-059/
CATEGORIES:Court 1
END:VEVENT
BEGIN:VEVENT
DTSTART;TZID=America/Nassau:20250409T100000
DTEND;TZID=America/Nassau:20250409T170000
DTSTAMP:20260425T170033
CREATED:20250424T200119Z
LAST-MODIFIED:20250424T200119Z
UID:32329-1744192800-1744218000@www.industrialtribunal.bs
SUMMARY:Anniemae Forbes v. Island Hotel Company Limited NP2024-069
DESCRIPTION:
URL:https://www.industrialtribunal.bs/event/anniemae-forbes-v-island-hotel-company-limited-np2024-069/
CATEGORIES:Court 1
END:VEVENT
BEGIN:VEVENT
DTSTART;TZID=America/Nassau:20250409T100000
DTEND;TZID=America/Nassau:20250409T170000
DTSTAMP:20260425T170033
CREATED:20250424T200237Z
LAST-MODIFIED:20250424T200237Z
UID:32331-1744192800-1744218000@www.industrialtribunal.bs
SUMMARY:Taira Bethell v. Lyford Cay Club NP2024-040
DESCRIPTION:
URL:https://www.industrialtribunal.bs/event/taira-bethell-v-lyford-cay-club-np2024-040/
CATEGORIES:Court 1
END:VEVENT
BEGIN:VEVENT
DTSTART;TZID=America/Nassau:20250409T100000
DTEND;TZID=America/Nassau:20250409T170000
DTSTAMP:20260425T170033
CREATED:20250424T200419Z
LAST-MODIFIED:20250424T200419Z
UID:32333-1744192800-1744218000@www.industrialtribunal.bs
SUMMARY:Desiree Fowler v. Kamalame Cay Resort & Residences (Andros) NP2024-046
DESCRIPTION:
URL:https://www.industrialtribunal.bs/event/desiree-fowler-v-kamalame-cay-resort-residences-andros-np2024-046/
CATEGORIES:Court 1
END:VEVENT
BEGIN:VEVENT
DTSTART;TZID=America/Nassau:20250409T100000
DTEND;TZID=America/Nassau:20250409T170000
DTSTAMP:20260425T170033
CREATED:20250424T200553Z
LAST-MODIFIED:20250424T200553Z
UID:32335-1744192800-1744218000@www.industrialtribunal.bs
SUMMARY:Lilly Taylor v. Atlantis\, Coral Towers NP2024-165
DESCRIPTION:
URL:https://www.industrialtribunal.bs/event/lilly-taylor-v-atlantis-coral-towers-np2024-165/
CATEGORIES:Court 1
END:VEVENT
BEGIN:VEVENT
DTSTART;TZID=America/Nassau:20250409T100000
DTEND;TZID=America/Nassau:20250409T170000
DTSTAMP:20260425T170033
CREATED:20250424T200704Z
LAST-MODIFIED:20250424T200704Z
UID:32337-1744192800-1744218000@www.industrialtribunal.bs
SUMMARY:Jolecia Rahming v. Adventures Caribbean NP2024-131
DESCRIPTION:
URL:https://www.industrialtribunal.bs/event/jolecia-rahming-v-adventures-caribbean-np2024-131/
CATEGORIES:Court 1
END:VEVENT
BEGIN:VEVENT
DTSTART;TZID=America/Nassau:20250409T100000
DTEND;TZID=America/Nassau:20250409T170000
DTSTAMP:20260425T170033
CREATED:20250424T200827Z
LAST-MODIFIED:20250424T200827Z
UID:32339-1744192800-1744218000@www.industrialtribunal.bs
SUMMARY:Ryan Brown v. Public Workers Co-Operative Credit Union NP2024-135
DESCRIPTION:
URL:https://www.industrialtribunal.bs/event/ryan-brown-v-public-workers-co-operative-credit-union-np2024-135/
CATEGORIES:Court 1
END:VEVENT
BEGIN:VEVENT
DTSTART;TZID=America/Nassau:20250409T100000
DTEND;TZID=America/Nassau:20250409T170000
DTSTAMP:20260425T170033
CREATED:20250424T200946Z
LAST-MODIFIED:20250424T200946Z
UID:32341-1744192800-1744218000@www.industrialtribunal.bs
SUMMARY:Adrian Sands v. Double (A) Electric NP2024-033
DESCRIPTION:
URL:https://www.industrialtribunal.bs/event/adrian-sands-v-double-a-electric-np2024-033/
CATEGORIES:Court 1
END:VEVENT
BEGIN:VEVENT
DTSTART;TZID=America/Nassau:20250409T100000
DTEND;TZID=America/Nassau:20250409T170000
DTSTAMP:20260425T170033
CREATED:20250424T201132Z
LAST-MODIFIED:20250424T201132Z
UID:32343-1744192800-1744218000@www.industrialtribunal.bs
SUMMARY:Robyn Percentie v. Gray Cliff/Innovative Job Solution NP2024-049
DESCRIPTION:
URL:https://www.industrialtribunal.bs/event/robyn-percentie-v-gray-cliff-innovative-job-solution-np2024-049/
CATEGORIES:Court 1
END:VEVENT
BEGIN:VEVENT
DTSTART;TZID=America/Nassau:20250409T100000
DTEND;TZID=America/Nassau:20250409T170000
DTSTAMP:20260425T170033
CREATED:20250424T201250Z
LAST-MODIFIED:20250424T201250Z
UID:32345-1744192800-1744218000@www.industrialtribunal.bs
SUMMARY:Andre Forbes v. Grand Isles Resort (Exuma) NP2024-034
DESCRIPTION:
URL:https://www.industrialtribunal.bs/event/andre-forbes-v-grand-isles-resort-exuma-np2024-034/
CATEGORIES:Court 1
END:VEVENT
END:VCALENDAR