BEGIN:VCALENDAR
VERSION:2.0
PRODID:-//Bahamas Industrial Tribunal - ECPv6.15.20//NONSGML v1.0//EN
CALSCALE:GREGORIAN
METHOD:PUBLISH
X-WR-CALNAME:Bahamas Industrial Tribunal
X-ORIGINAL-URL:https://www.industrialtribunal.bs
X-WR-CALDESC:Events for Bahamas Industrial Tribunal
REFRESH-INTERVAL;VALUE=DURATION:PT1H
X-Robots-Tag:noindex
X-PUBLISHED-TTL:PT1H
BEGIN:VTIMEZONE
TZID:America/Nassau
BEGIN:DAYLIGHT
TZOFFSETFROM:-0500
TZOFFSETTO:-0400
TZNAME:EDT
DTSTART:20240310T070000
END:DAYLIGHT
BEGIN:STANDARD
TZOFFSETFROM:-0400
TZOFFSETTO:-0500
TZNAME:EST
DTSTART:20241103T060000
END:STANDARD
BEGIN:DAYLIGHT
TZOFFSETFROM:-0500
TZOFFSETTO:-0400
TZNAME:EDT
DTSTART:20250309T070000
END:DAYLIGHT
BEGIN:STANDARD
TZOFFSETFROM:-0400
TZOFFSETTO:-0500
TZNAME:EST
DTSTART:20251102T060000
END:STANDARD
BEGIN:DAYLIGHT
TZOFFSETFROM:-0500
TZOFFSETTO:-0400
TZNAME:EDT
DTSTART:20260308T070000
END:DAYLIGHT
BEGIN:STANDARD
TZOFFSETFROM:-0400
TZOFFSETTO:-0500
TZNAME:EST
DTSTART:20261101T060000
END:STANDARD
END:VTIMEZONE
BEGIN:VEVENT
DTSTART;TZID=America/Nassau:20250410T100000
DTEND;TZID=America/Nassau:20250410T170000
DTSTAMP:20260425T170037
CREATED:20250424T201429Z
LAST-MODIFIED:20250424T201429Z
UID:32347-1744279200-1744304400@www.industrialtribunal.bs
SUMMARY:Candice Burrows v. Furniture Plus NP2024-039
DESCRIPTION:
URL:https://www.industrialtribunal.bs/event/candice-burrows-v-furniture-plus-np2024-039/
CATEGORIES:Court 1
END:VEVENT
BEGIN:VEVENT
DTSTART;TZID=America/Nassau:20250410T100000
DTEND;TZID=America/Nassau:20250410T170000
DTSTAMP:20260425T170037
CREATED:20250424T201552Z
LAST-MODIFIED:20250424T201552Z
UID:32349-1744279200-1744304400@www.industrialtribunal.bs
SUMMARY:Stevashti Munroe v. Lumpy's Bar & Grill NP2024-180
DESCRIPTION:
URL:https://www.industrialtribunal.bs/event/stevashti-munroe-v-lumpys-bar-grill-np2024-180/
CATEGORIES:Court 1
END:VEVENT
BEGIN:VEVENT
DTSTART;TZID=America/Nassau:20250410T100000
DTEND;TZID=America/Nassau:20250410T170000
DTSTAMP:20260425T170037
CREATED:20250424T202126Z
LAST-MODIFIED:20250424T202126Z
UID:32351-1744279200-1744304400@www.industrialtribunal.bs
SUMMARY:Wendell Grant v. Disaster Reconstruction Authority NP2022-091
DESCRIPTION:
URL:https://www.industrialtribunal.bs/event/wendell-grant-v-disaster-reconstruction-authority-np2022-091/
CATEGORIES:Court 1
END:VEVENT
BEGIN:VEVENT
DTSTART;TZID=America/Nassau:20250410T100000
DTEND;TZID=America/Nassau:20250410T170000
DTSTAMP:20260425T170037
CREATED:20250424T202452Z
LAST-MODIFIED:20250424T202452Z
UID:32353-1744279200-1744304400@www.industrialtribunal.bs
SUMMARY:Hugh Jones v. The Island Hotel Company Limited Atlantis NP2024-013
DESCRIPTION:
URL:https://www.industrialtribunal.bs/event/hugh-jones-v-the-island-hotel-company-limited-atlantis-np2024-013/
CATEGORIES:Court 1
END:VEVENT
BEGIN:VEVENT
DTSTART;TZID=America/Nassau:20250410T100000
DTEND;TZID=America/Nassau:20250410T170000
DTSTAMP:20260425T170037
CREATED:20250424T202626Z
LAST-MODIFIED:20250424T202626Z
UID:32355-1744279200-1744304400@www.industrialtribunal.bs
SUMMARY:Ericka Maycock v. National Insurance Board NP2024-032
DESCRIPTION:
URL:https://www.industrialtribunal.bs/event/ericka-maycock-v-national-insurance-board-np2024-032/
CATEGORIES:Court 1
END:VEVENT
BEGIN:VEVENT
DTSTART;TZID=America/Nassau:20250410T100000
DTEND;TZID=America/Nassau:20250410T170000
DTSTAMP:20260425T170037
CREATED:20250424T202806Z
LAST-MODIFIED:20250424T202806Z
UID:32357-1744279200-1744304400@www.industrialtribunal.bs
SUMMARY:Benjy Joseph v. Coleman Design NP2024-028
DESCRIPTION:
URL:https://www.industrialtribunal.bs/event/benjy-joseph-v-coleman-design-np2024-028/
CATEGORIES:Court 1
END:VEVENT
BEGIN:VEVENT
DTSTART;TZID=America/Nassau:20250410T100000
DTEND;TZID=America/Nassau:20250410T170000
DTSTAMP:20260425T170037
CREATED:20250424T202936Z
LAST-MODIFIED:20250424T202936Z
UID:32359-1744279200-1744304400@www.industrialtribunal.bs
SUMMARY:Vicente Roberts v. The University Of The Bahamas NP2023-149
DESCRIPTION:
URL:https://www.industrialtribunal.bs/event/vicente-roberts-v-the-university-of-the-bahamas-np2023-149/
CATEGORIES:Court 1
END:VEVENT
BEGIN:VEVENT
DTSTART;TZID=America/Nassau:20250410T100000
DTEND;TZID=America/Nassau:20250410T170000
DTSTAMP:20260425T170037
CREATED:20250424T203053Z
LAST-MODIFIED:20250424T203053Z
UID:32361-1744279200-1744304400@www.industrialtribunal.bs
SUMMARY:Mersay Brown v. Island Hotel Company Limited NP2024-020
DESCRIPTION:
URL:https://www.industrialtribunal.bs/event/mersay-brown-v-island-hotel-company-limited-np2024-020/
CATEGORIES:Court 1
END:VEVENT
BEGIN:VEVENT
DTSTART;TZID=America/Nassau:20250410T100000
DTEND;TZID=America/Nassau:20250410T170000
DTSTAMP:20260425T170037
CREATED:20250424T203256Z
LAST-MODIFIED:20250424T203256Z
UID:32363-1744279200-1744304400@www.industrialtribunal.bs
SUMMARY:Lesley Similien v. Paul Thompson Academy NP2024-024
DESCRIPTION:
URL:https://www.industrialtribunal.bs/event/lesley-similien-v-paul-thompson-academy-np2024-024/
CATEGORIES:Court 1
END:VEVENT
END:VCALENDAR