BEGIN:VCALENDAR
VERSION:2.0
PRODID:-//Bahamas Industrial Tribunal - ECPv6.15.20//NONSGML v1.0//EN
CALSCALE:GREGORIAN
METHOD:PUBLISH
X-WR-CALNAME:Bahamas Industrial Tribunal
X-ORIGINAL-URL:https://www.industrialtribunal.bs
X-WR-CALDESC:Events for Bahamas Industrial Tribunal
REFRESH-INTERVAL;VALUE=DURATION:PT1H
X-Robots-Tag:noindex
X-PUBLISHED-TTL:PT1H
BEGIN:VTIMEZONE
TZID:America/Nassau
BEGIN:DAYLIGHT
TZOFFSETFROM:-0500
TZOFFSETTO:-0400
TZNAME:EDT
DTSTART:20240310T070000
END:DAYLIGHT
BEGIN:STANDARD
TZOFFSETFROM:-0400
TZOFFSETTO:-0500
TZNAME:EST
DTSTART:20241103T060000
END:STANDARD
BEGIN:DAYLIGHT
TZOFFSETFROM:-0500
TZOFFSETTO:-0400
TZNAME:EDT
DTSTART:20250309T070000
END:DAYLIGHT
BEGIN:STANDARD
TZOFFSETFROM:-0400
TZOFFSETTO:-0500
TZNAME:EST
DTSTART:20251102T060000
END:STANDARD
BEGIN:DAYLIGHT
TZOFFSETFROM:-0500
TZOFFSETTO:-0400
TZNAME:EDT
DTSTART:20260308T070000
END:DAYLIGHT
BEGIN:STANDARD
TZOFFSETFROM:-0400
TZOFFSETTO:-0500
TZNAME:EST
DTSTART:20261101T060000
END:STANDARD
END:VTIMEZONE
BEGIN:VEVENT
DTSTART;TZID=America/Nassau:20250901T100000
DTEND;TZID=America/Nassau:20250901T170000
DTSTAMP:20260425T084128
CREATED:20250908T153637Z
LAST-MODIFIED:20250908T153637Z
UID:32866-1756720800-1756746000@www.industrialtribunal.bs
SUMMARY:Tara Anita Brown v Outten I.P. NP2024-037
DESCRIPTION:
URL:https://www.industrialtribunal.bs/event/tara-anita-brown-v-outten-i-p-np2024-037/
CATEGORIES:Court 1
END:VEVENT
BEGIN:VEVENT
DTSTART;TZID=America/Nassau:20250901T100000
DTEND;TZID=America/Nassau:20250901T170000
DTSTAMP:20260425T084128
CREATED:20250908T153810Z
LAST-MODIFIED:20250908T153810Z
UID:32868-1756720800-1756746000@www.industrialtribunal.bs
SUMMARY:Cordero Toussaint v Black & White Studio NP2025-046
DESCRIPTION:
URL:https://www.industrialtribunal.bs/event/cordero-toussaint-v-black-white-studio-np2025-046/
CATEGORIES:Court 1
END:VEVENT
BEGIN:VEVENT
DTSTART;TZID=America/Nassau:20250901T100000
DTEND;TZID=America/Nassau:20250901T170000
DTSTAMP:20260425T084128
CREATED:20250908T153959Z
LAST-MODIFIED:20250908T153959Z
UID:32870-1756720800-1756746000@www.industrialtribunal.bs
SUMMARY:Kishon Bain v Airborne Freight & Cargo Services NP2025-075
DESCRIPTION:
URL:https://www.industrialtribunal.bs/event/kishon-bain-v-airborne-freight-cargo-services-np2025-075/
CATEGORIES:Court 1
END:VEVENT
BEGIN:VEVENT
DTSTART;TZID=America/Nassau:20250901T100000
DTEND;TZID=America/Nassau:20250901T170000
DTSTAMP:20260425T084128
CREATED:20250908T154143Z
LAST-MODIFIED:20250908T154143Z
UID:32872-1756720800-1756746000@www.industrialtribunal.bs
SUMMARY:Jaquanda McKenzie v Robbie's Warehouse NP2025-087
DESCRIPTION:
URL:https://www.industrialtribunal.bs/event/jaquanda-mckenzie-v-robbies-warehouse-np2025-087/
CATEGORIES:Court 1
END:VEVENT
BEGIN:VEVENT
DTSTART;TZID=America/Nassau:20250901T100000
DTEND;TZID=America/Nassau:20250901T170000
DTSTAMP:20260425T084128
CREATED:20250908T154332Z
LAST-MODIFIED:20250908T154332Z
UID:32874-1756720800-1756746000@www.industrialtribunal.bs
SUMMARY:Hugh Jones v The Island Hotel Company Limited d/b/a Atlantis NP2024-013
DESCRIPTION:
URL:https://www.industrialtribunal.bs/event/hugh-jones-v-the-island-hotel-company-limited-d-b-a-atlantis-np2024-013/
CATEGORIES:Court 1
END:VEVENT
END:VCALENDAR