BEGIN:VCALENDAR
VERSION:2.0
PRODID:-//Bahamas Industrial Tribunal - ECPv6.15.20//NONSGML v1.0//EN
CALSCALE:GREGORIAN
METHOD:PUBLISH
X-WR-CALNAME:Bahamas Industrial Tribunal
X-ORIGINAL-URL:https://www.industrialtribunal.bs
X-WR-CALDESC:Events for Bahamas Industrial Tribunal
REFRESH-INTERVAL;VALUE=DURATION:PT1H
X-Robots-Tag:noindex
X-PUBLISHED-TTL:PT1H
BEGIN:VTIMEZONE
TZID:America/Nassau
BEGIN:DAYLIGHT
TZOFFSETFROM:-0500
TZOFFSETTO:-0400
TZNAME:EDT
DTSTART:20240310T070000
END:DAYLIGHT
BEGIN:STANDARD
TZOFFSETFROM:-0400
TZOFFSETTO:-0500
TZNAME:EST
DTSTART:20241103T060000
END:STANDARD
BEGIN:DAYLIGHT
TZOFFSETFROM:-0500
TZOFFSETTO:-0400
TZNAME:EDT
DTSTART:20250309T070000
END:DAYLIGHT
BEGIN:STANDARD
TZOFFSETFROM:-0400
TZOFFSETTO:-0500
TZNAME:EST
DTSTART:20251102T060000
END:STANDARD
BEGIN:DAYLIGHT
TZOFFSETFROM:-0500
TZOFFSETTO:-0400
TZNAME:EDT
DTSTART:20260308T070000
END:DAYLIGHT
BEGIN:STANDARD
TZOFFSETFROM:-0400
TZOFFSETTO:-0500
TZNAME:EST
DTSTART:20261101T060000
END:STANDARD
END:VTIMEZONE
BEGIN:VEVENT
DTSTART;TZID=America/Nassau:20250902T100000
DTEND;TZID=America/Nassau:20250902T170000
DTSTAMP:20260425T084128
CREATED:20250908T154525Z
LAST-MODIFIED:20250908T154525Z
UID:32876-1756807200-1756832400@www.industrialtribunal.bs
SUMMARY:Chandra Wallace-Whitfield v WG Capital Limited Unit A Balmoral Corporate Center Bahamas NP2025-030
DESCRIPTION:
URL:https://www.industrialtribunal.bs/event/chandra-wallace-whitfield-v-wg-capital-limited-unit-a-balmoral-corporate-center-bahamas-np2025-030/
CATEGORIES:Court 1
END:VEVENT
BEGIN:VEVENT
DTSTART;TZID=America/Nassau:20250902T100000
DTEND;TZID=America/Nassau:20250902T170000
DTSTAMP:20260425T084128
CREATED:20250908T154650Z
LAST-MODIFIED:20250908T154650Z
UID:32878-1756807200-1756832400@www.industrialtribunal.bs
SUMMARY:Eunicka Rolle v Halsbury Law Chambers NP2025-089
DESCRIPTION:
URL:https://www.industrialtribunal.bs/event/eunicka-rolle-v-halsbury-law-chambers-np2025-089/
CATEGORIES:Court 1
END:VEVENT
BEGIN:VEVENT
DTSTART;TZID=America/Nassau:20250902T100000
DTEND;TZID=America/Nassau:20250902T170000
DTSTAMP:20260425T084128
CREATED:20250908T160024Z
LAST-MODIFIED:20250908T160024Z
UID:32880-1756807200-1756832400@www.industrialtribunal.bs
SUMMARY:Leonardo Pierre v I & M Convenience Store NP2025-043
DESCRIPTION:
URL:https://www.industrialtribunal.bs/event/leonardo-pierre-v-i-m-convenience-store-np2025-043/
CATEGORIES:Court 1
END:VEVENT
BEGIN:VEVENT
DTSTART;TZID=America/Nassau:20250902T100000
DTEND;TZID=America/Nassau:20250902T170000
DTSTAMP:20260425T084128
CREATED:20250908T160155Z
LAST-MODIFIED:20250908T160155Z
UID:32882-1756807200-1756832400@www.industrialtribunal.bs
SUMMARY:Monalisa Mott v Black and White Studio NP2025-037
DESCRIPTION:
URL:https://www.industrialtribunal.bs/event/monalisa-mott-v-black-and-white-studio-np2025-037/
CATEGORIES:Court 1
END:VEVENT
BEGIN:VEVENT
DTSTART;TZID=America/Nassau:20250902T100000
DTEND;TZID=America/Nassau:20250902T170000
DTSTAMP:20260425T084128
CREATED:20250908T160315Z
LAST-MODIFIED:20250908T160315Z
UID:32884-1756807200-1756832400@www.industrialtribunal.bs
SUMMARY:Malina Mareus v Early Bird Supermarket NP2025-024
DESCRIPTION:
URL:https://www.industrialtribunal.bs/event/malina-mareus-v-early-bird-supermarket-np2025-024-2/
CATEGORIES:Court 1
END:VEVENT
BEGIN:VEVENT
DTSTART;TZID=America/Nassau:20250902T100000
DTEND;TZID=America/Nassau:20250902T170000
DTSTAMP:20260425T084128
CREATED:20250908T160449Z
LAST-MODIFIED:20250908T160449Z
UID:32886-1756807200-1756832400@www.industrialtribunal.bs
SUMMARY:Stanford Davis v ICS Security Concepts NP2025-021
DESCRIPTION:
URL:https://www.industrialtribunal.bs/event/stanford-davis-v-ics-security-concepts-np2025-021/
CATEGORIES:Court 1
END:VEVENT
BEGIN:VEVENT
DTSTART;TZID=America/Nassau:20250902T100000
DTEND;TZID=America/Nassau:20250902T170000
DTSTAMP:20260425T084128
CREATED:20250908T161049Z
LAST-MODIFIED:20250908T161129Z
UID:32888-1756807200-1756832400@www.industrialtribunal.bs
SUMMARY:Patrick Griffin v Strategic Property Holdings Limited d/b/a British Colonial Hotel NP2022-111
DESCRIPTION:
URL:https://www.industrialtribunal.bs/event/patrick-griffin-v-strategic-property-holdings-limited-d-b-a-british-colonial-hotel/
CATEGORIES:Court 1
END:VEVENT
BEGIN:VEVENT
DTSTART;TZID=America/Nassau:20250902T100000
DTEND;TZID=America/Nassau:20250902T170000
DTSTAMP:20260425T084128
CREATED:20250908T161256Z
LAST-MODIFIED:20250908T161256Z
UID:32891-1756807200-1756832400@www.industrialtribunal.bs
SUMMARY:Robynn Johnson-Thurston v Scotia Bank (Bahamas) Limited NP2023-136
DESCRIPTION:
URL:https://www.industrialtribunal.bs/event/robynn-johnson-thurston-v-scotia-bank-bahamas-limited-np2023-136-2/
CATEGORIES:Court 1
END:VEVENT
END:VCALENDAR