BEGIN:VCALENDAR
VERSION:2.0
PRODID:-//Bahamas Industrial Tribunal - ECPv6.15.20//NONSGML v1.0//EN
CALSCALE:GREGORIAN
METHOD:PUBLISH
X-ORIGINAL-URL:https://www.industrialtribunal.bs
X-WR-CALDESC:Events for Bahamas Industrial Tribunal
REFRESH-INTERVAL;VALUE=DURATION:PT1H
X-Robots-Tag:noindex
X-PUBLISHED-TTL:PT1H
BEGIN:VTIMEZONE
TZID:America/Nassau
BEGIN:DAYLIGHT
TZOFFSETFROM:-0500
TZOFFSETTO:-0400
TZNAME:EDT
DTSTART:20240310T070000
END:DAYLIGHT
BEGIN:STANDARD
TZOFFSETFROM:-0400
TZOFFSETTO:-0500
TZNAME:EST
DTSTART:20241103T060000
END:STANDARD
BEGIN:DAYLIGHT
TZOFFSETFROM:-0500
TZOFFSETTO:-0400
TZNAME:EDT
DTSTART:20250309T070000
END:DAYLIGHT
BEGIN:STANDARD
TZOFFSETFROM:-0400
TZOFFSETTO:-0500
TZNAME:EST
DTSTART:20251102T060000
END:STANDARD
BEGIN:DAYLIGHT
TZOFFSETFROM:-0500
TZOFFSETTO:-0400
TZNAME:EDT
DTSTART:20260308T070000
END:DAYLIGHT
BEGIN:STANDARD
TZOFFSETFROM:-0400
TZOFFSETTO:-0500
TZNAME:EST
DTSTART:20261101T060000
END:STANDARD
END:VTIMEZONE
BEGIN:VEVENT
DTSTART;TZID=America/Nassau:20250929T100000
DTEND;TZID=America/Nassau:20250929T170000
DTSTAMP:20260425T065844
CREATED:20250909T195518Z
LAST-MODIFIED:20250909T200018Z
UID:32916-1759140000-1759165200@www.industrialtribunal.bs
SUMMARY:Jude Martin v Paradise Game Ltd. NR/NES/040/2025
DESCRIPTION:
URL:https://www.industrialtribunal.bs/event/jude-martin-v-paradise-game-ltd-nr-nes-040-2025/
CATEGORIES:Court 1
END:VEVENT
BEGIN:VEVENT
DTSTART;TZID=America/Nassau:20250929T100000
DTEND;TZID=America/Nassau:20250929T170000
DTSTAMP:20260425T065844
CREATED:20250909T195654Z
LAST-MODIFIED:20250909T195654Z
UID:32918-1759140000-1759165200@www.industrialtribunal.bs
SUMMARY:Roshonda McIntosh v St. Thomas Medical Centre NR/NES/048/2025
DESCRIPTION:
URL:https://www.industrialtribunal.bs/event/roshonda-mcintosh-v-st-thomas-medical-centre-nr-nes-048-2025/
CATEGORIES:Court 1
END:VEVENT
BEGIN:VEVENT
DTSTART;TZID=America/Nassau:20250929T100000
DTEND;TZID=America/Nassau:20250929T170000
DTSTAMP:20260425T065844
CREATED:20250909T195816Z
LAST-MODIFIED:20250909T195816Z
UID:32920-1759140000-1759165200@www.industrialtribunal.bs
SUMMARY:Trevon S. Laing v Lucayan Renewal Holding Ltd. NR/NES/049/2025
DESCRIPTION:
URL:https://www.industrialtribunal.bs/event/trevon-s-laing-v-lucayan-renewal-holding-ltd-nr-nes-049-2025/
CATEGORIES:Court 1
END:VEVENT
END:VCALENDAR