BEGIN:VCALENDAR
VERSION:2.0
PRODID:-//Bahamas Industrial Tribunal - ECPv6.15.20//NONSGML v1.0//EN
CALSCALE:GREGORIAN
METHOD:PUBLISH
X-ORIGINAL-URL:https://www.industrialtribunal.bs
X-WR-CALDESC:Events for Bahamas Industrial Tribunal
REFRESH-INTERVAL;VALUE=DURATION:PT1H
X-Robots-Tag:noindex
X-PUBLISHED-TTL:PT1H
BEGIN:VTIMEZONE
TZID:America/Nassau
BEGIN:DAYLIGHT
TZOFFSETFROM:-0500
TZOFFSETTO:-0400
TZNAME:EDT
DTSTART:20240310T070000
END:DAYLIGHT
BEGIN:STANDARD
TZOFFSETFROM:-0400
TZOFFSETTO:-0500
TZNAME:EST
DTSTART:20241103T060000
END:STANDARD
BEGIN:DAYLIGHT
TZOFFSETFROM:-0500
TZOFFSETTO:-0400
TZNAME:EDT
DTSTART:20250309T070000
END:DAYLIGHT
BEGIN:STANDARD
TZOFFSETFROM:-0400
TZOFFSETTO:-0500
TZNAME:EST
DTSTART:20251102T060000
END:STANDARD
BEGIN:DAYLIGHT
TZOFFSETFROM:-0500
TZOFFSETTO:-0400
TZNAME:EDT
DTSTART:20260308T070000
END:DAYLIGHT
BEGIN:STANDARD
TZOFFSETFROM:-0400
TZOFFSETTO:-0500
TZNAME:EST
DTSTART:20261101T060000
END:STANDARD
END:VTIMEZONE
BEGIN:VEVENT
DTSTART;TZID=America/Nassau:20251015T100000
DTEND;TZID=America/Nassau:20251015T170000
DTSTAMP:20260425T070000
CREATED:20251017T150621Z
LAST-MODIFIED:20251017T150621Z
UID:33031-1760522400-1760547600@www.industrialtribunal.bs
SUMMARY:Fidel Joseph v Private Fire NP2025-079
DESCRIPTION:
URL:https://www.industrialtribunal.bs/event/fidel-joseph-v-private-fire-np2025-079/
CATEGORIES:Court 1
END:VEVENT
BEGIN:VEVENT
DTSTART;TZID=America/Nassau:20251015T100000
DTEND;TZID=America/Nassau:20251015T170000
DTSTAMP:20260425T070000
CREATED:20251017T150728Z
LAST-MODIFIED:20251017T150728Z
UID:33033-1760522400-1760547600@www.industrialtribunal.bs
SUMMARY:Rhonda Henfield v Charmones Shipping NP2025-067
DESCRIPTION:
URL:https://www.industrialtribunal.bs/event/rhonda-henfield-v-charmones-shipping-np2025-067/
CATEGORIES:Court 1
END:VEVENT
BEGIN:VEVENT
DTSTART;TZID=America/Nassau:20251015T100000
DTEND;TZID=America/Nassau:20251015T170000
DTSTAMP:20260425T070000
CREATED:20251017T150846Z
LAST-MODIFIED:20251017T150846Z
UID:33035-1760522400-1760547600@www.industrialtribunal.bs
SUMMARY:Kristin Harding v Bahamas Design NP2025-066
DESCRIPTION:
URL:https://www.industrialtribunal.bs/event/kristin-harding-v-bahamas-design-np2025-066/
CATEGORIES:Court 1
END:VEVENT
END:VCALENDAR