BEGIN:VCALENDAR
VERSION:2.0
PRODID:-//Bahamas Industrial Tribunal - ECPv6.15.20//NONSGML v1.0//EN
CALSCALE:GREGORIAN
METHOD:PUBLISH
X-ORIGINAL-URL:https://www.industrialtribunal.bs
X-WR-CALDESC:Events for Bahamas Industrial Tribunal
REFRESH-INTERVAL;VALUE=DURATION:PT1H
X-Robots-Tag:noindex
X-PUBLISHED-TTL:PT1H
BEGIN:VTIMEZONE
TZID:America/Nassau
BEGIN:DAYLIGHT
TZOFFSETFROM:-0500
TZOFFSETTO:-0400
TZNAME:EDT
DTSTART:20250309T070000
END:DAYLIGHT
BEGIN:STANDARD
TZOFFSETFROM:-0400
TZOFFSETTO:-0500
TZNAME:EST
DTSTART:20251102T060000
END:STANDARD
BEGIN:DAYLIGHT
TZOFFSETFROM:-0500
TZOFFSETTO:-0400
TZNAME:EDT
DTSTART:20260308T070000
END:DAYLIGHT
BEGIN:STANDARD
TZOFFSETFROM:-0400
TZOFFSETTO:-0500
TZNAME:EST
DTSTART:20261101T060000
END:STANDARD
BEGIN:DAYLIGHT
TZOFFSETFROM:-0500
TZOFFSETTO:-0400
TZNAME:EDT
DTSTART:20270314T070000
END:DAYLIGHT
BEGIN:STANDARD
TZOFFSETFROM:-0400
TZOFFSETTO:-0500
TZNAME:EST
DTSTART:20271107T060000
END:STANDARD
END:VTIMEZONE
BEGIN:VEVENT
DTSTART;TZID=America/Nassau:20260414T100000
DTEND;TZID=America/Nassau:20260414T170000
DTSTAMP:20260424T205139
CREATED:20260416T133820Z
LAST-MODIFIED:20260416T133820Z
UID:33892-1776160800-1776186000@www.industrialtribunal.bs
SUMMARY:Meoshe Bullard vs Sugar Hill Bar & Lounge NP2025-154
DESCRIPTION:
URL:https://www.industrialtribunal.bs/event/meoshe-bullard-vs-sugar-hill-bar-lounge-np2025-154/
CATEGORIES:Court 1
END:VEVENT
BEGIN:VEVENT
DTSTART;TZID=America/Nassau:20260414T100000
DTEND;TZID=America/Nassau:20260414T170000
DTSTAMP:20260424T205139
CREATED:20260416T134225Z
LAST-MODIFIED:20260416T134225Z
UID:33894-1776160800-1776186000@www.industrialtribunal.bs
SUMMARY:Kenville Gomez v Lawnscapes Limited NP2026-004
DESCRIPTION:
URL:https://www.industrialtribunal.bs/event/kenville-gomez-v-lawnscapes-limited-np2026-004/
CATEGORIES:Court 1
END:VEVENT
BEGIN:VEVENT
DTSTART;TZID=America/Nassau:20260414T100000
DTEND;TZID=America/Nassau:20260414T170000
DTSTAMP:20260424T205139
CREATED:20260416T134410Z
LAST-MODIFIED:20260416T134410Z
UID:33896-1776160800-1776186000@www.industrialtribunal.bs
SUMMARY:Kimberly Pratt v Store Away Limited NP2025-126
DESCRIPTION:
URL:https://www.industrialtribunal.bs/event/kimberly-pratt-v-store-away-limited-np2025-126/
CATEGORIES:Court 1
END:VEVENT
BEGIN:VEVENT
DTSTART;TZID=America/Nassau:20260414T100000
DTEND;TZID=America/Nassau:20260414T170000
DTSTAMP:20260424T205139
CREATED:20260416T134559Z
LAST-MODIFIED:20260416T134621Z
UID:33898-1776160800-1776186000@www.industrialtribunal.bs
SUMMARY:Leonique Cooper v Wendy's NP2025-109
DESCRIPTION:
URL:https://www.industrialtribunal.bs/event/leonique-cooper-v-wendys-head-off-np2025-109-2/
CATEGORIES:Court 1
END:VEVENT
BEGIN:VEVENT
DTSTART;TZID=America/Nassau:20260414T100000
DTEND;TZID=America/Nassau:20260414T170000
DTSTAMP:20260424T205139
CREATED:20260416T134743Z
LAST-MODIFIED:20260416T134743Z
UID:33901-1776160800-1776186000@www.industrialtribunal.bs
SUMMARY:Thomas Miller v Tiki Bikini Hut NP2025-149
DESCRIPTION:
URL:https://www.industrialtribunal.bs/event/thomas-miller-v-tiki-bikini-hut-np2025-149/
CATEGORIES:Court 1
END:VEVENT
BEGIN:VEVENT
DTSTART;TZID=America/Nassau:20260414T100000
DTEND;TZID=America/Nassau:20260414T170000
DTSTAMP:20260424T205139
CREATED:20260416T134914Z
LAST-MODIFIED:20260416T134914Z
UID:33903-1776160800-1776186000@www.industrialtribunal.bs
SUMMARY:Freddie Evans v Guard Force Security NP2024-184
DESCRIPTION:
URL:https://www.industrialtribunal.bs/event/freddie-evans-v-guard-force-security-np2024-184/
CATEGORIES:Court 1
END:VEVENT
BEGIN:VEVENT
DTSTART;TZID=America/Nassau:20260414T100000
DTEND;TZID=America/Nassau:20260414T170000
DTSTAMP:20260424T205139
CREATED:20260416T135925Z
LAST-MODIFIED:20260416T135925Z
UID:33905-1776160800-1776186000@www.industrialtribunal.bs
SUMMARY:Rashan Smith V Central Wines & Spirits NP2025-160
DESCRIPTION:
URL:https://www.industrialtribunal.bs/event/rashan-smith-v-central-wines-spirits-np2025-160/
CATEGORIES:Court 1
END:VEVENT
BEGIN:VEVENT
DTSTART;TZID=America/Nassau:20260414T100000
DTEND;TZID=America/Nassau:20260414T170000
DTSTAMP:20260424T205139
CREATED:20260416T140041Z
LAST-MODIFIED:20260416T140041Z
UID:33907-1776160800-1776186000@www.industrialtribunal.bs
SUMMARY:Terrance Russell v Albany Resort NP2024-186
DESCRIPTION:
URL:https://www.industrialtribunal.bs/event/terrance-russell-v-albany-resort-np2024-186/
CATEGORIES:Court 1
END:VEVENT
BEGIN:VEVENT
DTSTART;TZID=America/Nassau:20260414T100000
DTEND;TZID=America/Nassau:20260414T170000
DTSTAMP:20260424T205139
CREATED:20260416T140157Z
LAST-MODIFIED:20260416T140157Z
UID:33909-1776160800-1776186000@www.industrialtribunal.bs
SUMMARY:Stephen Craig Boorman v Platinum Pineapple Limited NP2025-167
DESCRIPTION:
URL:https://www.industrialtribunal.bs/event/stephen-craig-boorman-v-platinum-pineapple-limited-np2025-167/
CATEGORIES:Court 1
END:VEVENT
BEGIN:VEVENT
DTSTART;TZID=America/Nassau:20260414T100000
DTEND;TZID=America/Nassau:20260414T170000
DTSTAMP:20260424T205139
CREATED:20260416T140343Z
LAST-MODIFIED:20260416T140343Z
UID:33911-1776160800-1776186000@www.industrialtribunal.bs
SUMMARY:Donavan Clarke v MWF Group Bahamas NP2025-114
DESCRIPTION:
URL:https://www.industrialtribunal.bs/event/donavan-clarke-v-mwf-group-bahamas-np2025-114-2/
CATEGORIES:Court 1
END:VEVENT
BEGIN:VEVENT
DTSTART;TZID=America/Nassau:20260414T100000
DTEND;TZID=America/Nassau:20260414T170000
DTSTAMP:20260424T205139
CREATED:20260416T140522Z
LAST-MODIFIED:20260416T140522Z
UID:33913-1776160800-1776186000@www.industrialtribunal.bs
SUMMARY:Michael Bethell v Bamboo Beach Clubs T/A Tiki Bikini Hut NP2025-162
DESCRIPTION:
URL:https://www.industrialtribunal.bs/event/michael-bethell-v-bamboo-beach-clubs-t-a-tiki-bikini-hut-np2025-162/
CATEGORIES:Court 1
END:VEVENT
BEGIN:VEVENT
DTSTART;TZID=America/Nassau:20260414T100000
DTEND;TZID=America/Nassau:20260414T170000
DTSTAMP:20260424T205139
CREATED:20260416T140657Z
LAST-MODIFIED:20260416T140657Z
UID:33916-1776160800-1776186000@www.industrialtribunal.bs
SUMMARY:Atanya Gardiner v Restaurant Bahamas Limited NP2025-053
DESCRIPTION:
URL:https://www.industrialtribunal.bs/event/atanya-gardiner-v-restaurant-bahamas-limited-np2025-053/
CATEGORIES:Court 1
END:VEVENT
BEGIN:VEVENT
DTSTART;TZID=America/Nassau:20260414T100000
DTEND;TZID=America/Nassau:20260414T170000
DTSTAMP:20260424T205139
CREATED:20260416T140828Z
LAST-MODIFIED:20260416T140828Z
UID:33918-1776160800-1776186000@www.industrialtribunal.bs
SUMMARY:Marvin Gibson vs Guard Force Security NP2024-177
DESCRIPTION:
URL:https://www.industrialtribunal.bs/event/marvin-gibson-vs-guard-force-security-np2024-177/
CATEGORIES:Court 1
END:VEVENT
END:VCALENDAR