BEGIN:VCALENDAR
VERSION:2.0
PRODID:-//Bahamas Industrial Tribunal - ECPv6.15.20//NONSGML v1.0//EN
CALSCALE:GREGORIAN
METHOD:PUBLISH
X-ORIGINAL-URL:https://www.industrialtribunal.bs
X-WR-CALDESC:Events for Bahamas Industrial Tribunal
REFRESH-INTERVAL;VALUE=DURATION:PT1H
X-Robots-Tag:noindex
X-PUBLISHED-TTL:PT1H
BEGIN:VTIMEZONE
TZID:America/Nassau
BEGIN:DAYLIGHT
TZOFFSETFROM:-0500
TZOFFSETTO:-0400
TZNAME:EDT
DTSTART:20240310T070000
END:DAYLIGHT
BEGIN:STANDARD
TZOFFSETFROM:-0400
TZOFFSETTO:-0500
TZNAME:EST
DTSTART:20241103T060000
END:STANDARD
BEGIN:DAYLIGHT
TZOFFSETFROM:-0500
TZOFFSETTO:-0400
TZNAME:EDT
DTSTART:20250309T070000
END:DAYLIGHT
BEGIN:STANDARD
TZOFFSETFROM:-0400
TZOFFSETTO:-0500
TZNAME:EST
DTSTART:20251102T060000
END:STANDARD
BEGIN:DAYLIGHT
TZOFFSETFROM:-0500
TZOFFSETTO:-0400
TZNAME:EDT
DTSTART:20260308T070000
END:DAYLIGHT
BEGIN:STANDARD
TZOFFSETFROM:-0400
TZOFFSETTO:-0500
TZNAME:EST
DTSTART:20261101T060000
END:STANDARD
BEGIN:DAYLIGHT
TZOFFSETFROM:-0500
TZOFFSETTO:-0400
TZNAME:EDT
DTSTART:20270314T070000
END:DAYLIGHT
BEGIN:STANDARD
TZOFFSETFROM:-0400
TZOFFSETTO:-0500
TZNAME:EST
DTSTART:20271107T060000
END:STANDARD
END:VTIMEZONE
BEGIN:VEVENT
DTSTART;TZID=America/Nassau:20260223T100000
DTEND;TZID=America/Nassau:20260223T170000
DTSTAMP:20260425T003003
CREATED:20260219T180822Z
LAST-MODIFIED:20260219T180822Z
UID:33597-1771840800-1771866000@www.industrialtribunal.bs
SUMMARY:Delvin McIntosh v Alarms Limited NP2023-134
DESCRIPTION:
URL:https://www.industrialtribunal.bs/event/delvin-mcintosh-v-alarms-limited-np2023-134-5/
CATEGORIES:Court 1
END:VEVENT
BEGIN:VEVENT
DTSTART;TZID=America/Nassau:20260223T100000
DTEND;TZID=America/Nassau:20260223T170000
DTSTAMP:20260425T003003
CREATED:20260219T180617Z
LAST-MODIFIED:20260219T180617Z
UID:33593-1771840800-1771866000@www.industrialtribunal.bs
SUMMARY:Levi Johnson v M.S.I NP2023-138
DESCRIPTION:
URL:https://www.industrialtribunal.bs/event/levi-johnson-v-m-s-i-np2023-138-4/
CATEGORIES:Court 1
END:VEVENT
BEGIN:VEVENT
DTSTART;TZID=America/Nassau:20260223T100000
DTEND;TZID=America/Nassau:20260223T170000
DTSTAMP:20260425T003003
CREATED:20260219T180522Z
LAST-MODIFIED:20260219T180522Z
UID:33591-1771840800-1771866000@www.industrialtribunal.bs
SUMMARY:Ashlyn Miller v Delta Airlines DAL Global Services NP2023-132
DESCRIPTION:
URL:https://www.industrialtribunal.bs/event/ashlyn-miller-v-delta-airlines-dal-global-services-np2023-132-3/
CATEGORIES:Court 1
END:VEVENT
BEGIN:VEVENT
DTSTART;TZID=America/Nassau:20260223T100000
DTEND;TZID=America/Nassau:20260223T170000
DTSTAMP:20260425T003003
CREATED:20260205T204002Z
LAST-MODIFIED:20260205T204002Z
UID:33528-1771840800-1771866000@www.industrialtribunal.bs
SUMMARY:Obrian Knowles v Nirvana Beach NP2025-009
DESCRIPTION:
URL:https://www.industrialtribunal.bs/event/obrian-knowles-v-nirvana-beach-np2025-009/
CATEGORIES:Court 1
END:VEVENT
BEGIN:VEVENT
DTSTART;TZID=America/Nassau:20260223T100000
DTEND;TZID=America/Nassau:20260223T170000
DTSTAMP:20260425T003003
CREATED:20260205T203903Z
LAST-MODIFIED:20260205T203903Z
UID:33526-1771840800-1771866000@www.industrialtribunal.bs
SUMMARY:Marvin Josey v Sunshine Cruises Nassau Limited Blue Illusions Samir Andrawos c/o Mackey and Moxey NP2024-007
DESCRIPTION:
URL:https://www.industrialtribunal.bs/event/marvin-josey-v-sunshine-cruises-nassau-limited-blue-illusions-samir-andrawos-c-o-mackey-and-moxey-np2024-007/
CATEGORIES:Court 1
END:VEVENT
BEGIN:VEVENT
DTSTART;TZID=America/Nassau:20260223T100000
DTEND;TZID=America/Nassau:20260223T170000
DTSTAMP:20260425T003003
CREATED:20260205T203729Z
LAST-MODIFIED:20260205T203729Z
UID:33524-1771840800-1771866000@www.industrialtribunal.bs
SUMMARY:Lynden Curtis v Baha Mar NP2023-125
DESCRIPTION:
URL:https://www.industrialtribunal.bs/event/lynden-curtis-v-baha-mar-np2023-125-3/
CATEGORIES:Court 1
END:VEVENT
BEGIN:VEVENT
DTSTART;TZID=America/Nassau:20260223T100000
DTEND;TZID=America/Nassau:20260223T170000
DTSTAMP:20260425T003003
CREATED:20260205T203636Z
LAST-MODIFIED:20260205T203636Z
UID:33522-1771840800-1771866000@www.industrialtribunal.bs
SUMMARY:Delvin McIntosh v Alarms Limited NP2023-134
DESCRIPTION:
URL:https://www.industrialtribunal.bs/event/delvin-mcintosh-v-alarms-limited-np2023-134-4/
CATEGORIES:Court 1
END:VEVENT
BEGIN:VEVENT
DTSTART;TZID=America/Nassau:20260223T100000
DTEND;TZID=America/Nassau:20260223T170000
DTSTAMP:20260425T003003
CREATED:20260205T203535Z
LAST-MODIFIED:20260205T203535Z
UID:33520-1771840800-1771866000@www.industrialtribunal.bs
SUMMARY:Emmaline Rodriquez v Shore Thing Escape NP2024-050
DESCRIPTION:
URL:https://www.industrialtribunal.bs/event/emmaline-rodriquez-v-shore-thing-escape-np2024-050-2/
CATEGORIES:Court 1
END:VEVENT
BEGIN:VEVENT
DTSTART;TZID=America/Nassau:20260223T100000
DTEND;TZID=America/Nassau:20260223T170000
DTSTAMP:20260425T003003
CREATED:20260205T203433Z
LAST-MODIFIED:20260205T203433Z
UID:33518-1771840800-1771866000@www.industrialtribunal.bs
SUMMARY:Levi Johnson v M.S.I NP2023-138
DESCRIPTION:
URL:https://www.industrialtribunal.bs/event/levi-johnson-v-m-s-i-np2023-138-3/
CATEGORIES:Court 1
END:VEVENT
BEGIN:VEVENT
DTSTART;TZID=America/Nassau:20260223T100000
DTEND;TZID=America/Nassau:20260223T170000
DTSTAMP:20260425T003003
CREATED:20260205T203328Z
LAST-MODIFIED:20260205T203328Z
UID:33516-1771840800-1771866000@www.industrialtribunal.bs
SUMMARY:Ashlyn Miller v Delta Airlines DAL Global Services NP2023-132
DESCRIPTION:
URL:https://www.industrialtribunal.bs/event/ashlyn-miller-v-delta-airlines-dal-global-services-np2023-132-2/
CATEGORIES:Court 1
END:VEVENT
BEGIN:VEVENT
DTSTART;TZID=America/Nassau:20251211T100000
DTEND;TZID=America/Nassau:20251211T170000
DTSTAMP:20260425T003003
CREATED:20251128T174154Z
LAST-MODIFIED:20251128T174154Z
UID:33252-1765447200-1765472400@www.industrialtribunal.bs
SUMMARY:Ellice Nesbitt- Hinsey v MF International T/A Diamonds International Limited NP2025-010
DESCRIPTION:
URL:https://www.industrialtribunal.bs/event/ellice-nesbitt-hinsey-v-mf-international-t-a-diamonds-international-limited-np2025-010/
CATEGORIES:Court 1
END:VEVENT
BEGIN:VEVENT
DTSTART;TZID=America/Nassau:20251211T100000
DTEND;TZID=America/Nassau:20251211T170000
DTSTAMP:20260425T003003
CREATED:20251128T174028Z
LAST-MODIFIED:20251128T174028Z
UID:33250-1765447200-1765472400@www.industrialtribunal.bs
SUMMARY:Leslie Ellis-Tynes v Scoops and Tingz Limited T/A Tipsy Scoop NP2025-125
DESCRIPTION:
URL:https://www.industrialtribunal.bs/event/leslie-ellis-tynes-v-scoops-and-tingz-limited-t-a-tipsy-scoop-np2025-125/
CATEGORIES:Court 1
END:VEVENT
BEGIN:VEVENT
DTSTART;TZID=America/Nassau:20251211T100000
DTEND;TZID=America/Nassau:20251211T170000
DTSTAMP:20260425T003003
CREATED:20251128T173917Z
LAST-MODIFIED:20251128T173917Z
UID:33248-1765447200-1765472400@www.industrialtribunal.bs
SUMMARY:Leonique Cooper v Wendy's (Head Off) NP2025-109
DESCRIPTION:
URL:https://www.industrialtribunal.bs/event/leonique-cooper-v-wendys-head-off-np2025-109/
CATEGORIES:Court 1
END:VEVENT
BEGIN:VEVENT
DTSTART;TZID=America/Nassau:20251211T100000
DTEND;TZID=America/Nassau:20251211T170000
DTSTAMP:20260425T003003
CREATED:20251128T173812Z
LAST-MODIFIED:20251128T173812Z
UID:33246-1765447200-1765472400@www.industrialtribunal.bs
SUMMARY:Carl Francis Brice v Unifi Aviation LLC Delta Airlines\, Jennifer Rosage NP2025-011
DESCRIPTION:
URL:https://www.industrialtribunal.bs/event/carl-francis-brice-v-unifi-aviation-llc-delta-airlines-jennifer-rosage-np2025-011/
CATEGORIES:Court 1
END:VEVENT
BEGIN:VEVENT
DTSTART;TZID=America/Nassau:20251211T100000
DTEND;TZID=America/Nassau:20251211T170000
DTSTAMP:20260425T003003
CREATED:20251128T173634Z
LAST-MODIFIED:20251128T173634Z
UID:33244-1765447200-1765472400@www.industrialtribunal.bs
SUMMARY:Eunicka Rolle v Halsbury Law Chambers NP2025-089
DESCRIPTION:
URL:https://www.industrialtribunal.bs/event/eunicka-rolle-v-halsbury-law-chambers-np2025-089-2/
CATEGORIES:Court 1
END:VEVENT
BEGIN:VEVENT
DTSTART;TZID=America/Nassau:20251211T100000
DTEND;TZID=America/Nassau:20251211T170000
DTSTAMP:20260425T003003
CREATED:20251128T173330Z
LAST-MODIFIED:20251128T173330Z
UID:33242-1765447200-1765472400@www.industrialtribunal.bs
SUMMARY:Caroline Thompson v SMG Millwork Limited NP2025-123
DESCRIPTION:
URL:https://www.industrialtribunal.bs/event/caroline-thompson-v-smg-millwork-limited-np2025-123/
CATEGORIES:Court 1
END:VEVENT
BEGIN:VEVENT
DTSTART;TZID=America/Nassau:20251211T100000
DTEND;TZID=America/Nassau:20251211T170000
DTSTAMP:20260425T003003
CREATED:20251128T173106Z
LAST-MODIFIED:20251128T173106Z
UID:33240-1765447200-1765472400@www.industrialtribunal.bs
SUMMARY:Glendique Forbes v LLVC Bahamas Limited (Goldwin Resort) NP2024-047
DESCRIPTION:
URL:https://www.industrialtribunal.bs/event/glendique-forbes-v-llvc-bahamas-limited-goldwin-resort-np2024-047/
CATEGORIES:Court 1
END:VEVENT
BEGIN:VEVENT
DTSTART;TZID=America/Nassau:20251211T100000
DTEND;TZID=America/Nassau:20251211T170000
DTSTAMP:20260425T003003
CREATED:20251128T172938Z
LAST-MODIFIED:20251128T172938Z
UID:33238-1765447200-1765472400@www.industrialtribunal.bs
SUMMARY:Antoinette Bain v Norman's Cay Resort NP2025-111
DESCRIPTION:
URL:https://www.industrialtribunal.bs/event/antoinette-bain-v-normans-cay-resort-np2025-111/
CATEGORIES:Court 1
END:VEVENT
BEGIN:VEVENT
DTSTART;TZID=America/Nassau:20251211T100000
DTEND;TZID=America/Nassau:20251211T170000
DTSTAMP:20260425T003003
CREATED:20251128T172846Z
LAST-MODIFIED:20251128T172846Z
UID:33236-1765447200-1765472400@www.industrialtribunal.bs
SUMMARY:Santino L. Gilbert v Ministry of Oral Health & Wellness NP2025-116
DESCRIPTION:
URL:https://www.industrialtribunal.bs/event/santino-l-gilbert-v-ministry-of-oral-health-wellness-np2025-116/
CATEGORIES:Court 1
END:VEVENT
BEGIN:VEVENT
DTSTART;TZID=America/Nassau:20251211T100000
DTEND;TZID=America/Nassau:20251211T170000
DTSTAMP:20260425T003003
CREATED:20251128T172745Z
LAST-MODIFIED:20251128T172745Z
UID:33234-1765447200-1765472400@www.industrialtribunal.bs
SUMMARY:Tovan Williams v Union of Public Officers NP2025-106
DESCRIPTION:
URL:https://www.industrialtribunal.bs/event/tovan-williams-v-union-of-public-officers-np2025-106/
CATEGORIES:Court 1
END:VEVENT
BEGIN:VEVENT
DTSTART;TZID=America/Nassau:20251211T100000
DTEND;TZID=America/Nassau:20251211T170000
DTSTAMP:20260425T003003
CREATED:20251128T172648Z
LAST-MODIFIED:20251128T172648Z
UID:33232-1765447200-1765472400@www.industrialtribunal.bs
SUMMARY:Shaddon Kelly v Union of Public Officers NP2025-105
DESCRIPTION:
URL:https://www.industrialtribunal.bs/event/shaddon-kelly-v-union-of-public-officers-np2025-105/
CATEGORIES:Court 1
END:VEVENT
BEGIN:VEVENT
DTSTART;TZID=America/Nassau:20251210T100000
DTEND;TZID=America/Nassau:20251210T170000
DTSTAMP:20260425T003003
CREATED:20251128T172523Z
LAST-MODIFIED:20251128T172523Z
UID:33230-1765360800-1765386000@www.industrialtribunal.bs
SUMMARY:Donavan Clarke v MWF Group Bahamas NP2025-114
DESCRIPTION:
URL:https://www.industrialtribunal.bs/event/donavan-clarke-v-mwf-group-bahamas-np2025-114/
CATEGORIES:Court 1
END:VEVENT
BEGIN:VEVENT
DTSTART;TZID=America/Nassau:20251210T100000
DTEND;TZID=America/Nassau:20251210T170000
DTSTAMP:20260425T003003
CREATED:20251128T172324Z
LAST-MODIFIED:20251128T172324Z
UID:33228-1765360800-1765386000@www.industrialtribunal.bs
SUMMARY:Angelize Alceus v Curry Guest House NP2025-112
DESCRIPTION:
URL:https://www.industrialtribunal.bs/event/angelize-alceus-v-curry-guest-house-np2025-112/
CATEGORIES:Court 1
END:VEVENT
BEGIN:VEVENT
DTSTART;TZID=America/Nassau:20251210T100000
DTEND;TZID=America/Nassau:20251210T170000
DTSTAMP:20260425T003003
CREATED:20251128T172218Z
LAST-MODIFIED:20251128T172218Z
UID:33226-1765360800-1765386000@www.industrialtribunal.bs
SUMMARY:Edward Rolle v Tiki Bikini Hut NP2025-108
DESCRIPTION:
URL:https://www.industrialtribunal.bs/event/edward-rolle-v-tiki-bikini-hut-np2025-108/
CATEGORIES:Court 1
END:VEVENT
BEGIN:VEVENT
DTSTART;TZID=America/Nassau:20251210T100000
DTEND;TZID=America/Nassau:20251210T170000
DTSTAMP:20260425T003003
CREATED:20251128T172119Z
LAST-MODIFIED:20251128T172119Z
UID:33224-1765360800-1765386000@www.industrialtribunal.bs
SUMMARY:Steffanio Knowles v Islandwide Cabling Consulting NP2025-121
DESCRIPTION:
URL:https://www.industrialtribunal.bs/event/steffanio-knowles-v-islandwide-cabling-consulting-np2025-121/
CATEGORIES:Court 1
END:VEVENT
BEGIN:VEVENT
DTSTART;TZID=America/Nassau:20251210T100000
DTEND;TZID=America/Nassau:20251210T170000
DTSTAMP:20260425T003003
CREATED:20251128T172018Z
LAST-MODIFIED:20251128T172018Z
UID:33222-1765360800-1765386000@www.industrialtribunal.bs
SUMMARY:Stephen Thompson v Blue Lagoon Island NP2025-124
DESCRIPTION:
URL:https://www.industrialtribunal.bs/event/stephen-thompson-v-blue-lagoon-island-np2025-124/
CATEGORIES:Court 1
END:VEVENT
BEGIN:VEVENT
DTSTART;TZID=America/Nassau:20251210T100000
DTEND;TZID=America/Nassau:20251210T170000
DTSTAMP:20260425T003003
CREATED:20251128T171918Z
LAST-MODIFIED:20251128T171918Z
UID:33220-1765360800-1765386000@www.industrialtribunal.bs
SUMMARY:Shannon Barnett v Cunningham Shores Limited NP2025-132
DESCRIPTION:
URL:https://www.industrialtribunal.bs/event/shannon-barnett-v-cunningham-shores-limited-np2025-132/
CATEGORIES:Court 1
END:VEVENT
BEGIN:VEVENT
DTSTART;TZID=America/Nassau:20251210T100000
DTEND;TZID=America/Nassau:20251210T170000
DTSTAMP:20260425T003003
CREATED:20251128T171806Z
LAST-MODIFIED:20251128T171806Z
UID:33218-1765360800-1765386000@www.industrialtribunal.bs
SUMMARY:Patrick Ferguson v Roof Tech Bahamas NP2025-118
DESCRIPTION:
URL:https://www.industrialtribunal.bs/event/patrick-ferguson-v-roof-tech-bahamas-np2025-118/
CATEGORIES:Court 1
END:VEVENT
BEGIN:VEVENT
DTSTART;TZID=America/Nassau:20251210T100000
DTEND;TZID=America/Nassau:20251210T170000
DTSTAMP:20260425T003003
CREATED:20251128T171703Z
LAST-MODIFIED:20251128T171703Z
UID:33216-1765360800-1765386000@www.industrialtribunal.bs
SUMMARY:Devonique Forbes v Monty's Beauty Supplies and Trinkets NP2025-115
DESCRIPTION:
URL:https://www.industrialtribunal.bs/event/devonique-forbes-v-montys-beauty-supplies-and-trinkets-np2025-115/
CATEGORIES:Court 1
END:VEVENT
BEGIN:VEVENT
DTSTART;TZID=America/Nassau:20251210T100000
DTEND;TZID=America/Nassau:20251210T170000
DTSTAMP:20260425T003003
CREATED:20251128T171544Z
LAST-MODIFIED:20251128T171544Z
UID:33214-1765360800-1765386000@www.industrialtribunal.bs
SUMMARY:Mary Hanna v Norman's Cay Development/NC Mac Duffs NP2025-113
DESCRIPTION:
URL:https://www.industrialtribunal.bs/event/mary-hanna-v-normans-cay-development-nc-mac-duffs-np2025-113/
CATEGORIES:Court 1
END:VEVENT
END:VCALENDAR