BEGIN:VCALENDAR
VERSION:2.0
PRODID:-//Bahamas Industrial Tribunal - ECPv6.15.20//NONSGML v1.0//EN
CALSCALE:GREGORIAN
METHOD:PUBLISH
X-WR-CALNAME:Bahamas Industrial Tribunal
X-ORIGINAL-URL:https://www.industrialtribunal.bs
X-WR-CALDESC:Events for Bahamas Industrial Tribunal
REFRESH-INTERVAL;VALUE=DURATION:PT1H
X-Robots-Tag:noindex
X-PUBLISHED-TTL:PT1H
BEGIN:VTIMEZONE
TZID:America/Nassau
BEGIN:DAYLIGHT
TZOFFSETFROM:-0500
TZOFFSETTO:-0400
TZNAME:EDT
DTSTART:20230312T070000
END:DAYLIGHT
BEGIN:STANDARD
TZOFFSETFROM:-0400
TZOFFSETTO:-0500
TZNAME:EST
DTSTART:20231105T060000
END:STANDARD
BEGIN:DAYLIGHT
TZOFFSETFROM:-0500
TZOFFSETTO:-0400
TZNAME:EDT
DTSTART:20240310T070000
END:DAYLIGHT
BEGIN:STANDARD
TZOFFSETFROM:-0400
TZOFFSETTO:-0500
TZNAME:EST
DTSTART:20241103T060000
END:STANDARD
BEGIN:DAYLIGHT
TZOFFSETFROM:-0500
TZOFFSETTO:-0400
TZNAME:EDT
DTSTART:20250309T070000
END:DAYLIGHT
BEGIN:STANDARD
TZOFFSETFROM:-0400
TZOFFSETTO:-0500
TZNAME:EST
DTSTART:20251102T060000
END:STANDARD
END:VTIMEZONE
BEGIN:VEVENT
DTSTART;TZID=America/Nassau:20241001T100000
DTEND;TZID=America/Nassau:20241001T170000
DTSTAMP:20260425T235128
CREATED:20241024T141122Z
LAST-MODIFIED:20241024T141122Z
UID:31496-1727776800-1727802000@www.industrialtribunal.bs
SUMMARY:Satara Pinder v Silver Airways LLC NR/NES/015/2024
DESCRIPTION:
URL:https://www.industrialtribunal.bs/event/satara-pinder-v-silver-airways-llc-nr-nes-015-2024/
LOCATION:Court 2 – Vice President Helen Almorales-Jones\, Suites 2 & 3 Freeport Insurance Center\, 21 B West Mall & Poinciana Dr.\, Freeport\, Grand Bahama\, Bahamas
CATEGORIES:Court 2
END:VEVENT
BEGIN:VEVENT
DTSTART;TZID=America/Nassau:20241002T100000
DTEND;TZID=America/Nassau:20241002T170000
DTSTAMP:20260425T235128
CREATED:20241024T141315Z
LAST-MODIFIED:20241024T141315Z
UID:31498-1727863200-1727888400@www.industrialtribunal.bs
SUMMARY:Tenisha Carey v BTI (Bahamas) Ltd.NR/NES/044/2024
DESCRIPTION:
URL:https://www.industrialtribunal.bs/event/tenisha-carey-v-bti-bahamas-ltd-nr-nes-044-2024/
LOCATION:Court 2 – Vice President Helen Almorales-Jones\, Suites 2 & 3 Freeport Insurance Center\, 21 B West Mall & Poinciana Dr.\, Freeport\, Grand Bahama\, Bahamas
CATEGORIES:Court 2
END:VEVENT
BEGIN:VEVENT
DTSTART;TZID=America/Nassau:20241003T100000
DTEND;TZID=America/Nassau:20241003T170000
DTSTAMP:20260425T235128
CREATED:20241024T141500Z
LAST-MODIFIED:20241024T141500Z
UID:31500-1727949600-1727974800@www.industrialtribunal.bs
SUMMARY:Daquan Swain v Fidelity Bank (Bahamas) Limited NR/NES/053/204
DESCRIPTION:
URL:https://www.industrialtribunal.bs/event/daquan-swain-v-fidelity-bank-bahamas-limited-nr-nes-053-204/
LOCATION:Court 2 – Vice President Helen Almorales-Jones\, Suites 2 & 3 Freeport Insurance Center\, 21 B West Mall & Poinciana Dr.\, Freeport\, Grand Bahama\, Bahamas
CATEGORIES:Court 2
END:VEVENT
BEGIN:VEVENT
DTSTART;TZID=America/Nassau:20241003T120000
DTEND;TZID=America/Nassau:20241003T170000
DTSTAMP:20260425T235128
CREATED:20241024T141646Z
LAST-MODIFIED:20241024T141646Z
UID:31502-1727956800-1727974800@www.industrialtribunal.bs
SUMMARY:Jasmin Newman-Mckinney v Silver Airways LLC NR/NES/019/2024
DESCRIPTION:
URL:https://www.industrialtribunal.bs/event/jasmin-newman-mckinney-v-silver-airways-llc-nr-nes-019-2024-6/
LOCATION:Court 2 – Vice President Helen Almorales-Jones\, Suites 2 & 3 Freeport Insurance Center\, 21 B West Mall & Poinciana Dr.\, Freeport\, Grand Bahama\, Bahamas
CATEGORIES:Court 2
END:VEVENT
BEGIN:VEVENT
DTSTART;TZID=America/Nassau:20241004T100000
DTEND;TZID=America/Nassau:20241004T170000
DTSTAMP:20260425T235128
CREATED:20241024T142306Z
LAST-MODIFIED:20241024T142306Z
UID:31504-1728036000-1728061200@www.industrialtribunal.bs
SUMMARY:Sharon Smith v Silver Airways LLC NR/NES/021/2024
DESCRIPTION:
URL:https://www.industrialtribunal.bs/event/sharon-smith-v-silver-airways-llc-nr-nes-021-2024-5/
LOCATION:Court 2 – Vice President Helen Almorales-Jones\, Suites 2 & 3 Freeport Insurance Center\, 21 B West Mall & Poinciana Dr.\, Freeport\, Grand Bahama\, Bahamas
CATEGORIES:Court 2
END:VEVENT
BEGIN:VEVENT
DTSTART;TZID=America/Nassau:20241007T100000
DTEND;TZID=America/Nassau:20241007T170000
DTSTAMP:20260425T235128
CREATED:20241024T142457Z
LAST-MODIFIED:20241024T142457Z
UID:31506-1728295200-1728320400@www.industrialtribunal.bs
SUMMARY:Santiago Onesimo Juarez-Loayza v Victor International Peru Inc NR/NES/050/2024
DESCRIPTION:
URL:https://www.industrialtribunal.bs/event/santiago-onesimo-juarez-loayza-v-victor-international-peru-inc-nr-nes-050-2024/
LOCATION:Court 2 – Vice President Helen Almorales-Jones\, Suites 2 & 3 Freeport Insurance Center\, 21 B West Mall & Poinciana Dr.\, Freeport\, Grand Bahama\, Bahamas
CATEGORIES:Court 2
END:VEVENT
BEGIN:VEVENT
DTSTART;TZID=America/Nassau:20241007T100000
DTEND;TZID=America/Nassau:20241007T170000
DTSTAMP:20260425T235128
CREATED:20241024T142630Z
LAST-MODIFIED:20241024T142630Z
UID:31508-1728295200-1728320400@www.industrialtribunal.bs
SUMMARY:Santiago Onesimo Jurarez -Loayza v Grand Bahama Shipyard Ltd NR/NES/051/2024
DESCRIPTION:
URL:https://www.industrialtribunal.bs/event/santiago-onesimo-jurarez-loayza-v-grand-bahama-shipyard-ltd-nr-nes-051-2024/
LOCATION:Court 2 – Vice President Helen Almorales-Jones\, Suites 2 & 3 Freeport Insurance Center\, 21 B West Mall & Poinciana Dr.\, Freeport\, Grand Bahama\, Bahamas
CATEGORIES:Court 2
END:VEVENT
BEGIN:VEVENT
DTSTART;TZID=America/Nassau:20241007T130000
DTEND;TZID=America/Nassau:20241007T170000
DTSTAMP:20260425T235128
CREATED:20241024T143113Z
LAST-MODIFIED:20241024T143113Z
UID:31510-1728306000-1728320400@www.industrialtribunal.bs
SUMMARY:Julisya Rolle v Kelafo Collie Co Ltd.t/a The Health Centre NR/NES/033/2024
DESCRIPTION:
URL:https://www.industrialtribunal.bs/event/julisya-rolle-v-kelafo-collie-co-ltd-t-a-the-health-centre-nr-nes-033-2024-3/
LOCATION:Court 2 – Vice President Helen Almorales-Jones\, Suites 2 & 3 Freeport Insurance Center\, 21 B West Mall & Poinciana Dr.\, Freeport\, Grand Bahama\, Bahamas
CATEGORIES:Court 2
END:VEVENT
BEGIN:VEVENT
DTSTART;TZID=America/Nassau:20241015T100000
DTEND;TZID=America/Nassau:20241015T170000
DTSTAMP:20260425T235128
CREATED:20241024T143340Z
LAST-MODIFIED:20241024T143340Z
UID:31512-1728986400-1729011600@www.industrialtribunal.bs
SUMMARY:Shavon Malakius -Dean v Disaster Reconstruction Authority NR/NES/009/2024
DESCRIPTION:
URL:https://www.industrialtribunal.bs/event/shavon-malakius-dean-v-disaster-reconstruction-authority-nr-nes-009-2024-5/
LOCATION:Court 2 – Vice President Helen Almorales-Jones\, Suites 2 & 3 Freeport Insurance Center\, 21 B West Mall & Poinciana Dr.\, Freeport\, Grand Bahama\, Bahamas
CATEGORIES:Court 2
END:VEVENT
BEGIN:VEVENT
DTSTART;TZID=America/Nassau:20241015T100000
DTEND;TZID=America/Nassau:20241015T170000
DTSTAMP:20260425T235128
CREATED:20241024T143914Z
LAST-MODIFIED:20241024T143914Z
UID:31514-1728986400-1729011600@www.industrialtribunal.bs
SUMMARY:Santana Pinder v Grand Sun Investments Limited NR/NES/003/2024
DESCRIPTION:
URL:https://www.industrialtribunal.bs/event/santana-pinder-v-grand-sun-investments-limited-nr-nes-003-2024-2/
LOCATION:Court 2 – Vice President Helen Almorales-Jones\, Suites 2 & 3 Freeport Insurance Center\, 21 B West Mall & Poinciana Dr.\, Freeport\, Grand Bahama\, Bahamas
CATEGORIES:Court 2
END:VEVENT
BEGIN:VEVENT
DTSTART;TZID=America/Nassau:20241016T100000
DTEND;TZID=America/Nassau:20241016T170000
DTSTAMP:20260425T235128
CREATED:20241024T144212Z
LAST-MODIFIED:20241024T144212Z
UID:31516-1729072800-1729098000@www.industrialtribunal.bs
SUMMARY:Di'Andrea Rolle-Dean v Jarol Investment Ltd. t/a Chances NR/NES/023/2024
DESCRIPTION:
URL:https://www.industrialtribunal.bs/event/diandrea-rolle-dean-v-jarol-investment-ltd-t-a-chances-nr-nes-023-2024/
LOCATION:Court 2 – Vice President Helen Almorales-Jones\, Suites 2 & 3 Freeport Insurance Center\, 21 B West Mall & Poinciana Dr.\, Freeport\, Grand Bahama\, Bahamas
CATEGORIES:Court 2
END:VEVENT
BEGIN:VEVENT
DTSTART;TZID=America/Nassau:20241017T100000
DTEND;TZID=America/Nassau:20241017T170000
DTSTAMP:20260425T235128
CREATED:20241024T144433Z
LAST-MODIFIED:20241024T144433Z
UID:31518-1729159200-1729184400@www.industrialtribunal.bs
SUMMARY:Di'Andrea Rolle-Dean v Jarol Investment Ltd t/a Chances NR/NES/023/2024
DESCRIPTION:
URL:https://www.industrialtribunal.bs/event/diandrea-rolle-dean-v-jarol-investment-ltd-t-a-chances-nr-nes-023-2024-2/
LOCATION:Court 2 – Vice President Helen Almorales-Jones\, Suites 2 & 3 Freeport Insurance Center\, 21 B West Mall & Poinciana Dr.\, Freeport\, Grand Bahama\, Bahamas
CATEGORIES:Court 2
END:VEVENT
BEGIN:VEVENT
DTSTART;TZID=America/Nassau:20241021T100000
DTEND;TZID=America/Nassau:20241021T170000
DTSTAMP:20260425T235128
CREATED:20241024T144615Z
LAST-MODIFIED:20241024T144615Z
UID:31520-1729504800-1729530000@www.industrialtribunal.bs
SUMMARY:Gregory Wilson v Outback Steakhouse (Island Bloom Limited) NP/NES/095/2022
DESCRIPTION:
URL:https://www.industrialtribunal.bs/event/gregory-wilson-v-outback-steakhouse-island-bloom-limited-np-nes-095-2022/
LOCATION:Court 2 – Vice President Helen Almorales-Jones\, Suites 2 & 3 Freeport Insurance Center\, 21 B West Mall & Poinciana Dr.\, Freeport\, Grand Bahama\, Bahamas
CATEGORIES:Court 2
END:VEVENT
BEGIN:VEVENT
DTSTART;TZID=America/Nassau:20241021T100000
DTEND;TZID=America/Nassau:20241021T170000
DTSTAMP:20260425T235128
CREATED:20241024T144752Z
LAST-MODIFIED:20241024T144752Z
UID:31522-1729504800-1729530000@www.industrialtribunal.bs
SUMMARY:Calpurina McPhee v Island Bloom Limited t/a Outback Steakhouse NP/NES/098/2022
DESCRIPTION:
URL:https://www.industrialtribunal.bs/event/calpurina-mcphee-v-island-bloom-limited-t-a-outback-steakhouse-np-nes-098-2022/
LOCATION:Court 2 – Vice President Helen Almorales-Jones\, Suites 2 & 3 Freeport Insurance Center\, 21 B West Mall & Poinciana Dr.\, Freeport\, Grand Bahama\, Bahamas
CATEGORIES:Court 2
END:VEVENT
BEGIN:VEVENT
DTSTART;TZID=America/Nassau:20241021T100000
DTEND;TZID=America/Nassau:20241021T170000
DTSTAMP:20260425T235128
CREATED:20241024T145935Z
LAST-MODIFIED:20241024T145935Z
UID:31524-1729504800-1729530000@www.industrialtribunal.bs
SUMMARY:Allyson Farquharson v Island Bloom Limited t/a Outback Steakhouse NR/NES/099/2022
DESCRIPTION:
URL:https://www.industrialtribunal.bs/event/allyson-farquharson-v-island-bloom-limited-t-a-outback-steakhouse-nr-nes-099-2022/
LOCATION:Court 2 – Vice President Helen Almorales-Jones\, Suites 2 & 3 Freeport Insurance Center\, 21 B West Mall & Poinciana Dr.\, Freeport\, Grand Bahama\, Bahamas
CATEGORIES:Court 2
END:VEVENT
BEGIN:VEVENT
DTSTART;TZID=America/Nassau:20241021T100000
DTEND;TZID=America/Nassau:20241021T170000
DTSTAMP:20260425T235128
CREATED:20241024T150116Z
LAST-MODIFIED:20241024T150116Z
UID:31526-1729504800-1729530000@www.industrialtribunal.bs
SUMMARY:La'paige Tynes v Outback Steakhouse (Island Bloom Limited) NP/NES/100/2022
DESCRIPTION:
URL:https://www.industrialtribunal.bs/event/lapaige-tynes-v-outback-steakhouse-island-bloom-limited-np-nes-100-2022/
LOCATION:Court 2 – Vice President Helen Almorales-Jones\, Suites 2 & 3 Freeport Insurance Center\, 21 B West Mall & Poinciana Dr.\, Freeport\, Grand Bahama\, Bahamas
CATEGORIES:Court 2
END:VEVENT
BEGIN:VEVENT
DTSTART;TZID=America/Nassau:20241021T100000
DTEND;TZID=America/Nassau:20241021T170000
DTSTAMP:20260425T235128
CREATED:20241024T150359Z
LAST-MODIFIED:20241024T150359Z
UID:31528-1729504800-1729530000@www.industrialtribunal.bs
SUMMARY:Neil Whyms v Island Bloom Limited t/a Outback Steakhouse NP/NES/102/2022
DESCRIPTION:
URL:https://www.industrialtribunal.bs/event/neil-whyms-v-island-bloom-limited-t-a-outback-steakhouse-np-nes-102-2022/
LOCATION:Court 2 – Vice President Helen Almorales-Jones\, Suites 2 & 3 Freeport Insurance Center\, 21 B West Mall & Poinciana Dr.\, Freeport\, Grand Bahama\, Bahamas
CATEGORIES:Court 2
END:VEVENT
BEGIN:VEVENT
DTSTART;TZID=America/Nassau:20241021T100000
DTEND;TZID=America/Nassau:20241021T170000
DTSTAMP:20260425T235128
CREATED:20241024T153528Z
LAST-MODIFIED:20241024T153528Z
UID:31530-1729504800-1729530000@www.industrialtribunal.bs
SUMMARY:Tanielle Whyms v Silver Airways LLC NR/NES/036/2024
DESCRIPTION:
URL:https://www.industrialtribunal.bs/event/tanielle-whyms-v-silver-airways-llc-nr-nes-036-2024/
LOCATION:Court 2 – Vice President Helen Almorales-Jones\, Suites 2 & 3 Freeport Insurance Center\, 21 B West Mall & Poinciana Dr.\, Freeport\, Grand Bahama\, Bahamas
CATEGORIES:Court 2
END:VEVENT
BEGIN:VEVENT
DTSTART;TZID=America/Nassau:20241021T100000
DTEND;TZID=America/Nassau:20241021T170000
DTSTAMP:20260425T235128
CREATED:20241024T153850Z
LAST-MODIFIED:20241024T153850Z
UID:31532-1729504800-1729530000@www.industrialtribunal.bs
SUMMARY:Nicholas Mendez v Universal System & Security Service Ltd NR/NES/048/2024
DESCRIPTION:
URL:https://www.industrialtribunal.bs/event/nicholas-mendez-v-universal-system-security-service-ltd-nr-nes-048-2024/
LOCATION:Court 2 – Vice President Helen Almorales-Jones\, Suites 2 & 3 Freeport Insurance Center\, 21 B West Mall & Poinciana Dr.\, Freeport\, Grand Bahama\, Bahamas
CATEGORIES:Court 2
END:VEVENT
BEGIN:VEVENT
DTSTART;TZID=America/Nassau:20241021T100000
DTEND;TZID=America/Nassau:20241021T170000
DTSTAMP:20260425T235128
CREATED:20241024T155128Z
LAST-MODIFIED:20241024T155128Z
UID:31536-1729504800-1729530000@www.industrialtribunal.bs
SUMMARY:Godfrey Nairn Jr v Senor Frogs NR/NES/055/2024
DESCRIPTION:
URL:https://www.industrialtribunal.bs/event/godfrey-nairn-jr-v-senor-frogs-nr-nes-055-2024/
LOCATION:Court 2 – Vice President Helen Almorales-Jones\, Suites 2 & 3 Freeport Insurance Center\, 21 B West Mall & Poinciana Dr.\, Freeport\, Grand Bahama\, Bahamas
CATEGORIES:Court 2
END:VEVENT
BEGIN:VEVENT
DTSTART;TZID=America/Nassau:20241021T100000
DTEND;TZID=America/Nassau:20241021T170000
DTSTAMP:20260425T235128
CREATED:20241024T155631Z
LAST-MODIFIED:20241024T155631Z
UID:31538-1729504800-1729530000@www.industrialtribunal.bs
SUMMARY:Craig Laing v Preventative Services NR/NES/040/2024
DESCRIPTION:
URL:https://www.industrialtribunal.bs/event/craig-laing-v-preventative-services-nr-nes-040-2024/
LOCATION:Court 2 – Vice President Helen Almorales-Jones\, Suites 2 & 3 Freeport Insurance Center\, 21 B West Mall & Poinciana Dr.\, Freeport\, Grand Bahama\, Bahamas
CATEGORIES:Court 2
END:VEVENT
BEGIN:VEVENT
DTSTART;TZID=America/Nassau:20241022T140000
DTEND;TZID=America/Nassau:20241022T170000
DTSTAMP:20260425T235128
CREATED:20241024T155835Z
LAST-MODIFIED:20241024T155835Z
UID:31540-1729605600-1729616400@www.industrialtribunal.bs
SUMMARY:Shavon Malakius -Dean v Disaster Reconstruction Authority NR/NES/009/2024
DESCRIPTION:
URL:https://www.industrialtribunal.bs/event/shavon-malakius-dean-v-disaster-reconstruction-authority-nr-nes-009-2024-6/
LOCATION:Court 2 – Vice President Helen Almorales-Jones\, Suites 2 & 3 Freeport Insurance Center\, 21 B West Mall & Poinciana Dr.\, Freeport\, Grand Bahama\, Bahamas
CATEGORIES:Court 2
END:VEVENT
BEGIN:VEVENT
DTSTART;TZID=America/Nassau:20241024T100000
DTEND;TZID=America/Nassau:20241024T170000
DTSTAMP:20260425T235128
CREATED:20241024T154547Z
LAST-MODIFIED:20241024T154547Z
UID:31534-1729764000-1729789200@www.industrialtribunal.bs
SUMMARY:Kathleen Ganesta Wells v Mark Smith & Kimeo McIntosh t/a Dominion Technical School/Vanena C. Smtih Academy NR/NES/052/2024
DESCRIPTION:
URL:https://www.industrialtribunal.bs/event/kathleen-ganesta-wells-v-mark-smith-kimeo-mcintosh-t-a-dominion-technical-school-vanena-c-smtih-academy-nr-nes-052-2024/
LOCATION:Court 2 – Vice President Helen Almorales-Jones\, Suites 2 & 3 Freeport Insurance Center\, 21 B West Mall & Poinciana Dr.\, Freeport\, Grand Bahama\, Bahamas
CATEGORIES:Court 2
END:VEVENT
BEGIN:VEVENT
DTSTART;TZID=America/Nassau:20241024T100000
DTEND;TZID=America/Nassau:20241024T170000
DTSTAMP:20260425T235128
CREATED:20241024T160003Z
LAST-MODIFIED:20241024T160003Z
UID:31542-1729764000-1729789200@www.industrialtribunal.bs
SUMMARY:Alvintino Sweeting v Ocean Cay (Royal Caribbean Cruiseline) NR/NES/049/2024
DESCRIPTION:
URL:https://www.industrialtribunal.bs/event/alvintino-sweeting-v-ocean-cay-royal-caribbean-cruiseline-nr-nes-049-2024/
LOCATION:Court 2 – Vice President Helen Almorales-Jones\, Suites 2 & 3 Freeport Insurance Center\, 21 B West Mall & Poinciana Dr.\, Freeport\, Grand Bahama\, Bahamas
CATEGORIES:Court 2
END:VEVENT
BEGIN:VEVENT
DTSTART;TZID=America/Nassau:20241024T120000
DTEND;TZID=America/Nassau:20241024T170000
DTSTAMP:20260425T235128
CREATED:20241024T160138Z
LAST-MODIFIED:20241024T160138Z
UID:31544-1729771200-1729789200@www.industrialtribunal.bs
SUMMARY:Kaylyn Stuart v Arawak Service Industries Company Limited NR/NES/059/2024
DESCRIPTION:
URL:https://www.industrialtribunal.bs/event/kaylyn-stuart-v-arawak-service-industries-company-limited-nr-nes-059-2024/
LOCATION:Court 2 – Vice President Helen Almorales-Jones\, Suites 2 & 3 Freeport Insurance Center\, 21 B West Mall & Poinciana Dr.\, Freeport\, Grand Bahama\, Bahamas
CATEGORIES:Court 2
END:VEVENT
BEGIN:VEVENT
DTSTART;TZID=America/Nassau:20241025T100000
DTEND;TZID=America/Nassau:20241025T170000
DTSTAMP:20260425T235128
CREATED:20241024T160412Z
LAST-MODIFIED:20241024T160412Z
UID:31546-1729850400-1729875600@www.industrialtribunal.bs
SUMMARY:Ladyaneka Carnetta Jones -Wright v Kidney Centre Limited NR/NES/058/2024
DESCRIPTION:
URL:https://www.industrialtribunal.bs/event/ladyaneka-carnetta-jones-wright-v-kidney-centre-limited-nr-nes-058-2024/
LOCATION:Court 2 – Vice President Helen Almorales-Jones\, Suites 2 & 3 Freeport Insurance Center\, 21 B West Mall & Poinciana Dr.\, Freeport\, Grand Bahama\, Bahamas
CATEGORIES:Court 2
END:VEVENT
BEGIN:VEVENT
DTSTART;TZID=America/Nassau:20241028T100000
DTEND;TZID=America/Nassau:20241028T170000
DTSTAMP:20260425T235128
CREATED:20241024T160550Z
LAST-MODIFIED:20241024T160550Z
UID:31548-1730109600-1730134800@www.industrialtribunal.bs
SUMMARY:Tameka Edwena Sturrup v Albury's Freeport Ltd t/a Carquest Freeport NR/NES/054/2024
DESCRIPTION:
URL:https://www.industrialtribunal.bs/event/tameka-edwena-sturrup-v-alburys-freeport-ltd-t-a-carquest-freeport-nr-nes-054-2024/
LOCATION:Court 2 – Vice President Helen Almorales-Jones\, Suites 2 & 3 Freeport Insurance Center\, 21 B West Mall & Poinciana Dr.\, Freeport\, Grand Bahama\, Bahamas
CATEGORIES:Court 2
END:VEVENT
BEGIN:VEVENT
DTSTART;TZID=America/Nassau:20241028T100000
DTEND;TZID=America/Nassau:20241028T170000
DTSTAMP:20260425T235128
CREATED:20241024T160911Z
LAST-MODIFIED:20241024T160911Z
UID:31550-1730109600-1730134800@www.industrialtribunal.bs
SUMMARY:Andrew Brennen Jr v Albury's Freeport Ltd. t/a Carquest Freeport NR/NES/056/2024
DESCRIPTION:
URL:https://www.industrialtribunal.bs/event/andrew-brennen-jr-v-alburys-freeport-ltd-t-a-carquest-freeport-nr-nes-056-2024/
LOCATION:Court 2 – Vice President Helen Almorales-Jones\, Suites 2 & 3 Freeport Insurance Center\, 21 B West Mall & Poinciana Dr.\, Freeport\, Grand Bahama\, Bahamas
CATEGORIES:Court 2
END:VEVENT
BEGIN:VEVENT
DTSTART;TZID=America/Nassau:20241029T100000
DTEND;TZID=America/Nassau:20241029T170000
DTSTAMP:20260425T235128
CREATED:20241024T161038Z
LAST-MODIFIED:20241024T161038Z
UID:31552-1730196000-1730221200@www.industrialtribunal.bs
SUMMARY:Devin Winder v Starfish Construction Limited NR/NES/035/2024
DESCRIPTION:
URL:https://www.industrialtribunal.bs/event/devin-winder-v-starfish-construction-limited-nr-nes-035-2024-3/
LOCATION:Court 2 – Vice President Helen Almorales-Jones\, Suites 2 & 3 Freeport Insurance Center\, 21 B West Mall & Poinciana Dr.\, Freeport\, Grand Bahama\, Bahamas
CATEGORIES:Court 2
END:VEVENT
BEGIN:VEVENT
DTSTART;TZID=America/Nassau:20241030T100000
DTEND;TZID=America/Nassau:20241030T170000
DTSTAMP:20260425T235128
CREATED:20241024T161156Z
LAST-MODIFIED:20241024T161156Z
UID:31554-1730282400-1730307600@www.industrialtribunal.bs
SUMMARY:Devin Winder v Starfish Construction Limited NR/NES/035/2024
DESCRIPTION:
URL:https://www.industrialtribunal.bs/event/devin-winder-v-starfish-construction-limited-nr-nes-035-2024-4/
LOCATION:Court 2 – Vice President Helen Almorales-Jones\, Suites 2 & 3 Freeport Insurance Center\, 21 B West Mall & Poinciana Dr.\, Freeport\, Grand Bahama\, Bahamas
CATEGORIES:Court 2
END:VEVENT
END:VCALENDAR