BEGIN:VCALENDAR
VERSION:2.0
PRODID:-//Bahamas Industrial Tribunal - ECPv6.15.20//NONSGML v1.0//EN
CALSCALE:GREGORIAN
METHOD:PUBLISH
X-ORIGINAL-URL:https://www.industrialtribunal.bs
X-WR-CALDESC:Events for Bahamas Industrial Tribunal
REFRESH-INTERVAL;VALUE=DURATION:PT1H
X-Robots-Tag:noindex
X-PUBLISHED-TTL:PT1H
BEGIN:VTIMEZONE
TZID:America/Nassau
BEGIN:DAYLIGHT
TZOFFSETFROM:-0500
TZOFFSETTO:-0400
TZNAME:EDT
DTSTART:20240310T070000
END:DAYLIGHT
BEGIN:STANDARD
TZOFFSETFROM:-0400
TZOFFSETTO:-0500
TZNAME:EST
DTSTART:20241103T060000
END:STANDARD
BEGIN:DAYLIGHT
TZOFFSETFROM:-0500
TZOFFSETTO:-0400
TZNAME:EDT
DTSTART:20250309T070000
END:DAYLIGHT
BEGIN:STANDARD
TZOFFSETFROM:-0400
TZOFFSETTO:-0500
TZNAME:EST
DTSTART:20251102T060000
END:STANDARD
BEGIN:DAYLIGHT
TZOFFSETFROM:-0500
TZOFFSETTO:-0400
TZNAME:EDT
DTSTART:20260308T070000
END:DAYLIGHT
BEGIN:STANDARD
TZOFFSETFROM:-0400
TZOFFSETTO:-0500
TZNAME:EST
DTSTART:20261101T060000
END:STANDARD
END:VTIMEZONE
BEGIN:VEVENT
DTSTART;TZID=America/Nassau:20250116T100000
DTEND;TZID=America/Nassau:20250116T170000
DTSTAMP:20260425T184641
CREATED:20241210T173301Z
LAST-MODIFIED:20241210T173301Z
UID:31874-1737021600-1737046800@www.industrialtribunal.bs
SUMMARY:Santiago Onesimo Juarez Loayza v Grand Bahama Shipyard Ltd NR/NES/051/2024
DESCRIPTION:
URL:https://www.industrialtribunal.bs/event/santiago-onesimo-juarez-loayza-v-grand-bahama-shipyard-ltd-nr-nes-051-2024/
LOCATION:Court 2 – Vice President Helen Almorales-Jones\, Suites 2 & 3 Freeport Insurance Center\, 21 B West Mall & Poinciana Dr.\, Freeport\, Grand Bahama\, Bahamas
CATEGORIES:Court 2
END:VEVENT
BEGIN:VEVENT
DTSTART;TZID=America/Nassau:20250116T100000
DTEND;TZID=America/Nassau:20250116T170000
DTSTAMP:20260425T184641
CREATED:20241210T175534Z
LAST-MODIFIED:20241210T175534Z
UID:31892-1737021600-1737046800@www.industrialtribunal.bs
SUMMARY:Santiago Onesimo Juarez Loayza v Victor International Peru Inc. NR/NES/050/2024
DESCRIPTION:
URL:https://www.industrialtribunal.bs/event/santiago-onesimo-juarez-loayza-v-victor-international-peru-inc-nr-nes-050-2024-2/
LOCATION:Court 2 – Vice President Helen Almorales-Jones\, Suites 2 & 3 Freeport Insurance Center\, 21 B West Mall & Poinciana Dr.\, Freeport\, Grand Bahama\, Bahamas
CATEGORIES:Court 2
END:VEVENT
BEGIN:VEVENT
DTSTART;TZID=America/Nassau:20250117T100000
DTEND;TZID=America/Nassau:20250117T170000
DTSTAMP:20260425T184641
CREATED:20241210T173528Z
LAST-MODIFIED:20241210T173528Z
UID:31876-1737108000-1737133200@www.industrialtribunal.bs
SUMMARY:Santiago Onesimo Juarez Loayza v Victor International Peru Inc NR/NES/050/2024
DESCRIPTION:
URL:https://www.industrialtribunal.bs/event/santiago-onesimo-juarez-loayza-v-victor-international-peru-inc-nr-nes-050-2024-3/
LOCATION:Court 2 – Vice President Helen Almorales-Jones\, Suites 2 & 3 Freeport Insurance Center\, 21 B West Mall & Poinciana Dr.\, Freeport\, Grand Bahama\, Bahamas
CATEGORIES:Court 2
END:VEVENT
BEGIN:VEVENT
DTSTART;TZID=America/Nassau:20250120T100000
DTEND;TZID=America/Nassau:20250120T170000
DTSTAMP:20260425T184641
CREATED:20241210T173851Z
LAST-MODIFIED:20241210T173851Z
UID:31878-1737367200-1737392400@www.industrialtribunal.bs
SUMMARY:Alvintino Sweeting v MSC Ocean Cay Limited NR/NES/049/2024
DESCRIPTION:
URL:https://www.industrialtribunal.bs/event/alvintino-sweeting-v-msc-ocean-cay-limited-nr-nes-049-2024/
LOCATION:Court 2 – Vice President Helen Almorales-Jones\, Suites 2 & 3 Freeport Insurance Center\, 21 B West Mall & Poinciana Dr.\, Freeport\, Grand Bahama\, Bahamas
CATEGORIES:Court 2
END:VEVENT
BEGIN:VEVENT
DTSTART;TZID=America/Nassau:20250121T100000
DTEND;TZID=America/Nassau:20250121T170000
DTSTAMP:20260425T184641
CREATED:20241210T174040Z
LAST-MODIFIED:20241210T174040Z
UID:31880-1737453600-1737478800@www.industrialtribunal.bs
SUMMARY:Alvintino Sweeting v MSC Ocean Cay Limited NR/NES/049/2024
DESCRIPTION:
URL:https://www.industrialtribunal.bs/event/alvintino-sweeting-v-msc-ocean-cay-limited-nr-nes-049-2024-2/
LOCATION:Court 2 – Vice President Helen Almorales-Jones\, Suites 2 & 3 Freeport Insurance Center\, 21 B West Mall & Poinciana Dr.\, Freeport\, Grand Bahama\, Bahamas
CATEGORIES:Court 2
END:VEVENT
BEGIN:VEVENT
DTSTART;TZID=America/Nassau:20250123T100000
DTEND;TZID=America/Nassau:20250123T170000
DTSTAMP:20260425T184641
CREATED:20241210T174619Z
LAST-MODIFIED:20241210T174619Z
UID:31882-1737626400-1737651600@www.industrialtribunal.bs
SUMMARY:Asher Russell v DCL Island Development Ltd NR/NES/060/2024
DESCRIPTION:
URL:https://www.industrialtribunal.bs/event/asher-russell-v-dcl-island-development-ltd-nr-nes-060-2024/
LOCATION:Court 2 – Vice President Helen Almorales-Jones\, Suites 2 & 3 Freeport Insurance Center\, 21 B West Mall & Poinciana Dr.\, Freeport\, Grand Bahama\, Bahamas
CATEGORIES:Court 2
END:VEVENT
BEGIN:VEVENT
DTSTART;TZID=America/Nassau:20250127T100000
DTEND;TZID=America/Nassau:20250127T170000
DTSTAMP:20260425T184641
CREATED:20241210T174736Z
LAST-MODIFIED:20241210T174736Z
UID:31884-1737972000-1737997200@www.industrialtribunal.bs
SUMMARY:Simon Lewis v Albury's Freeport Ltd. t/a Carquest Freeport NR/NES/066/2024
DESCRIPTION:
URL:https://www.industrialtribunal.bs/event/simon-lewis-v-alburys-freeport-ltd-t-a-carquest-freeport-nr-nes-066-2024-2/
LOCATION:Court 2 – Vice President Helen Almorales-Jones\, Suites 2 & 3 Freeport Insurance Center\, 21 B West Mall & Poinciana Dr.\, Freeport\, Grand Bahama\, Bahamas
CATEGORIES:Court 2
END:VEVENT
BEGIN:VEVENT
DTSTART;TZID=America/Nassau:20250128T100000
DTEND;TZID=America/Nassau:20250128T170000
DTSTAMP:20260425T184641
CREATED:20241210T174913Z
LAST-MODIFIED:20241210T174913Z
UID:31886-1738058400-1738083600@www.industrialtribunal.bs
SUMMARY:Tameka Edwena Sturrup v Albury's Freeport Ltd. t/a Carquest
DESCRIPTION:
URL:https://www.industrialtribunal.bs/event/tameka-edwena-sturrup-v-alburys-freeport-ltd-t-a-carquest/
LOCATION:Court 2 – Vice President Helen Almorales-Jones\, Suites 2 & 3 Freeport Insurance Center\, 21 B West Mall & Poinciana Dr.\, Freeport\, Grand Bahama\, Bahamas
CATEGORIES:Court 2
END:VEVENT
BEGIN:VEVENT
DTSTART;TZID=America/Nassau:20250129T100000
DTEND;TZID=America/Nassau:20250129T170000
DTSTAMP:20260425T184641
CREATED:20241210T175033Z
LAST-MODIFIED:20241210T175033Z
UID:31888-1738144800-1738170000@www.industrialtribunal.bs
SUMMARY:Tameka Edwena Sturrup v Albury's Freeport Ltd t/a Carquest
DESCRIPTION:
URL:https://www.industrialtribunal.bs/event/tameka-edwena-sturrup-v-alburys-freeport-ltd-t-a-carquest-2/
LOCATION:Court 2 – Vice President Helen Almorales-Jones\, Suites 2 & 3 Freeport Insurance Center\, 21 B West Mall & Poinciana Dr.\, Freeport\, Grand Bahama\, Bahamas
CATEGORIES:Court 2
END:VEVENT
BEGIN:VEVENT
DTSTART;TZID=America/Nassau:20250131T100000
DTEND;TZID=America/Nassau:20250131T170000
DTSTAMP:20260425T184641
CREATED:20241210T175144Z
LAST-MODIFIED:20241210T175144Z
UID:31890-1738317600-1738342800@www.industrialtribunal.bs
SUMMARY:Satara Pinder v Silver Airways LLC NR/NES/021/2024
DESCRIPTION:
URL:https://www.industrialtribunal.bs/event/satara-pinder-v-silver-airways-llc-nr-nes-021-2024/
LOCATION:Court 2 – Vice President Helen Almorales-Jones\, Suites 2 & 3 Freeport Insurance Center\, 21 B West Mall & Poinciana Dr.\, Freeport\, Grand Bahama\, Bahamas
CATEGORIES:Court 2
END:VEVENT
END:VCALENDAR