BEGIN:VCALENDAR
VERSION:2.0
PRODID:-//Bahamas Industrial Tribunal - ECPv6.15.20//NONSGML v1.0//EN
CALSCALE:GREGORIAN
METHOD:PUBLISH
X-ORIGINAL-URL:https://www.industrialtribunal.bs
X-WR-CALDESC:Events for Bahamas Industrial Tribunal
REFRESH-INTERVAL;VALUE=DURATION:PT1H
X-Robots-Tag:noindex
X-PUBLISHED-TTL:PT1H
BEGIN:VTIMEZONE
TZID:America/Nassau
BEGIN:DAYLIGHT
TZOFFSETFROM:-0500
TZOFFSETTO:-0400
TZNAME:EDT
DTSTART:20240310T070000
END:DAYLIGHT
BEGIN:STANDARD
TZOFFSETFROM:-0400
TZOFFSETTO:-0500
TZNAME:EST
DTSTART:20241103T060000
END:STANDARD
BEGIN:DAYLIGHT
TZOFFSETFROM:-0500
TZOFFSETTO:-0400
TZNAME:EDT
DTSTART:20250309T070000
END:DAYLIGHT
BEGIN:STANDARD
TZOFFSETFROM:-0400
TZOFFSETTO:-0500
TZNAME:EST
DTSTART:20251102T060000
END:STANDARD
BEGIN:DAYLIGHT
TZOFFSETFROM:-0500
TZOFFSETTO:-0400
TZNAME:EDT
DTSTART:20260308T070000
END:DAYLIGHT
BEGIN:STANDARD
TZOFFSETFROM:-0400
TZOFFSETTO:-0500
TZNAME:EST
DTSTART:20261101T060000
END:STANDARD
END:VTIMEZONE
BEGIN:VEVENT
DTSTART;TZID=America/Nassau:20250602T100000
DTEND;TZID=America/Nassau:20250602T170000
DTSTAMP:20260425T104553
CREATED:20250610T140714Z
LAST-MODIFIED:20250610T140714Z
UID:32603-1748858400-1748883600@www.industrialtribunal.bs
SUMMARY:Volvick Louis vs. Play Tech System Limited t/a Island Luck NR/NES/062/2024
DESCRIPTION:
URL:https://www.industrialtribunal.bs/event/volvick-louis-vs-play-tech-system-limited-t-a-island-luck-nr-nes-062-2024/
CATEGORIES:Court 2
END:VEVENT
BEGIN:VEVENT
DTSTART;TZID=America/Nassau:20250603T100000
DTEND;TZID=America/Nassau:20250603T170000
DTSTAMP:20260425T104553
CREATED:20250610T140754Z
LAST-MODIFIED:20250610T140754Z
UID:32605-1748944800-1748970000@www.industrialtribunal.bs
SUMMARY:Volvick Louis vs. Play Tech System Limited t/a Island Luck NR/NES/062/2024
DESCRIPTION:
URL:https://www.industrialtribunal.bs/event/volvick-louis-vs-play-tech-system-limited-t-a-island-luck-nr-nes-062-2024-2/
CATEGORIES:Court 2
END:VEVENT
BEGIN:VEVENT
DTSTART;TZID=America/Nassau:20250604T100000
DTEND;TZID=America/Nassau:20250604T170000
DTSTAMP:20260425T104553
CREATED:20250610T140905Z
LAST-MODIFIED:20250610T140905Z
UID:32607-1749031200-1749056400@www.industrialtribunal.bs
SUMMARY:Stephona Rolle vs. Easy Dental Care Clinic NR/NES/018/2025
DESCRIPTION:
URL:https://www.industrialtribunal.bs/event/stephona-rolle-vs-easy-dental-care-clinic-nr-nes-018-2025/
CATEGORIES:Court 2
END:VEVENT
BEGIN:VEVENT
DTSTART;TZID=America/Nassau:20250605T100000
DTEND;TZID=America/Nassau:20250605T170000
DTSTAMP:20260425T104553
CREATED:20250610T141023Z
LAST-MODIFIED:20250610T141023Z
UID:32609-1749117600-1749142800@www.industrialtribunal.bs
SUMMARY:Stevie Forbes vs. Clear Blue Maritime Agency Ltd. NR/NES/007/2025
DESCRIPTION:
URL:https://www.industrialtribunal.bs/event/stevie-forbes-vs-clear-blue-maritime-agency-ltd-nr-nes-007-2025/
CATEGORIES:Court 2
END:VEVENT
BEGIN:VEVENT
DTSTART;TZID=America/Nassau:20250605T100000
DTEND;TZID=America/Nassau:20250605T170000
DTSTAMP:20260425T104553
CREATED:20250610T141145Z
LAST-MODIFIED:20250610T141145Z
UID:32611-1749117600-1749142800@www.industrialtribunal.bs
SUMMARY:Sahava Brooks vs. Edward J. Foster Limited NR/NES/012/2025
DESCRIPTION:
URL:https://www.industrialtribunal.bs/event/sahava-brooks-vs-edward-j-foster-limited-nr-nes-012-2025/
CATEGORIES:Court 2
END:VEVENT
BEGIN:VEVENT
DTSTART;TZID=America/Nassau:20250613T100000
DTEND;TZID=America/Nassau:20250613T170000
DTSTAMP:20260425T104553
CREATED:20250610T141338Z
LAST-MODIFIED:20250610T141338Z
UID:32613-1749808800-1749834000@www.industrialtribunal.bs
SUMMARY:Wanda Carey vs. Last Mile Communications Ltd. t/a Bahamas Wimax NR/NES/043/2024 & NR/NES/071/2024
DESCRIPTION:
URL:https://www.industrialtribunal.bs/event/wanda-carey-vs-last-mile-communications-ltd-t-a-bahamas-wimax-nr-nes-043-2024-nr-nes-071-2024/
CATEGORIES:Court 2
END:VEVENT
END:VCALENDAR