BEGIN:VCALENDAR
VERSION:2.0
PRODID:-//Bahamas Industrial Tribunal - ECPv6.15.20//NONSGML v1.0//EN
CALSCALE:GREGORIAN
METHOD:PUBLISH
X-ORIGINAL-URL:https://www.industrialtribunal.bs
X-WR-CALDESC:Events for Bahamas Industrial Tribunal
REFRESH-INTERVAL;VALUE=DURATION:PT1H
X-Robots-Tag:noindex
X-PUBLISHED-TTL:PT1H
BEGIN:VTIMEZONE
TZID:America/Nassau
BEGIN:DAYLIGHT
TZOFFSETFROM:-0500
TZOFFSETTO:-0400
TZNAME:EDT
DTSTART:20250309T070000
END:DAYLIGHT
BEGIN:STANDARD
TZOFFSETFROM:-0400
TZOFFSETTO:-0500
TZNAME:EST
DTSTART:20251102T060000
END:STANDARD
BEGIN:DAYLIGHT
TZOFFSETFROM:-0500
TZOFFSETTO:-0400
TZNAME:EDT
DTSTART:20260308T070000
END:DAYLIGHT
BEGIN:STANDARD
TZOFFSETFROM:-0400
TZOFFSETTO:-0500
TZNAME:EST
DTSTART:20261101T060000
END:STANDARD
BEGIN:DAYLIGHT
TZOFFSETFROM:-0500
TZOFFSETTO:-0400
TZNAME:EDT
DTSTART:20270314T070000
END:DAYLIGHT
BEGIN:STANDARD
TZOFFSETFROM:-0400
TZOFFSETTO:-0500
TZNAME:EST
DTSTART:20271107T060000
END:STANDARD
END:VTIMEZONE
BEGIN:VEVENT
DTSTART;TZID=America/Nassau:20260309T100000
DTEND;TZID=America/Nassau:20260309T170000
DTSTAMP:20260424T175645
CREATED:20260304T203212Z
LAST-MODIFIED:20260304T203212Z
UID:33677-1773050400-1773075600@www.industrialtribunal.bs
SUMMARY:Gereko Swain v James Charles Irvin t/a Firefly Sunset Resort NR/NES/068/2024
DESCRIPTION:
URL:https://www.industrialtribunal.bs/event/gereko-swain-v-james-charles-irvin-t-a-firefly-sunset-resort-nr-nes-068-2024-5/
CATEGORIES:Court 2
END:VEVENT
END:VCALENDAR