BEGIN:VCALENDAR
VERSION:2.0
PRODID:-//Bahamas Industrial Tribunal - ECPv6.15.20//NONSGML v1.0//EN
CALSCALE:GREGORIAN
METHOD:PUBLISH
X-ORIGINAL-URL:https://www.industrialtribunal.bs
X-WR-CALDESC:Events for Bahamas Industrial Tribunal
REFRESH-INTERVAL;VALUE=DURATION:PT1H
X-Robots-Tag:noindex
X-PUBLISHED-TTL:PT1H
BEGIN:VTIMEZONE
TZID:America/Nassau
BEGIN:DAYLIGHT
TZOFFSETFROM:-0500
TZOFFSETTO:-0400
TZNAME:EDT
DTSTART:20230312T070000
END:DAYLIGHT
BEGIN:STANDARD
TZOFFSETFROM:-0400
TZOFFSETTO:-0500
TZNAME:EST
DTSTART:20231105T060000
END:STANDARD
BEGIN:DAYLIGHT
TZOFFSETFROM:-0500
TZOFFSETTO:-0400
TZNAME:EDT
DTSTART:20240310T070000
END:DAYLIGHT
BEGIN:STANDARD
TZOFFSETFROM:-0400
TZOFFSETTO:-0500
TZNAME:EST
DTSTART:20241103T060000
END:STANDARD
BEGIN:DAYLIGHT
TZOFFSETFROM:-0500
TZOFFSETTO:-0400
TZNAME:EDT
DTSTART:20250309T070000
END:DAYLIGHT
BEGIN:STANDARD
TZOFFSETFROM:-0400
TZOFFSETTO:-0500
TZNAME:EST
DTSTART:20251102T060000
END:STANDARD
END:VTIMEZONE
BEGIN:VEVENT
DTSTART;TZID=America/Nassau:20241213T140000
DTEND;TZID=America/Nassau:20241213T170000
DTSTAMP:20260425T134547
CREATED:20241210T170403Z
LAST-MODIFIED:20241210T170403Z
UID:31852-1734098400-1734109200@www.industrialtribunal.bs
SUMMARY:Evita Pintard v Bank of The Bahamas Ltd. NR/NES/067/2024
DESCRIPTION:
URL:https://www.industrialtribunal.bs/event/evita-pintard-v-bank-of-the-bahamas-ltd-nr-nes-067-2024/
LOCATION:Court 2 – Vice President Helen Almorales-Jones\, Suites 2 & 3 Freeport Insurance Center\, 21 B West Mall & Poinciana Dr.\, Freeport\, Grand Bahama\, Bahamas
CATEGORIES:Court 2
END:VEVENT
BEGIN:VEVENT
DTSTART;TZID=America/Nassau:20241213T120000
DTEND;TZID=America/Nassau:20241213T170000
DTSTAMP:20260425T134547
CREATED:20241210T170119Z
LAST-MODIFIED:20241210T170119Z
UID:31850-1734091200-1734109200@www.industrialtribunal.bs
SUMMARY:Sandra K. Wells v JV SBC/ISD Ltd. Carnival Grand Project NR/NES/064/2024
DESCRIPTION:
URL:https://www.industrialtribunal.bs/event/sandra-k-wells-v-jv-sbc-isd-ltd-carnival-grand-project-nr-nes-064-2024/
LOCATION:Court 2 – Vice President Helen Almorales-Jones\, Suites 2 & 3 Freeport Insurance Center\, 21 B West Mall & Poinciana Dr.\, Freeport\, Grand Bahama\, Bahamas
CATEGORIES:Court 2
END:VEVENT
BEGIN:VEVENT
DTSTART;TZID=America/Nassau:20241213T100000
DTEND;TZID=America/Nassau:20241213T170000
DTSTAMP:20260425T134547
CREATED:20241210T165908Z
LAST-MODIFIED:20241210T165908Z
UID:31848-1734084000-1734109200@www.industrialtribunal.bs
SUMMARY:Ginae Rolle v Mark Smith & Kimeo McIntosh t/a Dominion Technical School/Vanena C. Smith Academy NR/NES/026/2024
DESCRIPTION:
URL:https://www.industrialtribunal.bs/event/ginae-rolle-v-mark-smith-kimeo-mcintosh-t-a-dominion-technical-school-vanena-c-smith-academy-nr-nes-026-2024-2/
LOCATION:Court 2 – Vice President Helen Almorales-Jones\, Suites 2 & 3 Freeport Insurance Center\, 21 B West Mall & Poinciana Dr.\, Freeport\, Grand Bahama\, Bahamas
CATEGORIES:Court 2
END:VEVENT
BEGIN:VEVENT
DTSTART;TZID=America/Nassau:20241212T100000
DTEND;TZID=America/Nassau:20241212T170000
DTSTAMP:20260425T134547
CREATED:20241210T165603Z
LAST-MODIFIED:20241210T165603Z
UID:31846-1733997600-1734022800@www.industrialtribunal.bs
SUMMARY:Santana Pinder v Grand Sun Investment Limited NR/NES/003/2024
DESCRIPTION:
URL:https://www.industrialtribunal.bs/event/santana-pinder-v-grand-sun-investment-limited-nr-nes-003-2024-3/
LOCATION:Court 2 – Vice President Helen Almorales-Jones\, Suites 2 & 3 Freeport Insurance Center\, 21 B West Mall & Poinciana Dr.\, Freeport\, Grand Bahama\, Bahamas
CATEGORIES:Court 2
END:VEVENT
BEGIN:VEVENT
DTSTART;TZID=America/Nassau:20241211T140000
DTEND;TZID=America/Nassau:20241211T170000
DTSTAMP:20260425T134547
CREATED:20241210T165100Z
LAST-MODIFIED:20241210T165100Z
UID:31844-1733925600-1733936400@www.industrialtribunal.bs
SUMMARY:Wanda Carey v Last Mile Communication Ltd. t/a Bahamas Wimax NR/NES/043/2024
DESCRIPTION:
URL:https://www.industrialtribunal.bs/event/wanda-carey-v-last-mile-communication-ltd-t-a-bahamas-wimax-nr-nes-043-2024/
LOCATION:Court 2 – Vice President Helen Almorales-Jones\, Suites 2 & 3 Freeport Insurance Center\, 21 B West Mall & Poinciana Dr.\, Freeport\, Grand Bahama\, Bahamas
CATEGORIES:Court 2
END:VEVENT
BEGIN:VEVENT
DTSTART;TZID=America/Nassau:20241211T100000
DTEND;TZID=America/Nassau:20241211T170000
DTSTAMP:20260425T134547
CREATED:20241210T164333Z
LAST-MODIFIED:20241210T164333Z
UID:31842-1733911200-1733936400@www.industrialtribunal.bs
SUMMARY:Santana Pinder v Grand Sun Investment Limited NR/NES/003/2024
DESCRIPTION:
URL:https://www.industrialtribunal.bs/event/santana-pinder-v-grand-sun-investment-limited-nr-nes-003-2024-2/
LOCATION:Court 2 – Vice President Helen Almorales-Jones\, Suites 2 & 3 Freeport Insurance Center\, 21 B West Mall & Poinciana Dr.\, Freeport\, Grand Bahama\, Bahamas
CATEGORIES:Court 2
END:VEVENT
BEGIN:VEVENT
DTSTART;TZID=America/Nassau:20241210T100000
DTEND;TZID=America/Nassau:20241210T170000
DTSTAMP:20260425T134547
CREATED:20241210T164124Z
LAST-MODIFIED:20241210T164124Z
UID:31840-1733824800-1733850000@www.industrialtribunal.bs
SUMMARY:Santana Pinder v Grand Sun Investment Limited NR/NES/003/2024
DESCRIPTION:
URL:https://www.industrialtribunal.bs/event/santana-pinder-v-grand-sun-investment-limited-nr-nes-003-2024/
LOCATION:Court 2 – Vice President Helen Almorales-Jones\, Suites 2 & 3 Freeport Insurance Center\, 21 B West Mall & Poinciana Dr.\, Freeport\, Grand Bahama\, Bahamas
CATEGORIES:Court 2
END:VEVENT
BEGIN:VEVENT
DTSTART;TZID=America/Nassau:20241209T120000
DTEND;TZID=America/Nassau:20241209T170000
DTSTAMP:20260425T134547
CREATED:20241210T163942Z
LAST-MODIFIED:20241210T163942Z
UID:31838-1733745600-1733763600@www.industrialtribunal.bs
SUMMARY:Sharon Smith v Silver Airways LLC NR/NES/021/2024
DESCRIPTION:
URL:https://www.industrialtribunal.bs/event/sharon-smith-v-silver-airways-llc-nr-nes-021-2024-7/
LOCATION:Court 2 – Vice President Helen Almorales-Jones\, Suites 2 & 3 Freeport Insurance Center\, 21 B West Mall & Poinciana Dr.\, Freeport\, Grand Bahama\, Bahamas
CATEGORIES:Court 2
END:VEVENT
BEGIN:VEVENT
DTSTART;TZID=America/Nassau:20241204T100000
DTEND;TZID=America/Nassau:20241204T170000
DTSTAMP:20260425T134547
CREATED:20241210T163822Z
LAST-MODIFIED:20241210T163822Z
UID:31836-1733306400-1733331600@www.industrialtribunal.bs
SUMMARY:Gail Woon v Cafferata & Company NR/NES/046/2024
DESCRIPTION:
URL:https://www.industrialtribunal.bs/event/gail-woon-v-cafferata-company-nr-nes-046-2024-4/
LOCATION:Court 2 – Vice President Helen Almorales-Jones\, Suites 2 & 3 Freeport Insurance Center\, 21 B West Mall & Poinciana Dr.\, Freeport\, Grand Bahama\, Bahamas
CATEGORIES:Court 2
END:VEVENT
BEGIN:VEVENT
DTSTART;TZID=America/Nassau:20241203T100000
DTEND;TZID=America/Nassau:20241203T170000
DTSTAMP:20260425T134547
CREATED:20241210T163652Z
LAST-MODIFIED:20241210T163652Z
UID:31834-1733220000-1733245200@www.industrialtribunal.bs
SUMMARY:Gail Woon v Cafferata & Company NR/NES/046/2024
DESCRIPTION:
URL:https://www.industrialtribunal.bs/event/gail-woon-v-cafferata-company-nr-nes-046-2024-3/
LOCATION:Court 2 – Vice President Helen Almorales-Jones\, Suites 2 & 3 Freeport Insurance Center\, 21 B West Mall & Poinciana Dr.\, Freeport\, Grand Bahama\, Bahamas
CATEGORIES:Court 2
END:VEVENT
BEGIN:VEVENT
DTSTART;TZID=America/Nassau:20241202T100000
DTEND;TZID=America/Nassau:20241202T170000
DTSTAMP:20260425T134547
CREATED:20241210T163105Z
LAST-MODIFIED:20241210T163105Z
UID:31832-1733133600-1733158800@www.industrialtribunal.bs
SUMMARY:Gail Woon v Cafferata & Company NR/NES/046/2024
DESCRIPTION:
URL:https://www.industrialtribunal.bs/event/gail-woon-v-cafferata-company-nr-nes-046-2024-2/
LOCATION:Court 2 – Vice President Helen Almorales-Jones\, Suites 2 & 3 Freeport Insurance Center\, 21 B West Mall & Poinciana Dr.\, Freeport\, Grand Bahama\, Bahamas
CATEGORIES:Court 2
END:VEVENT
BEGIN:VEVENT
DTSTART;TZID=America/Nassau:20241129T100000
DTEND;TZID=America/Nassau:20241129T170000
DTSTAMP:20260425T134547
CREATED:20241107T160022Z
LAST-MODIFIED:20241107T160022Z
UID:31699-1732874400-1732899600@www.industrialtribunal.bs
SUMMARY:Daquan Swain v Fidelity Bank (Bahamas) Limited NR/NES/053/2024
DESCRIPTION:
URL:https://www.industrialtribunal.bs/event/daquan-swain-v-fidelity-bank-bahamas-limited-nr-nes-053-2024/
LOCATION:Court 2 – Vice President Helen Almorales-Jones\, Suites 2 & 3 Freeport Insurance Center\, 21 B West Mall & Poinciana Dr.\, Freeport\, Grand Bahama\, Bahamas
CATEGORIES:Court 2
END:VEVENT
BEGIN:VEVENT
DTSTART;TZID=America/Nassau:20241128T100000
DTEND;TZID=America/Nassau:20241128T170000
DTSTAMP:20260425T134547
CREATED:20241107T155810Z
LAST-MODIFIED:20241107T155810Z
UID:31697-1732788000-1732813200@www.industrialtribunal.bs
SUMMARY:Leonardo Lockhart v Buckeye Bahamas Hub Limited NR/NES/029/2024
DESCRIPTION:
URL:https://www.industrialtribunal.bs/event/leonardo-lockhart-v-buckeye-bahamas-hub-limited-nr-nes-029-2024-4/
LOCATION:Court 2 – Vice President Helen Almorales-Jones\, Suites 2 & 3 Freeport Insurance Center\, 21 B West Mall & Poinciana Dr.\, Freeport\, Grand Bahama\, Bahamas
CATEGORIES:Court 2
END:VEVENT
BEGIN:VEVENT
DTSTART;TZID=America/Nassau:20241127T100000
DTEND;TZID=America/Nassau:20241127T170000
DTSTAMP:20260425T134547
CREATED:20241107T155639Z
LAST-MODIFIED:20241107T155639Z
UID:31695-1732701600-1732726800@www.industrialtribunal.bs
SUMMARY:Leonardo Lockhart v Buckeye Bahamas Hub Limited NR/NES/029/2024
DESCRIPTION:
URL:https://www.industrialtribunal.bs/event/leonardo-lockhart-v-buckeye-bahamas-hub-limited-nr-nes-029-2024-3/
LOCATION:Court 2 – Vice President Helen Almorales-Jones\, Suites 2 & 3 Freeport Insurance Center\, 21 B West Mall & Poinciana Dr.\, Freeport\, Grand Bahama\, Bahamas
CATEGORIES:Court 2
END:VEVENT
BEGIN:VEVENT
DTSTART;TZID=America/Nassau:20241126T100000
DTEND;TZID=America/Nassau:20241126T170000
DTSTAMP:20260425T134547
CREATED:20241107T155521Z
LAST-MODIFIED:20241107T155521Z
UID:31693-1732615200-1732640400@www.industrialtribunal.bs
SUMMARY:Steven Livingston Duncombe v Western Air NR/NES/095/2023
DESCRIPTION:
URL:https://www.industrialtribunal.bs/event/steven-livingston-duncombe-v-western-air-nr-nes-095-2023-7/
LOCATION:Court 2 – Vice President Helen Almorales-Jones\, Suites 2 & 3 Freeport Insurance Center\, 21 B West Mall & Poinciana Dr.\, Freeport\, Grand Bahama\, Bahamas
CATEGORIES:Court 2
END:VEVENT
BEGIN:VEVENT
DTSTART;TZID=America/Nassau:20241125T100000
DTEND;TZID=America/Nassau:20241125T170000
DTSTAMP:20260425T134547
CREATED:20241107T155354Z
LAST-MODIFIED:20241107T155354Z
UID:31691-1732528800-1732554000@www.industrialtribunal.bs
SUMMARY:Tenisha Carey v BTI (Bahamas) Ltd NR/NES/044/2024
DESCRIPTION:
URL:https://www.industrialtribunal.bs/event/tenisha-carey-v-bti-bahamas-ltd-nr-nes-044-2024-3/
LOCATION:Court 2 – Vice President Helen Almorales-Jones\, Suites 2 & 3 Freeport Insurance Center\, 21 B West Mall & Poinciana Dr.\, Freeport\, Grand Bahama\, Bahamas
CATEGORIES:Court 2
END:VEVENT
BEGIN:VEVENT
DTSTART;TZID=America/Nassau:20241122T100000
DTEND;TZID=America/Nassau:20241122T170000
DTSTAMP:20260425T134547
CREATED:20241107T155130Z
LAST-MODIFIED:20241107T155130Z
UID:31689-1732269600-1732294800@www.industrialtribunal.bs
SUMMARY:Simon Lewis v Albury's Freeport Ltd t/a Carquest Freeport NR/NES/066/2024
DESCRIPTION:
URL:https://www.industrialtribunal.bs/event/simon-lewis-v-alburys-freeport-ltd-t-a-carquest-freeport-nr-nes-066-2024/
LOCATION:Court 2 – Vice President Helen Almorales-Jones\, Suites 2 & 3 Freeport Insurance Center\, 21 B West Mall & Poinciana Dr.\, Freeport\, Grand Bahama\, Bahamas
CATEGORIES:Court 2
END:VEVENT
BEGIN:VEVENT
DTSTART;TZID=America/Nassau:20241122T100000
DTEND;TZID=America/Nassau:20241122T170000
DTSTAMP:20260425T134547
CREATED:20241107T154825Z
LAST-MODIFIED:20241107T154825Z
UID:31687-1732269600-1732294800@www.industrialtribunal.bs
SUMMARY:Kathleen Ganesta Wells v mark Smith & Kimeo McIntosh t/a Dominion Technical School/ Vanena C. Smith Academy NR/NES/052/2024
DESCRIPTION:
URL:https://www.industrialtribunal.bs/event/kathleen-ganesta-wells-v-mark-smith-kimeo-mcintosh-t-a-dominion-technical-school-vanena-c-smith-academy-nr-nes-052-2024/
LOCATION:Court 2 – Vice President Helen Almorales-Jones\, Suites 2 & 3 Freeport Insurance Center\, 21 B West Mall & Poinciana Dr.\, Freeport\, Grand Bahama\, Bahamas
CATEGORIES:Court 2
END:VEVENT
BEGIN:VEVENT
DTSTART;TZID=America/Nassau:20241121T100000
DTEND;TZID=America/Nassau:20241121T170000
DTSTAMP:20260425T134547
CREATED:20241107T154451Z
LAST-MODIFIED:20241107T154451Z
UID:31685-1732183200-1732208400@www.industrialtribunal.bs
SUMMARY:Satara Pinder v Silver Airways LLC NR/NES/015/2024 & NR/NES/061/2024
DESCRIPTION:
URL:https://www.industrialtribunal.bs/event/satara-pinder-v-silver-airways-llc-nr-nes-015-2024-nr-nes-061-2024-2/
LOCATION:Court 2 – Vice President Helen Almorales-Jones\, Suites 2 & 3 Freeport Insurance Center\, 21 B West Mall & Poinciana Dr.\, Freeport\, Grand Bahama\, Bahamas
CATEGORIES:Court 2
END:VEVENT
BEGIN:VEVENT
DTSTART;TZID=America/Nassau:20241120T100000
DTEND;TZID=America/Nassau:20241120T170000
DTSTAMP:20260425T134547
CREATED:20241107T154302Z
LAST-MODIFIED:20241107T154302Z
UID:31683-1732096800-1732122000@www.industrialtribunal.bs
SUMMARY:Sharon Smith v Silver Airways LLC NR/NES/021/2024
DESCRIPTION:
URL:https://www.industrialtribunal.bs/event/sharon-smith-v-silver-airways-llc-nr-nes-021-2024-6/
LOCATION:Court 2 – Vice President Helen Almorales-Jones\, Suites 2 & 3 Freeport Insurance Center\, 21 B West Mall & Poinciana Dr.\, Freeport\, Grand Bahama\, Bahamas
CATEGORIES:Court 2
END:VEVENT
BEGIN:VEVENT
DTSTART;TZID=America/Nassau:20241120T100000
DTEND;TZID=America/Nassau:20241120T170000
DTSTAMP:20260425T134547
CREATED:20241107T154131Z
LAST-MODIFIED:20241107T154131Z
UID:31681-1732096800-1732122000@www.industrialtribunal.bs
SUMMARY:Satara Pinder v Silver Airways LLC NR/NES/015/2024 & NR/NES/061/2024
DESCRIPTION:
URL:https://www.industrialtribunal.bs/event/satara-pinder-v-silver-airways-llc-nr-nes-015-2024-nr-nes-061-2024/
LOCATION:Court 2 – Vice President Helen Almorales-Jones\, Suites 2 & 3 Freeport Insurance Center\, 21 B West Mall & Poinciana Dr.\, Freeport\, Grand Bahama\, Bahamas
CATEGORIES:Court 2
END:VEVENT
BEGIN:VEVENT
DTSTART;TZID=America/Nassau:20241119T100000
DTEND;TZID=America/Nassau:20241119T170000
DTSTAMP:20260425T134547
CREATED:20241107T153918Z
LAST-MODIFIED:20241107T153918Z
UID:31679-1732010400-1732035600@www.industrialtribunal.bs
SUMMARY:Roshan Ingraham v Grand Bahama Power Company Limited NR/ES/047/2024
DESCRIPTION:
URL:https://www.industrialtribunal.bs/event/roshan-ingraham-v-grand-bahama-power-company-limited-nr-es-047-2024-2/
LOCATION:Court 2 – Vice President Helen Almorales-Jones\, Suites 2 & 3 Freeport Insurance Center\, 21 B West Mall & Poinciana Dr.\, Freeport\, Grand Bahama\, Bahamas
CATEGORIES:Court 2
END:VEVENT
BEGIN:VEVENT
DTSTART;TZID=America/Nassau:20241118T100000
DTEND;TZID=America/Nassau:20241118T170000
DTSTAMP:20260425T134547
CREATED:20241107T153729Z
LAST-MODIFIED:20241107T153729Z
UID:31677-1731924000-1731949200@www.industrialtribunal.bs
SUMMARY:Roshan Ingraham v Grand Bahama Power Company Limited NR/NES/047/2024
DESCRIPTION:
URL:https://www.industrialtribunal.bs/event/roshan-ingraham-v-grand-bahama-power-company-limited-nr-nes-047-2024/
LOCATION:Court 2 – Vice President Helen Almorales-Jones\, Suites 2 & 3 Freeport Insurance Center\, 21 B West Mall & Poinciana Dr.\, Freeport\, Grand Bahama\, Bahamas
CATEGORIES:Court 2
END:VEVENT
BEGIN:VEVENT
DTSTART;TZID=America/Nassau:20241115T160000
DTEND;TZID=America/Nassau:20241115T170000
DTSTAMP:20260425T134547
CREATED:20241107T153259Z
LAST-MODIFIED:20241107T153259Z
UID:31673-1731686400-1731690000@www.industrialtribunal.bs
SUMMARY:Di'Andrea Rolle -Dean v Jarol Investments Ltd.t/a Chances NR/NES/023/2024
DESCRIPTION:
URL:https://www.industrialtribunal.bs/event/diandrea-rolle-dean-v-jarol-investments-ltd-t-a-chances-nr-nes-023-2024-4/
LOCATION:Court 2 – Vice President Helen Almorales-Jones\, Suites 2 & 3 Freeport Insurance Center\, 21 B West Mall & Poinciana Dr.\, Freeport\, Grand Bahama\, Bahamas
CATEGORIES:Court 2
END:VEVENT
BEGIN:VEVENT
DTSTART;TZID=America/Nassau:20241115T100000
DTEND;TZID=America/Nassau:20241115T170000
DTSTAMP:20260425T134547
CREATED:20241107T153549Z
LAST-MODIFIED:20241107T153549Z
UID:31675-1731664800-1731690000@www.industrialtribunal.bs
SUMMARY:Kaylyn Stuart v Arawak Service Industries Company Limited NR/NES/059/2024
DESCRIPTION:
URL:https://www.industrialtribunal.bs/event/kaylyn-stuart-v-arawak-service-industries-company-limited-nr-nes-059-2024-2/
LOCATION:Court 2 – Vice President Helen Almorales-Jones\, Suites 2 & 3 Freeport Insurance Center\, 21 B West Mall & Poinciana Dr.\, Freeport\, Grand Bahama\, Bahamas
CATEGORIES:Court 2
END:VEVENT
BEGIN:VEVENT
DTSTART;TZID=America/Nassau:20241115T100000
DTEND;TZID=America/Nassau:20241115T170000
DTSTAMP:20260425T134547
CREATED:20241107T152826Z
LAST-MODIFIED:20241107T152826Z
UID:31671-1731664800-1731690000@www.industrialtribunal.bs
SUMMARY:Shane Williams v Little Island Roofing Ltd. NR/NES/035/2023
DESCRIPTION:
URL:https://www.industrialtribunal.bs/event/shane-williams-v-little-island-roofing-ltd-nr-nes-035-2023-12/
LOCATION:Court 2 – Vice President Helen Almorales-Jones\, Suites 2 & 3 Freeport Insurance Center\, 21 B West Mall & Poinciana Dr.\, Freeport\, Grand Bahama\, Bahamas
CATEGORIES:Court 2
END:VEVENT
BEGIN:VEVENT
DTSTART;TZID=America/Nassau:20241114T100000
DTEND;TZID=America/Nassau:20241114T170000
DTSTAMP:20260425T134547
CREATED:20241107T152333Z
LAST-MODIFIED:20241107T152333Z
UID:31669-1731578400-1731603600@www.industrialtribunal.bs
SUMMARY:Shane Williams v Little Island Roofing Ltd NR/NES/035/2023
DESCRIPTION:
URL:https://www.industrialtribunal.bs/event/shane-williams-v-little-island-roofing-ltd-nr-nes-035-2023-11/
LOCATION:Court 2 – Vice President Helen Almorales-Jones\, Suites 2 & 3 Freeport Insurance Center\, 21 B West Mall & Poinciana Dr.\, Freeport\, Grand Bahama\, Bahamas
CATEGORIES:Court 2
END:VEVENT
BEGIN:VEVENT
DTSTART;TZID=America/Nassau:20241113T100000
DTEND;TZID=America/Nassau:20241113T170000
DTSTAMP:20260425T134547
CREATED:20241107T152046Z
LAST-MODIFIED:20241107T152046Z
UID:31667-1731492000-1731517200@www.industrialtribunal.bs
SUMMARY:Matthew Carey v Last Mile Communication Ltd. t/a Bahamas Wimax NR/NES/045/2024
DESCRIPTION:
URL:https://www.industrialtribunal.bs/event/matthew-carey-v-last-mile-communication-ltd-t-a-bahamas-wimax-nr-nes-045-2024-2/
LOCATION:Court 2 – Vice President Helen Almorales-Jones\, Suites 2 & 3 Freeport Insurance Center\, 21 B West Mall & Poinciana Dr.\, Freeport\, Grand Bahama\, Bahamas
CATEGORIES:Court 2
END:VEVENT
BEGIN:VEVENT
DTSTART;TZID=America/Nassau:20241112T100000
DTEND;TZID=America/Nassau:20241112T170000
DTSTAMP:20260425T134547
CREATED:20241107T151852Z
LAST-MODIFIED:20241107T151852Z
UID:31665-1731405600-1731430800@www.industrialtribunal.bs
SUMMARY:Matthew Carey v Last Mile Communication Ltd. t/a Bahamas Wimax NR/NES/045/2024
DESCRIPTION:
URL:https://www.industrialtribunal.bs/event/matthew-carey-v-last-mile-communication-ltd-t-a-bahamas-wimax-nr-nes-045-2024/
LOCATION:Court 2 – Vice President Helen Almorales-Jones\, Suites 2 & 3 Freeport Insurance Center\, 21 B West Mall & Poinciana Dr.\, Freeport\, Grand Bahama\, Bahamas
CATEGORIES:Court 2
END:VEVENT
BEGIN:VEVENT
DTSTART;TZID=America/Nassau:20241111T100000
DTEND;TZID=America/Nassau:20241111T170000
DTSTAMP:20260425T134547
CREATED:20241107T151606Z
LAST-MODIFIED:20241107T151606Z
UID:31663-1731319200-1731344400@www.industrialtribunal.bs
SUMMARY:Wanda Carey v Last Mile Communications Ltd t/a Bahamas Wimax NR/NES/043/2024
DESCRIPTION:
URL:https://www.industrialtribunal.bs/event/wanda-carey-v-last-mile-communications-ltd-t-a-bahamas-wimax-nr-nes-043-2024/
LOCATION:Court 2 – Vice President Helen Almorales-Jones\, Suites 2 & 3 Freeport Insurance Center\, 21 B West Mall & Poinciana Dr.\, Freeport\, Grand Bahama\, Bahamas
CATEGORIES:Court 2
END:VEVENT
END:VCALENDAR