BEGIN:VCALENDAR
VERSION:2.0
PRODID:-//Bahamas Industrial Tribunal - ECPv6.15.20//NONSGML v1.0//EN
CALSCALE:GREGORIAN
METHOD:PUBLISH
X-ORIGINAL-URL:https://www.industrialtribunal.bs
X-WR-CALDESC:Events for Bahamas Industrial Tribunal
REFRESH-INTERVAL;VALUE=DURATION:PT1H
X-Robots-Tag:noindex
X-PUBLISHED-TTL:PT1H
BEGIN:VTIMEZONE
TZID:America/Nassau
BEGIN:DAYLIGHT
TZOFFSETFROM:-0500
TZOFFSETTO:-0400
TZNAME:EDT
DTSTART:20230312T070000
END:DAYLIGHT
BEGIN:STANDARD
TZOFFSETFROM:-0400
TZOFFSETTO:-0500
TZNAME:EST
DTSTART:20231105T060000
END:STANDARD
BEGIN:DAYLIGHT
TZOFFSETFROM:-0500
TZOFFSETTO:-0400
TZNAME:EDT
DTSTART:20240310T070000
END:DAYLIGHT
BEGIN:STANDARD
TZOFFSETFROM:-0400
TZOFFSETTO:-0500
TZNAME:EST
DTSTART:20241103T060000
END:STANDARD
BEGIN:DAYLIGHT
TZOFFSETFROM:-0500
TZOFFSETTO:-0400
TZNAME:EDT
DTSTART:20250309T070000
END:DAYLIGHT
BEGIN:STANDARD
TZOFFSETFROM:-0400
TZOFFSETTO:-0500
TZNAME:EST
DTSTART:20251102T060000
END:STANDARD
END:VTIMEZONE
BEGIN:VEVENT
DTSTART;TZID=America/Nassau:20240926T100000
DTEND;TZID=America/Nassau:20240926T170000
DTSTAMP:20260425T233302
CREATED:20240912T191658Z
LAST-MODIFIED:20240912T191658Z
UID:31402-1727344800-1727370000@www.industrialtribunal.bs
SUMMARY:Devin Winder v Starfish Construction Limited NR/NES/035/2024
DESCRIPTION:
URL:https://www.industrialtribunal.bs/event/devin-winder-v-starfish-construction-limited-nr-nes-035-2024-2/
LOCATION:Court 2 – Vice President Helen Almorales-Jones\, Suites 2 & 3 Freeport Insurance Center\, 21 B West Mall & Poinciana Dr.\, Freeport\, Grand Bahama\, Bahamas
CATEGORIES:Court 2
END:VEVENT
BEGIN:VEVENT
DTSTART;TZID=America/Nassau:20240925T100000
DTEND;TZID=America/Nassau:20240925T170000
DTSTAMP:20260425T233302
CREATED:20240912T191531Z
LAST-MODIFIED:20240912T191531Z
UID:31400-1727258400-1727283600@www.industrialtribunal.bs
SUMMARY:Devin Winder v Starfish Construction Limited NR/NES/035/2024
DESCRIPTION:
URL:https://www.industrialtribunal.bs/event/devin-winder-v-starfish-construction-limited-nr-nes-035-2024/
LOCATION:Court 2 – Vice President Helen Almorales-Jones\, Suites 2 & 3 Freeport Insurance Center\, 21 B West Mall & Poinciana Dr.\, Freeport\, Grand Bahama\, Bahamas
CATEGORIES:Court 2
END:VEVENT
BEGIN:VEVENT
DTSTART;TZID=America/Nassau:20240924T100000
DTEND;TZID=America/Nassau:20240924T170000
DTSTAMP:20260425T233302
CREATED:20240912T191421Z
LAST-MODIFIED:20240912T191421Z
UID:31398-1727172000-1727197200@www.industrialtribunal.bs
SUMMARY:kenson Nelson v Bradford Grand Bahama Limited NR/NES/032/2024
DESCRIPTION:
URL:https://www.industrialtribunal.bs/event/kenson-nelson-v-bradford-grand-bahama-limited-nr-nes-032-2024-2/
LOCATION:Court 2 – Vice President Helen Almorales-Jones\, Suites 2 & 3 Freeport Insurance Center\, 21 B West Mall & Poinciana Dr.\, Freeport\, Grand Bahama\, Bahamas
CATEGORIES:Court 2
END:VEVENT
BEGIN:VEVENT
DTSTART;TZID=America/Nassau:20240923T100000
DTEND;TZID=America/Nassau:20240923T170000
DTSTAMP:20260425T233302
CREATED:20240912T191253Z
LAST-MODIFIED:20240912T191253Z
UID:31396-1727085600-1727110800@www.industrialtribunal.bs
SUMMARY:Di'Andrea Rolle -Dean v Jarol Investments Ltd. t/a Chances NR/NES/023/2024
DESCRIPTION:
URL:https://www.industrialtribunal.bs/event/diandrea-rolle-dean-v-jarol-investments-ltd-t-a-chances-nr-nes-023-2024-3/
LOCATION:Court 2 – Vice President Helen Almorales-Jones\, Suites 2 & 3 Freeport Insurance Center\, 21 B West Mall & Poinciana Dr.\, Freeport\, Grand Bahama\, Bahamas
CATEGORIES:Court 2
END:VEVENT
BEGIN:VEVENT
DTSTART;TZID=America/Nassau:20240920T100000
DTEND;TZID=America/Nassau:20240920T170000
DTSTAMP:20260425T233302
CREATED:20240912T191023Z
LAST-MODIFIED:20240912T191023Z
UID:31392-1726826400-1726851600@www.industrialtribunal.bs
SUMMARY:Ginae Rolle v Mark Smith & Kimeo McIntosh t/a Dominion Technical School/Vanena C. Smith Academy NR/NES/026/2024
DESCRIPTION:
URL:https://www.industrialtribunal.bs/event/ginae-rolle-v-mark-smith-kimeo-mcintosh-t-a-dominion-technical-school-vanena-c-smith-academy-nr-nes-026-2024/
LOCATION:Court 2 – Vice President Helen Almorales-Jones\, Suites 2 & 3 Freeport Insurance Center\, 21 B West Mall & Poinciana Dr.\, Freeport\, Grand Bahama\, Bahamas
CATEGORIES:Court 2
END:VEVENT
BEGIN:VEVENT
DTSTART;TZID=America/Nassau:20240919T100000
DTEND;TZID=America/Nassau:20240919T170000
DTSTAMP:20260425T233302
CREATED:20240912T190823Z
LAST-MODIFIED:20240912T190823Z
UID:31390-1726740000-1726765200@www.industrialtribunal.bs
SUMMARY:Julisya Rolle v Kelafo Collie Co. Ltd t/a The Health Centre NR/NES/033/2024
DESCRIPTION:
URL:https://www.industrialtribunal.bs/event/julisya-rolle-v-kelafo-collie-co-ltd-t-a-the-health-centre-nr-nes-033-2024-2/
LOCATION:Court 2 – Vice President Helen Almorales-Jones\, Suites 2 & 3 Freeport Insurance Center\, 21 B West Mall & Poinciana Dr.\, Freeport\, Grand Bahama\, Bahamas
CATEGORIES:Court 2
END:VEVENT
BEGIN:VEVENT
DTSTART;TZID=America/Nassau:20240918T100000
DTEND;TZID=America/Nassau:20240918T170000
DTSTAMP:20260425T233302
CREATED:20240912T190628Z
LAST-MODIFIED:20240912T190628Z
UID:31388-1726653600-1726678800@www.industrialtribunal.bs
SUMMARY:Julisya Rolle v Kelafo Collie Co. Ltd t/a The Health Centre NR/NES/033/2024
DESCRIPTION:
URL:https://www.industrialtribunal.bs/event/julisya-rolle-v-kelafo-collie-co-ltd-t-a-the-health-centre-nr-nes-033-2024/
LOCATION:Court 2 – Vice President Helen Almorales-Jones\, Suites 2 & 3 Freeport Insurance Center\, 21 B West Mall & Poinciana Dr.\, Freeport\, Grand Bahama\, Bahamas
CATEGORIES:Court 2
END:VEVENT
BEGIN:VEVENT
DTSTART;TZID=America/Nassau:20240917T100000
DTEND;TZID=America/Nassau:20240917T170000
DTSTAMP:20260425T233302
CREATED:20240912T190505Z
LAST-MODIFIED:20240912T190505Z
UID:31386-1726567200-1726592400@www.industrialtribunal.bs
SUMMARY:Gerard Gardiner v Bahamas Maritime Solutions Limited NR/NES/031/2024
DESCRIPTION:
URL:https://www.industrialtribunal.bs/event/gerard-gardiner-v-bahamas-maritime-solutions-limited-nr-nes-031-2024-2/
LOCATION:Court 2 – Vice President Helen Almorales-Jones\, Suites 2 & 3 Freeport Insurance Center\, 21 B West Mall & Poinciana Dr.\, Freeport\, Grand Bahama\, Bahamas
CATEGORIES:Court 2
END:VEVENT
BEGIN:VEVENT
DTSTART;TZID=America/Nassau:20240916T100000
DTEND;TZID=America/Nassau:20240916T170000
DTSTAMP:20260425T233302
CREATED:20240912T190356Z
LAST-MODIFIED:20240912T190356Z
UID:31384-1726480800-1726506000@www.industrialtribunal.bs
SUMMARY:Quentin Hall v Gold Rock Corp Ltd NR/NES/108/2023
DESCRIPTION:
URL:https://www.industrialtribunal.bs/event/quentin-hall-v-gold-rock-corp-ltd-nr-nes-108-2023-8/
LOCATION:Court 2 – Vice President Helen Almorales-Jones\, Suites 2 & 3 Freeport Insurance Center\, 21 B West Mall & Poinciana Dr.\, Freeport\, Grand Bahama\, Bahamas
CATEGORIES:Court 2
END:VEVENT
BEGIN:VEVENT
DTSTART;TZID=America/Nassau:20240913T100000
DTEND;TZID=America/Nassau:20240913T170000
DTSTAMP:20260425T233302
CREATED:20240912T190242Z
LAST-MODIFIED:20240912T190242Z
UID:31382-1726221600-1726246800@www.industrialtribunal.bs
SUMMARY:Santana Pinder v Grand Sun Investments Limited NR/NES/003/2024
DESCRIPTION:
URL:https://www.industrialtribunal.bs/event/santana-pinder-v-grand-sun-investments-limited-nr-nes-003-2024/
LOCATION:Court 2 – Vice President Helen Almorales-Jones\, Suites 2 & 3 Freeport Insurance Center\, 21 B West Mall & Poinciana Dr.\, Freeport\, Grand Bahama\, Bahamas
CATEGORIES:Court 2
END:VEVENT
BEGIN:VEVENT
DTSTART;TZID=America/Nassau:20240912T100000
DTEND;TZID=America/Nassau:20240912T170000
DTSTAMP:20260425T233302
CREATED:20240912T190122Z
LAST-MODIFIED:20240912T190122Z
UID:31380-1726135200-1726160400@www.industrialtribunal.bs
SUMMARY:Di'Andrea Rolle -Dean v Jarol Investments Ltd t/a Chances NR/NES/023/2024
DESCRIPTION:
URL:https://www.industrialtribunal.bs/event/diandrea-rolle-dean-v-jarol-investments-ltd-t-a-chances-nr-nes-023-2024-2/
LOCATION:Court 2 – Vice President Helen Almorales-Jones\, Suites 2 & 3 Freeport Insurance Center\, 21 B West Mall & Poinciana Dr.\, Freeport\, Grand Bahama\, Bahamas
CATEGORIES:Court 2
END:VEVENT
BEGIN:VEVENT
DTSTART;TZID=America/Nassau:20240911T100000
DTEND;TZID=America/Nassau:20240911T170000
DTSTAMP:20260425T233302
CREATED:20240912T185928Z
LAST-MODIFIED:20240912T185928Z
UID:31378-1726048800-1726074000@www.industrialtribunal.bs
SUMMARY:Shane Williams v Little Island Roofing Ltd NR/NES/035/2023
DESCRIPTION:
URL:https://www.industrialtribunal.bs/event/shane-williams-v-little-island-roofing-ltd-nr-nes-035-2023-10/
LOCATION:Court 2 – Vice President Helen Almorales-Jones\, Suites 2 & 3 Freeport Insurance Center\, 21 B West Mall & Poinciana Dr.\, Freeport\, Grand Bahama\, Bahamas
CATEGORIES:Court 2
END:VEVENT
BEGIN:VEVENT
DTSTART;TZID=America/Nassau:20240910T100000
DTEND;TZID=America/Nassau:20240910T170000
DTSTAMP:20260425T233302
CREATED:20240912T185802Z
LAST-MODIFIED:20240912T185802Z
UID:31376-1725962400-1725987600@www.industrialtribunal.bs
SUMMARY:Shane Williams v Little Island Roofing Ltd NR/NES/035/2023
DESCRIPTION:
URL:https://www.industrialtribunal.bs/event/shane-williams-v-little-island-roofing-ltd-nr-nes-035-2023-9/
LOCATION:Court 2 – Vice President Helen Almorales-Jones\, Suites 2 & 3 Freeport Insurance Center\, 21 B West Mall & Poinciana Dr.\, Freeport\, Grand Bahama\, Bahamas
CATEGORIES:Court 2
END:VEVENT
BEGIN:VEVENT
DTSTART;TZID=America/Nassau:20240909T100000
DTEND;TZID=America/Nassau:20240909T170000
DTSTAMP:20260425T233302
CREATED:20240912T185640Z
LAST-MODIFIED:20240912T185640Z
UID:31374-1725876000-1725901200@www.industrialtribunal.bs
SUMMARY:Shavon Malakius Dean v Disaster Reconstruction Authority NR/NES/009/2024
DESCRIPTION:
URL:https://www.industrialtribunal.bs/event/shavon-malakius-dean-v-disaster-reconstruction-authority-nr-nes-009-2024-4/
LOCATION:Court 2 – Vice President Helen Almorales-Jones\, Suites 2 & 3 Freeport Insurance Center\, 21 B West Mall & Poinciana Dr.\, Freeport\, Grand Bahama\, Bahamas
CATEGORIES:Court 2
END:VEVENT
BEGIN:VEVENT
DTSTART;TZID=America/Nassau:20240906T100000
DTEND;TZID=America/Nassau:20240906T170000
DTSTAMP:20260425T233302
CREATED:20240912T185509Z
LAST-MODIFIED:20240912T185509Z
UID:31372-1725616800-1725642000@www.industrialtribunal.bs
SUMMARY:Jason Pratt v AML Foods Limited NR/NES/103/2023
DESCRIPTION:
URL:https://www.industrialtribunal.bs/event/jason-pratt-v-aml-foods-limited-nr-nes-103-2023-3/
LOCATION:Court 2 – Vice President Helen Almorales-Jones\, Suites 2 & 3 Freeport Insurance Center\, 21 B West Mall & Poinciana Dr.\, Freeport\, Grand Bahama\, Bahamas
CATEGORIES:Court 2
END:VEVENT
BEGIN:VEVENT
DTSTART;TZID=America/Nassau:20240906T100000
DTEND;TZID=America/Nassau:20240906T170000
DTSTAMP:20260425T233302
CREATED:20240912T185308Z
LAST-MODIFIED:20240912T185308Z
UID:31370-1725616800-1725642000@www.industrialtribunal.bs
SUMMARY:Isreal Joseph Hayles v AML Foods Limited NR/NES/102/2023
DESCRIPTION:
URL:https://www.industrialtribunal.bs/event/isreal-joseph-hayles-v-aml-foods-limited-nr-nes-102-2023/
LOCATION:Court 2 – Vice President Helen Almorales-Jones\, Suites 2 & 3 Freeport Insurance Center\, 21 B West Mall & Poinciana Dr.\, Freeport\, Grand Bahama\, Bahamas
CATEGORIES:Court 2
END:VEVENT
BEGIN:VEVENT
DTSTART;TZID=America/Nassau:20240904T100000
DTEND;TZID=America/Nassau:20240904T170000
DTSTAMP:20260425T233302
CREATED:20240912T184303Z
LAST-MODIFIED:20240912T184303Z
UID:31368-1725444000-1725469200@www.industrialtribunal.bs
SUMMARY:Gerard Gardiner v Bahamas Maritime Solutions Limited NR/NES/031/2024
DESCRIPTION:
URL:https://www.industrialtribunal.bs/event/gerard-gardiner-v-bahamas-maritime-solutions-limited-nr-nes-031-2024/
LOCATION:Court 2 – Vice President Helen Almorales-Jones\, Suites 2 & 3 Freeport Insurance Center\, 21 B West Mall & Poinciana Dr.\, Freeport\, Grand Bahama\, Bahamas
CATEGORIES:Court 2
END:VEVENT
BEGIN:VEVENT
DTSTART;TZID=America/Nassau:20240902T100000
DTEND;TZID=America/Nassau:20240902T170000
DTSTAMP:20260425T233302
CREATED:20240912T184112Z
LAST-MODIFIED:20240912T184416Z
UID:31366-1725271200-1725296400@www.industrialtribunal.bs
SUMMARY:Gail Woon v Cafferata & Company NR/NES/046/2024
DESCRIPTION:
URL:https://www.industrialtribunal.bs/event/gail-woon-v-cafferata-company-nr-nes-046-2024/
LOCATION:Court 2 – Vice President Helen Almorales-Jones\, Suites 2 & 3 Freeport Insurance Center\, 21 B West Mall & Poinciana Dr.\, Freeport\, Grand Bahama\, Bahamas
CATEGORIES:Court 2
END:VEVENT
BEGIN:VEVENT
DTSTART;TZID=America/Nassau:20240829T100000
DTEND;TZID=America/Nassau:20240829T170000
DTSTAMP:20260425T233302
CREATED:20240807T200448Z
LAST-MODIFIED:20240807T200448Z
UID:31292-1724925600-1724950800@www.industrialtribunal.bs
SUMMARY:Ginae Rolle v Dominion Technical School/Vanena C. Smith Academy NR/NES/026/2024
DESCRIPTION:
URL:https://www.industrialtribunal.bs/event/ginae-rolle-v-dominion-technical-school-vanena-c-smith-academy-nr-nes-026-2024-2/
LOCATION:Court 2 – Vice President Helen Almorales-Jones\, Suites 2 & 3 Freeport Insurance Center\, 21 B West Mall & Poinciana Dr.\, Freeport\, Grand Bahama\, Bahamas
CATEGORIES:Court 2
END:VEVENT
BEGIN:VEVENT
DTSTART;TZID=America/Nassau:20240828T100000
DTEND;TZID=America/Nassau:20240828T170000
DTSTAMP:20260425T233302
CREATED:20240807T200320Z
LAST-MODIFIED:20240807T200320Z
UID:31290-1724839200-1724864400@www.industrialtribunal.bs
SUMMARY:Sharon Smith v Silver Airways LLC NR/NES/021/2024
DESCRIPTION:
URL:https://www.industrialtribunal.bs/event/sharon-smith-v-silver-airways-llc-nr-nes-021-2024-4/
LOCATION:Court 2 – Vice President Helen Almorales-Jones\, Suites 2 & 3 Freeport Insurance Center\, 21 B West Mall & Poinciana Dr.\, Freeport\, Grand Bahama\, Bahamas
CATEGORIES:Court 2
END:VEVENT
BEGIN:VEVENT
DTSTART;TZID=America/Nassau:20240827T100000
DTEND;TZID=America/Nassau:20240827T170000
DTSTAMP:20260425T233302
CREATED:20240807T200206Z
LAST-MODIFIED:20240807T200206Z
UID:31288-1724752800-1724778000@www.industrialtribunal.bs
SUMMARY:Sharon Smith v Silver Airways LLC NR/NES/021/2024
DESCRIPTION:
URL:https://www.industrialtribunal.bs/event/sharon-smith-v-silver-airways-llc-nr-nes-021-2024-3/
LOCATION:Court 2 – Vice President Helen Almorales-Jones\, Suites 2 & 3 Freeport Insurance Center\, 21 B West Mall & Poinciana Dr.\, Freeport\, Grand Bahama\, Bahamas
CATEGORIES:Court 2
END:VEVENT
BEGIN:VEVENT
DTSTART;TZID=America/Nassau:20240826T100000
DTEND;TZID=America/Nassau:20240826T170000
DTSTAMP:20260425T233302
CREATED:20240807T200103Z
LAST-MODIFIED:20240807T200103Z
UID:31286-1724666400-1724691600@www.industrialtribunal.bs
SUMMARY:Sharon Smith v Silver Airways LLC NR/NES/021/2024
DESCRIPTION:
URL:https://www.industrialtribunal.bs/event/sharon-smith-v-silver-airways-llc-nr-nes-021-2024-2/
LOCATION:Court 2 – Vice President Helen Almorales-Jones\, Suites 2 & 3 Freeport Insurance Center\, 21 B West Mall & Poinciana Dr.\, Freeport\, Grand Bahama\, Bahamas
CATEGORIES:Court 2
END:VEVENT
BEGIN:VEVENT
DTSTART;TZID=America/Nassau:20240821T100000
DTEND;TZID=America/Nassau:20240821T170000
DTSTAMP:20260425T233302
CREATED:20240807T195957Z
LAST-MODIFIED:20240807T195957Z
UID:31284-1724234400-1724259600@www.industrialtribunal.bs
SUMMARY:Brian Collie\, Cleon Newton & Roscoe Burrows v Commonwealth Electrical Workers Union NR/ES/005/2024
DESCRIPTION:
URL:https://www.industrialtribunal.bs/event/brian-collie-cleon-newton-roscoe-burrows-v-commonwealth-electrical-workers-union-nr-es-005-2024/
LOCATION:Court 2 – Vice President Helen Almorales-Jones\, Suites 2 & 3 Freeport Insurance Center\, 21 B West Mall & Poinciana Dr.\, Freeport\, Grand Bahama\, Bahamas
CATEGORIES:Court 2
END:VEVENT
BEGIN:VEVENT
DTSTART;TZID=America/Nassau:20240820T100000
DTEND;TZID=America/Nassau:20240820T170000
DTSTAMP:20260425T233302
CREATED:20240807T195833Z
LAST-MODIFIED:20240807T195833Z
UID:31282-1724148000-1724173200@www.industrialtribunal.bs
SUMMARY:Leonardo Lockhart v Buckeye Bahamas Hub Limited NR/NES/029/2024
DESCRIPTION:
URL:https://www.industrialtribunal.bs/event/leonardo-lockhart-v-buckeye-bahamas-hub-limited-nr-nes-029-2024-2/
LOCATION:Court 2 – Vice President Helen Almorales-Jones\, Suites 2 & 3 Freeport Insurance Center\, 21 B West Mall & Poinciana Dr.\, Freeport\, Grand Bahama\, Bahamas
CATEGORIES:Court 2
END:VEVENT
BEGIN:VEVENT
DTSTART;TZID=America/Nassau:20240819T100000
DTEND;TZID=America/Nassau:20240819T170000
DTSTAMP:20260425T233302
CREATED:20240807T195714Z
LAST-MODIFIED:20240807T195714Z
UID:31280-1724061600-1724086800@www.industrialtribunal.bs
SUMMARY:Leonardo Lockhart v Buckeye Bahamas Hub Limited NR/NES/029/2024
DESCRIPTION:
URL:https://www.industrialtribunal.bs/event/leonardo-lockhart-v-buckeye-bahamas-hub-limited-nr-nes-029-2024/
LOCATION:Court 2 – Vice President Helen Almorales-Jones\, Suites 2 & 3 Freeport Insurance Center\, 21 B West Mall & Poinciana Dr.\, Freeport\, Grand Bahama\, Bahamas
CATEGORIES:Court 2
END:VEVENT
BEGIN:VEVENT
DTSTART;TZID=America/Nassau:20240815T100000
DTEND;TZID=America/Nassau:20240815T170000
DTSTAMP:20260425T233302
CREATED:20240807T195555Z
LAST-MODIFIED:20240807T195555Z
UID:31278-1723716000-1723741200@www.industrialtribunal.bs
SUMMARY:Jasmin Newman-Mckinney v Silver Airways LLC NR/NES/019/2024
DESCRIPTION:
URL:https://www.industrialtribunal.bs/event/jasmin-newman-mckinney-v-silver-airways-llc-nr-nes-019-2024-4/
LOCATION:Court 2 – Vice President Helen Almorales-Jones\, Suites 2 & 3 Freeport Insurance Center\, 21 B West Mall & Poinciana Dr.\, Freeport\, Grand Bahama\, Bahamas
CATEGORIES:Court 2
END:VEVENT
BEGIN:VEVENT
DTSTART;TZID=America/Nassau:20240814T100000
DTEND;TZID=America/Nassau:20240814T170000
DTSTAMP:20260425T233302
CREATED:20240807T195437Z
LAST-MODIFIED:20240807T195437Z
UID:31276-1723629600-1723654800@www.industrialtribunal.bs
SUMMARY:Jasmin Newman -Mckinney v Silver Airways LLC NR/NES/019/2024
DESCRIPTION:
URL:https://www.industrialtribunal.bs/event/jasmin-newman-mckinney-v-silver-airways-llc-nr-nes-019-2024-3/
LOCATION:Court 2 – Vice President Helen Almorales-Jones\, Suites 2 & 3 Freeport Insurance Center\, 21 B West Mall & Poinciana Dr.\, Freeport\, Grand Bahama\, Bahamas
CATEGORIES:Court 2
END:VEVENT
BEGIN:VEVENT
DTSTART;TZID=America/Nassau:20240813T100000
DTEND;TZID=America/Nassau:20240813T170000
DTSTAMP:20260425T233302
CREATED:20240807T195307Z
LAST-MODIFIED:20240807T195307Z
UID:31274-1723543200-1723568400@www.industrialtribunal.bs
SUMMARY:George Butler v Scan Estates Limited and Tyne Terrace Condominium Phase I Association NR/NES/109/2023
DESCRIPTION:
URL:https://www.industrialtribunal.bs/event/george-butler-v-scan-estates-limited-and-tyne-terrace-condominium-phase-i-association-nr-nes-109-2023-3/
LOCATION:Court 2 – Vice President Helen Almorales-Jones\, Suites 2 & 3 Freeport Insurance Center\, 21 B West Mall & Poinciana Dr.\, Freeport\, Grand Bahama\, Bahamas
CATEGORIES:Court 2
END:VEVENT
BEGIN:VEVENT
DTSTART;TZID=America/Nassau:20240812T100000
DTEND;TZID=America/Nassau:20240812T170000
DTSTAMP:20260425T233302
CREATED:20240807T195138Z
LAST-MODIFIED:20240807T195138Z
UID:31272-1723456800-1723482000@www.industrialtribunal.bs
SUMMARY:George Butler v Scan Estates Limited and Tyne Terrace Condominium Phase I Association NR/NES/109/2023
DESCRIPTION:
URL:https://www.industrialtribunal.bs/event/george-butler-v-scan-estates-limited-and-tyne-terrace-condominium-phase-i-association-nr-nes-109-2023-2/
LOCATION:Court 2 – Vice President Helen Almorales-Jones\, Suites 2 & 3 Freeport Insurance Center\, 21 B West Mall & Poinciana Dr.\, Freeport\, Grand Bahama\, Bahamas
CATEGORIES:Court 2
END:VEVENT
BEGIN:VEVENT
DTSTART;TZID=America/Nassau:20240809T100000
DTEND;TZID=America/Nassau:20240809T170000
DTSTAMP:20260425T233302
CREATED:20240807T195008Z
LAST-MODIFIED:20240807T195008Z
UID:31270-1723197600-1723222800@www.industrialtribunal.bs
SUMMARY:Frederick Rolle v Lucayan Maritime Services LTD NR/NES/002/2024
DESCRIPTION:
URL:https://www.industrialtribunal.bs/event/frederick-rolle-v-lucayan-maritime-services-ltd-nr-nes-002-2024-2/
LOCATION:Court 2 – Vice President Helen Almorales-Jones\, Suites 2 & 3 Freeport Insurance Center\, 21 B West Mall & Poinciana Dr.\, Freeport\, Grand Bahama\, Bahamas
CATEGORIES:Court 2
END:VEVENT
END:VCALENDAR