BEGIN:VCALENDAR
VERSION:2.0
PRODID:-//Bahamas Industrial Tribunal - ECPv6.15.20//NONSGML v1.0//EN
CALSCALE:GREGORIAN
METHOD:PUBLISH
X-WR-CALNAME:Bahamas Industrial Tribunal
X-ORIGINAL-URL:https://www.industrialtribunal.bs
X-WR-CALDESC:Events for Bahamas Industrial Tribunal
REFRESH-INTERVAL;VALUE=DURATION:PT1H
X-Robots-Tag:noindex
X-PUBLISHED-TTL:PT1H
BEGIN:VTIMEZONE
TZID:America/Nassau
BEGIN:DAYLIGHT
TZOFFSETFROM:-0500
TZOFFSETTO:-0400
TZNAME:EDT
DTSTART:20220313T070000
END:DAYLIGHT
BEGIN:STANDARD
TZOFFSETFROM:-0400
TZOFFSETTO:-0500
TZNAME:EST
DTSTART:20221106T060000
END:STANDARD
BEGIN:DAYLIGHT
TZOFFSETFROM:-0500
TZOFFSETTO:-0400
TZNAME:EDT
DTSTART:20230312T070000
END:DAYLIGHT
BEGIN:STANDARD
TZOFFSETFROM:-0400
TZOFFSETTO:-0500
TZNAME:EST
DTSTART:20231105T060000
END:STANDARD
BEGIN:DAYLIGHT
TZOFFSETFROM:-0500
TZOFFSETTO:-0400
TZNAME:EDT
DTSTART:20240310T070000
END:DAYLIGHT
BEGIN:STANDARD
TZOFFSETFROM:-0400
TZOFFSETTO:-0500
TZNAME:EST
DTSTART:20241103T060000
END:STANDARD
END:VTIMEZONE
BEGIN:VEVENT
DTSTART;TZID=America/Nassau:20230518T100000
DTEND;TZID=America/Nassau:20230518T170000
DTSTAMP:20260424T174954
CREATED:20230421T155434Z
LAST-MODIFIED:20230421T155434Z
UID:28384-1684404000-1684429200@www.industrialtribunal.bs
SUMMARY:Derek Gape v Bluewater Builders Bahamas Limited GTC Corporate Services NP2022-044
DESCRIPTION:
URL:https://www.industrialtribunal.bs/event/derek-gape-v-bluewater-builders-bahamas-limited-gtc-corporate-services-np2022-044-4/
LOCATION:Court 3 – Vice President Rionda Deleveaux Godet\, First Floor\, Suite 106\, Saffrey Square Building\, Bank Lane and East Street\, Nassau\, New Providence\, Bahamas
CATEGORIES:Court 3, Acting
END:VEVENT
BEGIN:VEVENT
DTSTART;TZID=America/Nassau:20230517T100000
DTEND;TZID=America/Nassau:20230517T170000
DTSTAMP:20260424T174954
CREATED:20230421T155252Z
LAST-MODIFIED:20230421T155252Z
UID:28382-1684317600-1684342800@www.industrialtribunal.bs
SUMMARY:Derek Gape v Bluewater Builders Bahamas Limited GTC Corporate Services NP2022-044
DESCRIPTION:D
URL:https://www.industrialtribunal.bs/event/derek-gape-v-bluewater-builders-bahamas-limited-gtc-corporate-services-np2022-044-3/
LOCATION:Court 3 – Vice President Rionda Deleveaux Godet\, First Floor\, Suite 106\, Saffrey Square Building\, Bank Lane and East Street\, Nassau\, New Providence\, Bahamas
CATEGORIES:Court 3, Acting
END:VEVENT
BEGIN:VEVENT
DTSTART;TZID=America/Nassau:20230516T100000
DTEND;TZID=America/Nassau:20230516T170000
DTSTAMP:20260424T174954
CREATED:20230421T155046Z
LAST-MODIFIED:20230421T155046Z
UID:28380-1684231200-1684256400@www.industrialtribunal.bs
SUMMARY:Derek Gape v Bluewater Builders Bahamas Limited GTC Corporate Services NP2022-044
DESCRIPTION:
URL:https://www.industrialtribunal.bs/event/derek-gape-v-bluewater-builders-bahamas-limited-gtc-corporate-services-np2022-044-2/
LOCATION:Court 3 – Vice President Rionda Deleveaux Godet\, First Floor\, Suite 106\, Saffrey Square Building\, Bank Lane and East Street\, Nassau\, New Providence\, Bahamas
CATEGORIES:Court 3, Acting
END:VEVENT
BEGIN:VEVENT
DTSTART;TZID=America/Nassau:20230515T100000
DTEND;TZID=America/Nassau:20230515T170000
DTSTAMP:20260424T174954
CREATED:20230421T154238Z
LAST-MODIFIED:20230421T154238Z
UID:28378-1684144800-1684170000@www.industrialtribunal.bs
SUMMARY:Derek Gape v Bluewater Builders Bahamas Limited GTC Corporate Services NP2022-044
DESCRIPTION:
URL:https://www.industrialtribunal.bs/event/derek-gape-v-bluewater-builders-bahamas-limited-gtc-corporate-services-np2022-044/
LOCATION:Court 3 – Vice President Rionda Deleveaux Godet\, First Floor\, Suite 106\, Saffrey Square Building\, Bank Lane and East Street\, Nassau\, New Providence\, Bahamas
CATEGORIES:Court 3, Acting
END:VEVENT
BEGIN:VEVENT
DTSTART;TZID=America/Nassau:20230511T100000
DTEND;TZID=America/Nassau:20230511T170000
DTSTAMP:20260424T174954
CREATED:20230421T153846Z
LAST-MODIFIED:20230421T153846Z
UID:28376-1683799200-1683824400@www.industrialtribunal.bs
SUMMARY:Larry M. Bowe v Aetos Holding Limited NP2021-119
DESCRIPTION:
URL:https://www.industrialtribunal.bs/event/larry-m-bowe-v-aetos-holding-limited-np2021-119/
LOCATION:Court 3 – Vice President Rionda Deleveaux Godet\, First Floor\, Suite 106\, Saffrey Square Building\, Bank Lane and East Street\, Nassau\, New Providence\, Bahamas
CATEGORIES:Court 3, Acting
END:VEVENT
BEGIN:VEVENT
DTSTART;TZID=America/Nassau:20230508T100000
DTEND;TZID=America/Nassau:20230508T170000
DTSTAMP:20260424T174954
CREATED:20230421T153706Z
LAST-MODIFIED:20230421T153706Z
UID:28374-1683540000-1683565200@www.industrialtribunal.bs
SUMMARY:Stephen Plakaris v The Bahamas Baptist Missionary & Education Convention Inc NP2021-118
DESCRIPTION:
URL:https://www.industrialtribunal.bs/event/stephen-plakaris-v-the-bahamas-baptist-missionary-education-convention-inc-np2021-118-2/
LOCATION:Court 3 – Vice President Rionda Deleveaux Godet\, First Floor\, Suite 106\, Saffrey Square Building\, Bank Lane and East Street\, Nassau\, New Providence\, Bahamas
CATEGORIES:Court 3, Acting
END:VEVENT
BEGIN:VEVENT
DTSTART;TZID=America/Nassau:20230504T100000
DTEND;TZID=America/Nassau:20230504T170000
DTSTAMP:20260424T174954
CREATED:20230421T153429Z
LAST-MODIFIED:20230421T153429Z
UID:28372-1683194400-1683219600@www.industrialtribunal.bs
SUMMARY:Gregory Wilson v Island Bloom Limited t/a Outback Steakhouse NP2022-095
DESCRIPTION:
URL:https://www.industrialtribunal.bs/event/gregory-wilson-v-island-bloom-limited-t-a-outback-steakhouse-np2022-095/
LOCATION:Court 3 – Vice President Rionda Deleveaux Godet\, First Floor\, Suite 106\, Saffrey Square Building\, Bank Lane and East Street\, Nassau\, New Providence\, Bahamas
CATEGORIES:Court 3, Acting
END:VEVENT
BEGIN:VEVENT
DTSTART;TZID=America/Nassau:20230504T100000
DTEND;TZID=America/Nassau:20230504T170000
DTSTAMP:20260424T174954
CREATED:20230421T153206Z
LAST-MODIFIED:20230421T153206Z
UID:28370-1683194400-1683219600@www.industrialtribunal.bs
SUMMARY:Neil Whyms v Island Bloom Limited t/a Outback Steakhouse NP2022-102
DESCRIPTION:
URL:https://www.industrialtribunal.bs/event/neil-whyms-v-island-bloom-limited-t-a-outback-steakhouse-np2022-102/
LOCATION:Court 3 – Vice President Rionda Deleveaux Godet\, First Floor\, Suite 106\, Saffrey Square Building\, Bank Lane and East Street\, Nassau\, New Providence\, Bahamas
CATEGORIES:Court 3, Acting
END:VEVENT
BEGIN:VEVENT
DTSTART;TZID=America/Nassau:20230504T100000
DTEND;TZID=America/Nassau:20230504T170000
DTSTAMP:20260424T174954
CREATED:20230421T152955Z
LAST-MODIFIED:20230421T152955Z
UID:28368-1683194400-1683219600@www.industrialtribunal.bs
SUMMARY:Allyson Farquson v Island Bloom Limited t/a Outback Steakhouse NP2022-099
DESCRIPTION:
URL:https://www.industrialtribunal.bs/event/allyson-farquson-v-island-bloom-limited-t-a-outback-steakhouse-np2022-099/
LOCATION:Court 3 – Vice President Rionda Deleveaux Godet\, First Floor\, Suite 106\, Saffrey Square Building\, Bank Lane and East Street\, Nassau\, New Providence\, Bahamas
CATEGORIES:Court 3, Acting
END:VEVENT
BEGIN:VEVENT
DTSTART;TZID=America/Nassau:20230504T100000
DTEND;TZID=America/Nassau:20230504T170000
DTSTAMP:20260424T174954
CREATED:20230421T152730Z
LAST-MODIFIED:20230421T152730Z
UID:28366-1683194400-1683219600@www.industrialtribunal.bs
SUMMARY:Calpurnia C. Mcphee v Island Bloom Limited t/a Outback Steakhouse NP2022-098
DESCRIPTION:
URL:https://www.industrialtribunal.bs/event/calpurnia-c-mcphee-v-island-bloom-limited-t-a-outback-steakhouse-np2022-098/
LOCATION:Court 3 – Vice President Rionda Deleveaux Godet\, First Floor\, Suite 106\, Saffrey Square Building\, Bank Lane and East Street\, Nassau\, New Providence\, Bahamas
CATEGORIES:Court 3, Acting
END:VEVENT
BEGIN:VEVENT
DTSTART;TZID=America/Nassau:20230501T100000
DTEND;TZID=America/Nassau:20230501T170000
DTSTAMP:20260424T174954
CREATED:20230421T152139Z
LAST-MODIFIED:20230421T152139Z
UID:28364-1682935200-1682960400@www.industrialtribunal.bs
SUMMARY:Willard Rolle v Commonwealth Brewery NP2021-060
DESCRIPTION:
URL:https://www.industrialtribunal.bs/event/willard-rolle-v-commonwealth-brewery-np2021-060-3/
LOCATION:Court 3 – Vice President Rionda Deleveaux Godet\, First Floor\, Suite 106\, Saffrey Square Building\, Bank Lane and East Street\, Nassau\, New Providence\, Bahamas
CATEGORIES:Court 3, Acting
END:VEVENT
BEGIN:VEVENT
DTSTART;TZID=America/Nassau:20230428T100000
DTEND;TZID=America/Nassau:20230428T170000
DTSTAMP:20260424T174954
CREATED:20230322T204532Z
LAST-MODIFIED:20230322T204532Z
UID:28231-1682676000-1682701200@www.industrialtribunal.bs
SUMMARY:Cherica Whylly v Bethel Baptist NP2022-042
DESCRIPTION:
URL:https://www.industrialtribunal.bs/event/cherica-whylly-v-bethel-baptist-np2022-042-2/
LOCATION:Court 3 – Vice President Rionda Deleveaux Godet\, First Floor\, Suite 106\, Saffrey Square Building\, Bank Lane and East Street\, Nassau\, New Providence\, Bahamas
CATEGORIES:Court 3, Acting
END:VEVENT
BEGIN:VEVENT
DTSTART;TZID=America/Nassau:20230427T100000
DTEND;TZID=America/Nassau:20230427T170000
DTSTAMP:20260424T174954
CREATED:20230322T204454Z
LAST-MODIFIED:20230322T204454Z
UID:28229-1682589600-1682614800@www.industrialtribunal.bs
SUMMARY:Cherica Whylly v Bethel Baptist NP2022-042
DESCRIPTION:
URL:https://www.industrialtribunal.bs/event/cherica-whylly-v-bethel-baptist-np2022-042/
LOCATION:Court 3 – Vice President Rionda Deleveaux Godet\, First Floor\, Suite 106\, Saffrey Square Building\, Bank Lane and East Street\, Nassau\, New Providence\, Bahamas
CATEGORIES:Court 3, Acting
END:VEVENT
BEGIN:VEVENT
DTSTART;TZID=America/Nassau:20230425T100000
DTEND;TZID=America/Nassau:20230425T170000
DTSTAMP:20260424T174954
CREATED:20230322T204416Z
LAST-MODIFIED:20230322T204416Z
UID:28227-1682416800-1682442000@www.industrialtribunal.bs
SUMMARY:Kirkwood Rolle v CTFBM Baha Mar NP2022-047
DESCRIPTION:
URL:https://www.industrialtribunal.bs/event/kirkwood-rolle-v-ctfbm-baha-mar-np2022-047-3/
LOCATION:Court 3 – Vice President Rionda Deleveaux Godet\, First Floor\, Suite 106\, Saffrey Square Building\, Bank Lane and East Street\, Nassau\, New Providence\, Bahamas
CATEGORIES:Court 3, Acting
END:VEVENT
BEGIN:VEVENT
DTSTART;TZID=America/Nassau:20230424T100000
DTEND;TZID=America/Nassau:20230424T170000
DTSTAMP:20260424T174954
CREATED:20230322T204326Z
LAST-MODIFIED:20230322T204326Z
UID:28225-1682330400-1682355600@www.industrialtribunal.bs
SUMMARY:Kirkwood Rolle v CTFBM Baha Mar NP2022-047
DESCRIPTION:
URL:https://www.industrialtribunal.bs/event/kirkwood-rolle-v-ctfbm-baha-mar-np2022-047-2/
LOCATION:Court 3 – Vice President Rionda Deleveaux Godet\, First Floor\, Suite 106\, Saffrey Square Building\, Bank Lane and East Street\, Nassau\, New Providence\, Bahamas
CATEGORIES:Court 3, Acting
END:VEVENT
BEGIN:VEVENT
DTSTART;TZID=America/Nassau:20230419T100000
DTEND;TZID=America/Nassau:20230419T170000
DTSTAMP:20260424T174954
CREATED:20230322T204243Z
LAST-MODIFIED:20230322T204243Z
UID:28223-1681898400-1681923600@www.industrialtribunal.bs
SUMMARY:Rodger McKenzie v The Inter-tech Group of Companies NP2021-234
DESCRIPTION:
URL:https://www.industrialtribunal.bs/event/rodger-mckenzie-v-the-inter-tech-group-of-companies-np2021-234/
LOCATION:Court 3 – Vice President Rionda Deleveaux Godet\, First Floor\, Suite 106\, Saffrey Square Building\, Bank Lane and East Street\, Nassau\, New Providence\, Bahamas
CATEGORIES:Court 3, Acting
END:VEVENT
BEGIN:VEVENT
DTSTART;TZID=America/Nassau:20230419T100000
DTEND;TZID=America/Nassau:20230419T170000
DTSTAMP:20260424T174954
CREATED:20230322T204157Z
LAST-MODIFIED:20230322T204157Z
UID:28221-1681898400-1681923600@www.industrialtribunal.bs
SUMMARY:Sabrina Forbes v Bahamas Sewerage Control d/b/a M.D.B Enterprises Bahamas Ltd NP2022-133
DESCRIPTION:
URL:https://www.industrialtribunal.bs/event/sabrina-forbes-v-bahamas-sewerage-control-d-b-a-m-d-b-enterprises-bahamas-ltd-np2022-133/
LOCATION:Court 3 – Vice President Rionda Deleveaux Godet\, First Floor\, Suite 106\, Saffrey Square Building\, Bank Lane and East Street\, Nassau\, New Providence\, Bahamas
CATEGORIES:Court 3, Acting
END:VEVENT
BEGIN:VEVENT
DTSTART;TZID=America/Nassau:20230419T100000
DTEND;TZID=America/Nassau:20230419T170000
DTSTAMP:20260424T174954
CREATED:20230322T204049Z
LAST-MODIFIED:20230322T204049Z
UID:28219-1681898400-1681923600@www.industrialtribunal.bs
SUMMARY:Alexander Younis v La Bougainvillea Ltd NP2022-120
DESCRIPTION:
URL:https://www.industrialtribunal.bs/event/alexander-younis-v-la-bougainvillea-ltd-np2022-120-2/
LOCATION:Court 3 – Vice President Rionda Deleveaux Godet\, First Floor\, Suite 106\, Saffrey Square Building\, Bank Lane and East Street\, Nassau\, New Providence\, Bahamas
CATEGORIES:Court 3, Acting
END:VEVENT
BEGIN:VEVENT
DTSTART;TZID=America/Nassau:20230417T100000
DTEND;TZID=America/Nassau:20230417T170000
DTSTAMP:20260424T174954
CREATED:20230322T203944Z
LAST-MODIFIED:20230322T203944Z
UID:28217-1681725600-1681750800@www.industrialtribunal.bs
SUMMARY:Valencia Lundy v Tempo Paris NP2022-80
DESCRIPTION:
URL:https://www.industrialtribunal.bs/event/valencia-lundy-v-tempo-paris-np2022-80/
LOCATION:Court 3 – Vice President Rionda Deleveaux Godet\, First Floor\, Suite 106\, Saffrey Square Building\, Bank Lane and East Street\, Nassau\, New Providence\, Bahamas
CATEGORIES:Court 3, Acting
END:VEVENT
BEGIN:VEVENT
DTSTART;TZID=America/Nassau:20230417T100000
DTEND;TZID=America/Nassau:20230417T170000
DTSTAMP:20260424T174954
CREATED:20230322T203822Z
LAST-MODIFIED:20230322T203822Z
UID:28215-1681725600-1681750800@www.industrialtribunal.bs
SUMMARY:Barbara Peterson v Bonanza Crown Jewelers NP2022-012
DESCRIPTION:
URL:https://www.industrialtribunal.bs/event/barbara-peterson-v-bonanza-crown-jewelers-np2022-012/
LOCATION:Court 3 – Vice President Rionda Deleveaux Godet\, First Floor\, Suite 106\, Saffrey Square Building\, Bank Lane and East Street\, Nassau\, New Providence\, Bahamas
CATEGORIES:Court 3, Acting
END:VEVENT
BEGIN:VEVENT
DTSTART;TZID=America/Nassau:20230413T100000
DTEND;TZID=America/Nassau:20230413T170000
DTSTAMP:20260424T174954
CREATED:20230322T203629Z
LAST-MODIFIED:20230322T203629Z
UID:28213-1681380000-1681405200@www.industrialtribunal.bs
SUMMARY:Silver Sturrup v Be Aliv NP2021-064
DESCRIPTION:
URL:https://www.industrialtribunal.bs/event/silver-sturrup-v-be-aliv-np2021-064-2/
LOCATION:Court 3 – Vice President Rionda Deleveaux Godet\, First Floor\, Suite 106\, Saffrey Square Building\, Bank Lane and East Street\, Nassau\, New Providence\, Bahamas
CATEGORIES:Court 3, Acting
END:VEVENT
BEGIN:VEVENT
DTSTART;TZID=America/Nassau:20230412T100000
DTEND;TZID=America/Nassau:20230412T170000
DTSTAMP:20260424T174954
CREATED:20230322T203516Z
LAST-MODIFIED:20230322T203516Z
UID:28211-1681293600-1681318800@www.industrialtribunal.bs
SUMMARY:Silver Sturrup v Be Aliv NP2021-064
DESCRIPTION:
URL:https://www.industrialtribunal.bs/event/silver-sturrup-v-be-aliv-np2021-064/
LOCATION:Court 3 – Vice President Rionda Deleveaux Godet\, First Floor\, Suite 106\, Saffrey Square Building\, Bank Lane and East Street\, Nassau\, New Providence\, Bahamas
CATEGORIES:Court 3, Acting
END:VEVENT
BEGIN:VEVENT
DTSTART;TZID=America/Nassau:20230411T100000
DTEND;TZID=America/Nassau:20230411T170000
DTSTAMP:20260424T174954
CREATED:20230322T203405Z
LAST-MODIFIED:20230322T203405Z
UID:28209-1681207200-1681232400@www.industrialtribunal.bs
SUMMARY:Ryan McCartney v Bahamas Telecommunication Company NP2021-073
DESCRIPTION:
URL:https://www.industrialtribunal.bs/event/ryan-mccartney-v-bahamas-telecommunication-company-np2021-073/
LOCATION:Court 3 – Vice President Rionda Deleveaux Godet\, First Floor\, Suite 106\, Saffrey Square Building\, Bank Lane and East Street\, Nassau\, New Providence\, Bahamas
CATEGORIES:Court 3, Acting
END:VEVENT
BEGIN:VEVENT
DTSTART;TZID=America/Nassau:20230411T100000
DTEND;TZID=America/Nassau:20230411T170000
DTSTAMP:20260424T174954
CREATED:20230322T203305Z
LAST-MODIFIED:20230322T203305Z
UID:28207-1681207200-1681232400@www.industrialtribunal.bs
SUMMARY:Samantha Dean v Genava Brass NP2021-201
DESCRIPTION:
URL:https://www.industrialtribunal.bs/event/samantha-dean-v-genava-brass-np2021-201/
LOCATION:Court 3 – Vice President Rionda Deleveaux Godet\, First Floor\, Suite 106\, Saffrey Square Building\, Bank Lane and East Street\, Nassau\, New Providence\, Bahamas
CATEGORIES:Court 3, Acting
END:VEVENT
BEGIN:VEVENT
DTSTART;TZID=America/Nassau:20230405T100000
DTEND;TZID=America/Nassau:20230405T170000
DTSTAMP:20260424T174954
CREATED:20230322T203204Z
LAST-MODIFIED:20230322T203204Z
UID:28205-1680688800-1680714000@www.industrialtribunal.bs
SUMMARY:Garey F. Jones v Lyford Manor NP2021-231
DESCRIPTION:
URL:https://www.industrialtribunal.bs/event/garey-f-jones-v-lyford-manor-np2021-231/
LOCATION:Court 3 – Vice President Rionda Deleveaux Godet\, First Floor\, Suite 106\, Saffrey Square Building\, Bank Lane and East Street\, Nassau\, New Providence\, Bahamas
CATEGORIES:Court 3, Acting
END:VEVENT
BEGIN:VEVENT
DTSTART;TZID=America/Nassau:20230329T100000
DTEND;TZID=America/Nassau:20230329T170000
DTSTAMP:20260424T174954
CREATED:20230224T190434Z
LAST-MODIFIED:20230224T190434Z
UID:28099-1680084000-1680109200@www.industrialtribunal.bs
SUMMARY:All-non Managerial Staff v CIBC First Caribbean International Bank NP2022-041
DESCRIPTION:
URL:https://www.industrialtribunal.bs/event/all-non-managerial-staff-v-cibc-first-caribbean-international-bank-np2022-041/
LOCATION:Court 3 – Vice President Rionda Deleveaux Godet\, First Floor\, Suite 106\, Saffrey Square Building\, Bank Lane and East Street\, Nassau\, New Providence\, Bahamas
CATEGORIES:Court 3, Acting
END:VEVENT
BEGIN:VEVENT
DTSTART;TZID=America/Nassau:20230328T100000
DTEND;TZID=America/Nassau:20230328T170000
DTSTAMP:20260424T174954
CREATED:20230224T185827Z
LAST-MODIFIED:20230224T185827Z
UID:28097-1679997600-1680022800@www.industrialtribunal.bs
SUMMARY:Bahamas General Service Worker v Bahamas Waste NP2018-98
DESCRIPTION:
URL:https://www.industrialtribunal.bs/event/bahamas-general-service-worker-v-bahamas-waste-np2018-98/
LOCATION:Court 3 – Vice President Rionda Deleveaux Godet\, First Floor\, Suite 106\, Saffrey Square Building\, Bank Lane and East Street\, Nassau\, New Providence\, Bahamas
CATEGORIES:Court 3, Acting
END:VEVENT
BEGIN:VEVENT
DTSTART;TZID=America/Nassau:20230327T100000
DTEND;TZID=America/Nassau:20230327T170000
DTSTAMP:20260424T174954
CREATED:20230224T185705Z
LAST-MODIFIED:20230224T185705Z
UID:28095-1679911200-1679936400@www.industrialtribunal.bs
SUMMARY:Franco Ferguson v Bahamas Power & Light NP2022-008
DESCRIPTION:
URL:https://www.industrialtribunal.bs/event/franco-ferguson-v-bahamas-power-light-np2022-008-3/
LOCATION:Court 3 – Vice President Rionda Deleveaux Godet\, First Floor\, Suite 106\, Saffrey Square Building\, Bank Lane and East Street\, Nassau\, New Providence\, Bahamas
CATEGORIES:Court 3, Acting
END:VEVENT
BEGIN:VEVENT
DTSTART;TZID=America/Nassau:20230323T100000
DTEND;TZID=America/Nassau:20230323T170000
DTSTAMP:20260424T174954
CREATED:20230224T185529Z
LAST-MODIFIED:20230224T185529Z
UID:28093-1679565600-1679590800@www.industrialtribunal.bs
SUMMARY:Charles Joseph v Super Club Breezes NP2022-030
DESCRIPTION:
URL:https://www.industrialtribunal.bs/event/charles-joseph-v-super-club-breezes-np2022-030-2/
LOCATION:Court 3 – Vice President Rionda Deleveaux Godet\, First Floor\, Suite 106\, Saffrey Square Building\, Bank Lane and East Street\, Nassau\, New Providence\, Bahamas
CATEGORIES:Court 3, Acting
END:VEVENT
BEGIN:VEVENT
DTSTART;TZID=America/Nassau:20230322T100000
DTEND;TZID=America/Nassau:20230322T170000
DTSTAMP:20260424T174954
CREATED:20230224T185411Z
LAST-MODIFIED:20230224T185411Z
UID:28091-1679479200-1679504400@www.industrialtribunal.bs
SUMMARY:Vito Smith v Stuarts Cove Dive Bahamas NP2022-014
DESCRIPTION:
URL:https://www.industrialtribunal.bs/event/vito-smith-v-stuarts-cove-dive-bahamas-np2022-014-3/
LOCATION:Court 3 – Vice President Rionda Deleveaux Godet\, First Floor\, Suite 106\, Saffrey Square Building\, Bank Lane and East Street\, Nassau\, New Providence\, Bahamas
CATEGORIES:Court 3, Acting
END:VEVENT
END:VCALENDAR