BEGIN:VCALENDAR
VERSION:2.0
PRODID:-//Bahamas Industrial Tribunal - ECPv6.15.20//NONSGML v1.0//EN
CALSCALE:GREGORIAN
METHOD:PUBLISH
X-WR-CALNAME:Bahamas Industrial Tribunal
X-ORIGINAL-URL:https://www.industrialtribunal.bs
X-WR-CALDESC:Events for Bahamas Industrial Tribunal
REFRESH-INTERVAL;VALUE=DURATION:PT1H
X-Robots-Tag:noindex
X-PUBLISHED-TTL:PT1H
BEGIN:VTIMEZONE
TZID:America/Nassau
BEGIN:DAYLIGHT
TZOFFSETFROM:-0500
TZOFFSETTO:-0400
TZNAME:EDT
DTSTART:20210314T070000
END:DAYLIGHT
BEGIN:STANDARD
TZOFFSETFROM:-0400
TZOFFSETTO:-0500
TZNAME:EST
DTSTART:20211107T060000
END:STANDARD
BEGIN:DAYLIGHT
TZOFFSETFROM:-0500
TZOFFSETTO:-0400
TZNAME:EDT
DTSTART:20220313T070000
END:DAYLIGHT
BEGIN:STANDARD
TZOFFSETFROM:-0400
TZOFFSETTO:-0500
TZNAME:EST
DTSTART:20221106T060000
END:STANDARD
BEGIN:DAYLIGHT
TZOFFSETFROM:-0500
TZOFFSETTO:-0400
TZNAME:EDT
DTSTART:20230312T070000
END:DAYLIGHT
BEGIN:STANDARD
TZOFFSETFROM:-0400
TZOFFSETTO:-0500
TZNAME:EST
DTSTART:20231105T060000
END:STANDARD
END:VTIMEZONE
BEGIN:VEVENT
DTSTART;TZID=America/Nassau:20220919T100000
DTEND;TZID=America/Nassau:20220919T170000
DTSTAMP:20260425T065451
CREATED:20220902T140449Z
LAST-MODIFIED:20220902T140449Z
UID:26724-1663581600-1663606800@www.industrialtribunal.bs
SUMMARY:Khaliah Brown v Ministry of Financial Services NP2021-217
DESCRIPTION:
URL:https://www.industrialtribunal.bs/event/khaliah-brown-v-ministry-of-financial-services-np2021-217/
LOCATION:Court 3 – Vice President Rionda Deleveaux Godet\, First Floor\, Suite 106\, Saffrey Square Building\, Bank Lane and East Street\, Nassau\, New Providence\, Bahamas
CATEGORIES:Court 3, Acting
END:VEVENT
BEGIN:VEVENT
DTSTART;TZID=America/Nassau:20220914T100000
DTEND;TZID=America/Nassau:20220914T170000
DTSTAMP:20260425T065451
CREATED:20220902T140146Z
LAST-MODIFIED:20220902T140146Z
UID:26722-1663149600-1663174800@www.industrialtribunal.bs
SUMMARY:Barbara Knowles v Maisie Sands NP2021-206
DESCRIPTION:
URL:https://www.industrialtribunal.bs/event/barbara-knowles-v-maisie-sands-np2021-206/
LOCATION:Court 3 – Vice President Rionda Deleveaux Godet\, First Floor\, Suite 106\, Saffrey Square Building\, Bank Lane and East Street\, Nassau\, New Providence\, Bahamas
CATEGORIES:Court 3, Acting
END:VEVENT
BEGIN:VEVENT
DTSTART;TZID=America/Nassau:20220906T100000
DTEND;TZID=America/Nassau:20220906T170000
DTSTAMP:20260425T065451
CREATED:20220901T223022Z
LAST-MODIFIED:20220901T223022Z
UID:26683-1662458400-1662483600@www.industrialtribunal.bs
SUMMARY:Pheron Moss & Carl Fowler v Bahamas Air Navigation Services Division NP2020-74
DESCRIPTION:
URL:https://www.industrialtribunal.bs/event/pheron-moss-carl-fowler-v-bahamas-air-navigation-services-division-np2020-74-2/
LOCATION:Court 3 – Vice President Rionda Deleveaux Godet\, First Floor\, Suite 106\, Saffrey Square Building\, Bank Lane and East Street\, Nassau\, New Providence\, Bahamas
CATEGORIES:Court 3, Acting
END:VEVENT
BEGIN:VEVENT
DTSTART;TZID=America/Nassau:20220905T100000
DTEND;TZID=America/Nassau:20220905T170000
DTSTAMP:20260425T065451
CREATED:20220901T194839Z
LAST-MODIFIED:20220901T194839Z
UID:26667-1662372000-1662397200@www.industrialtribunal.bs
SUMMARY:Pheron Moss & Carl Fowler v Bahamas Air Navigation Services Division NP2020-74
DESCRIPTION:
URL:https://www.industrialtribunal.bs/event/pheron-moss-carl-fowler-v-bahamas-air-navigation-services-division-np2020-74/
LOCATION:Court 3 – Vice President Rionda Deleveaux Godet\, First Floor\, Suite 106\, Saffrey Square Building\, Bank Lane and East Street\, Nassau\, New Providence\, Bahamas
CATEGORIES:Court 3, Acting
END:VEVENT
END:VCALENDAR