BEGIN:VCALENDAR
VERSION:2.0
PRODID:-//Bahamas Industrial Tribunal - ECPv6.15.20//NONSGML v1.0//EN
CALSCALE:GREGORIAN
METHOD:PUBLISH
X-WR-CALNAME:Bahamas Industrial Tribunal
X-ORIGINAL-URL:https://www.industrialtribunal.bs
X-WR-CALDESC:Events for Bahamas Industrial Tribunal
REFRESH-INTERVAL;VALUE=DURATION:PT1H
X-Robots-Tag:noindex
X-PUBLISHED-TTL:PT1H
BEGIN:VTIMEZONE
TZID:America/Nassau
BEGIN:DAYLIGHT
TZOFFSETFROM:-0500
TZOFFSETTO:-0400
TZNAME:EDT
DTSTART:20230312T070000
END:DAYLIGHT
BEGIN:STANDARD
TZOFFSETFROM:-0400
TZOFFSETTO:-0500
TZNAME:EST
DTSTART:20231105T060000
END:STANDARD
BEGIN:DAYLIGHT
TZOFFSETFROM:-0500
TZOFFSETTO:-0400
TZNAME:EDT
DTSTART:20240310T070000
END:DAYLIGHT
BEGIN:STANDARD
TZOFFSETFROM:-0400
TZOFFSETTO:-0500
TZNAME:EST
DTSTART:20241103T060000
END:STANDARD
BEGIN:DAYLIGHT
TZOFFSETFROM:-0500
TZOFFSETTO:-0400
TZNAME:EDT
DTSTART:20250309T070000
END:DAYLIGHT
BEGIN:STANDARD
TZOFFSETFROM:-0400
TZOFFSETTO:-0500
TZNAME:EST
DTSTART:20251102T060000
END:STANDARD
END:VTIMEZONE
BEGIN:VEVENT
DTSTART;TZID=America/Nassau:20241112T100000
DTEND;TZID=America/Nassau:20241112T170000
DTSTAMP:20260425T222431
CREATED:20241101T182949Z
LAST-MODIFIED:20241101T182949Z
UID:31596-1731405600-1731430800@www.industrialtribunal.bs
SUMMARY:Janeen Clarke v Solomon Super Center (AML) NP2024-052
DESCRIPTION:
URL:https://www.industrialtribunal.bs/event/janeen-clarke-v-solomon-super-center-aml-np2024-052/
LOCATION:Court 3 – Vice President Sharada Humes Ferguson\, First Floor\, Suite 106\, Saffrey Square Building\, Bank Lane and East Street\, Nassau\, New Providence\, Bahamas
CATEGORIES:Court 3
END:VEVENT
BEGIN:VEVENT
DTSTART;TZID=America/Nassau:20241112T100000
DTEND;TZID=America/Nassau:20241112T170000
DTSTAMP:20260425T222431
CREATED:20241101T183138Z
LAST-MODIFIED:20241101T183138Z
UID:31598-1731405600-1731430800@www.industrialtribunal.bs
SUMMARY:Karunthilaka Rajarathne (Brayan) v Sandpiper Cafe Limited NP2024-099
DESCRIPTION:
URL:https://www.industrialtribunal.bs/event/karunthilaka-rajarathne-brayan-v-sandpiper-cafe-limited-np2024-099/
LOCATION:Court 3 – Vice President Sharada Humes Ferguson\, First Floor\, Suite 106\, Saffrey Square Building\, Bank Lane and East Street\, Nassau\, New Providence\, Bahamas
CATEGORIES:Court 3
END:VEVENT
BEGIN:VEVENT
DTSTART;TZID=America/Nassau:20241118T100000
DTEND;TZID=America/Nassau:20241118T170000
DTSTAMP:20260425T222431
CREATED:20241101T183247Z
LAST-MODIFIED:20241101T183247Z
UID:31600-1731924000-1731949200@www.industrialtribunal.bs
SUMMARY:Calan Gibson Jr v Westech Security International NP2023-033
DESCRIPTION:
URL:https://www.industrialtribunal.bs/event/calan-gibson-jr-v-westech-security-international-np2023-033-3/
LOCATION:Court 3 – Vice President Sharada Humes Ferguson\, First Floor\, Suite 106\, Saffrey Square Building\, Bank Lane and East Street\, Nassau\, New Providence\, Bahamas
CATEGORIES:Court 3
END:VEVENT
BEGIN:VEVENT
DTSTART;TZID=America/Nassau:20241120T100000
DTEND;TZID=America/Nassau:20241120T170000
DTSTAMP:20260425T222431
CREATED:20241101T184648Z
LAST-MODIFIED:20241101T184648Z
UID:31602-1732096800-1732122000@www.industrialtribunal.bs
SUMMARY:Valerie R Cooper-Neely v Bahamas Hyperbaric Center NP2021-2019
DESCRIPTION:
URL:https://www.industrialtribunal.bs/event/valerie-r-cooper-neely-v-bahamas-hyperbaric-center-np2021-2019/
LOCATION:Court 3 – Vice President Sharada Humes Ferguson\, First Floor\, Suite 106\, Saffrey Square Building\, Bank Lane and East Street\, Nassau\, New Providence\, Bahamas
CATEGORIES:Court 3
END:VEVENT
BEGIN:VEVENT
DTSTART;TZID=America/Nassau:20241120T100000
DTEND;TZID=America/Nassau:20241120T170000
DTSTAMP:20260425T222431
CREATED:20241101T185653Z
LAST-MODIFIED:20241101T185653Z
UID:31604-1732096800-1732122000@www.industrialtribunal.bs
SUMMARY:Laron M. Neely v Bahamas Hyperbaric Center NP2021-224
DESCRIPTION:
URL:https://www.industrialtribunal.bs/event/laron-m-neely-v-bahamas-hyperbaric-center-np2021-224/
LOCATION:Court 3 – Vice President Sharada Humes Ferguson\, First Floor\, Suite 106\, Saffrey Square Building\, Bank Lane and East Street\, Nassau\, New Providence\, Bahamas
CATEGORIES:Court 3
END:VEVENT
BEGIN:VEVENT
DTSTART;TZID=America/Nassau:20241121T100000
DTEND;TZID=America/Nassau:20241121T170000
DTSTAMP:20260425T222431
CREATED:20241101T190407Z
LAST-MODIFIED:20241101T190407Z
UID:31606-1732183200-1732208400@www.industrialtribunal.bs
SUMMARY:Randelle Gordon v Shell Saunders Beach NP2024-027
DESCRIPTION:
URL:https://www.industrialtribunal.bs/event/randelle-gordon-v-shell-saunders-beach-np2024-027/
LOCATION:Court 3 – Vice President Sharada Humes Ferguson\, First Floor\, Suite 106\, Saffrey Square Building\, Bank Lane and East Street\, Nassau\, New Providence\, Bahamas
CATEGORIES:Court 3
END:VEVENT
BEGIN:VEVENT
DTSTART;TZID=America/Nassau:20241121T100000
DTEND;TZID=America/Nassau:20241121T170000
DTSTAMP:20260425T222431
CREATED:20241101T191020Z
LAST-MODIFIED:20241101T191020Z
UID:31608-1732183200-1732208400@www.industrialtribunal.bs
SUMMARY:Julian Pedican v Milo Butler & Son Limited NP2021-121
DESCRIPTION:
URL:https://www.industrialtribunal.bs/event/julian-pedican-v-milo-butler-son-limited-np2021-121/
LOCATION:Court 3 – Vice President Sharada Humes Ferguson\, First Floor\, Suite 106\, Saffrey Square Building\, Bank Lane and East Street\, Nassau\, New Providence\, Bahamas
CATEGORIES:Court 3
END:VEVENT
BEGIN:VEVENT
DTSTART;TZID=America/Nassau:20241121T100000
DTEND;TZID=America/Nassau:20241121T170000
DTSTAMP:20260425T222431
CREATED:20241101T191129Z
LAST-MODIFIED:20241101T191129Z
UID:31610-1732183200-1732208400@www.industrialtribunal.bs
SUMMARY:Mikhail Smith v West Wind II Limited NP2024-109
DESCRIPTION:
URL:https://www.industrialtribunal.bs/event/mikhail-smith-v-west-wind-ii-limited-np2024-109/
LOCATION:Court 3 – Vice President Sharada Humes Ferguson\, First Floor\, Suite 106\, Saffrey Square Building\, Bank Lane and East Street\, Nassau\, New Providence\, Bahamas
CATEGORIES:Court 3
END:VEVENT
BEGIN:VEVENT
DTSTART;TZID=America/Nassau:20241122T100000
DTEND;TZID=America/Nassau:20241122T170000
DTSTAMP:20260425T222431
CREATED:20241101T191253Z
LAST-MODIFIED:20241101T191253Z
UID:31612-1732269600-1732294800@www.industrialtribunal.bs
SUMMARY:Neil Roker v Centauri Transport Bahamas Limited\, Centauri Transport LLC & Ron Adam & Frank Visconti NP2024-042
DESCRIPTION:
URL:https://www.industrialtribunal.bs/event/neil-roker-v-centauri-transport-bahamas-limited-centauri-transport-llc-ron-adam-frank-visconti-np2024-042/
LOCATION:Court 3 – Vice President Sharada Humes Ferguson\, First Floor\, Suite 106\, Saffrey Square Building\, Bank Lane and East Street\, Nassau\, New Providence\, Bahamas
CATEGORIES:Court 3
END:VEVENT
BEGIN:VEVENT
DTSTART;TZID=America/Nassau:20241122T100000
DTEND;TZID=America/Nassau:20241122T170000
DTSTAMP:20260425T222431
CREATED:20241101T191403Z
LAST-MODIFIED:20241101T191403Z
UID:31614-1732269600-1732294800@www.industrialtribunal.bs
SUMMARY:Caroline Thompson v SMG Millwork Limited NP2024-078
DESCRIPTION:
URL:https://www.industrialtribunal.bs/event/caroline-thompson-v-smg-millwork-limited-np2024-078/
LOCATION:Court 3 – Vice President Sharada Humes Ferguson\, First Floor\, Suite 106\, Saffrey Square Building\, Bank Lane and East Street\, Nassau\, New Providence\, Bahamas
CATEGORIES:Court 3
END:VEVENT
BEGIN:VEVENT
DTSTART;TZID=America/Nassau:20241122T100000
DTEND;TZID=America/Nassau:20241122T170000
DTSTAMP:20260425T222431
CREATED:20241101T191505Z
LAST-MODIFIED:20241101T191505Z
UID:31616-1732269600-1732294800@www.industrialtribunal.bs
SUMMARY:Tara Anita Brown v Outten IP NP2024-037
DESCRIPTION:
URL:https://www.industrialtribunal.bs/event/tara-anita-brown-v-outten-ip-np2024-037/
LOCATION:Court 3 – Vice President Sharada Humes Ferguson\, First Floor\, Suite 106\, Saffrey Square Building\, Bank Lane and East Street\, Nassau\, New Providence\, Bahamas
CATEGORIES:Court 3
END:VEVENT
BEGIN:VEVENT
DTSTART;TZID=America/Nassau:20241128T100000
DTEND;TZID=America/Nassau:20241128T170000
DTSTAMP:20260425T222431
CREATED:20241101T191741Z
LAST-MODIFIED:20241101T191741Z
UID:31620-1732788000-1732813200@www.industrialtribunal.bs
SUMMARY:Brian Omar Sands v The Mall at Marathon Limited NP2023-024
DESCRIPTION:
URL:https://www.industrialtribunal.bs/event/brian-omar-sands-v-the-mall-at-marathon-limited-np2023-024/
LOCATION:Court 3 – Vice President Sharada Humes Ferguson\, First Floor\, Suite 106\, Saffrey Square Building\, Bank Lane and East Street\, Nassau\, New Providence\, Bahamas
CATEGORIES:Court 3
END:VEVENT
END:VCALENDAR