BEGIN:VCALENDAR
VERSION:2.0
PRODID:-//Bahamas Industrial Tribunal - ECPv6.15.20//NONSGML v1.0//EN
CALSCALE:GREGORIAN
METHOD:PUBLISH
X-ORIGINAL-URL:https://www.industrialtribunal.bs
X-WR-CALDESC:Events for Bahamas Industrial Tribunal
REFRESH-INTERVAL;VALUE=DURATION:PT1H
X-Robots-Tag:noindex
X-PUBLISHED-TTL:PT1H
BEGIN:VTIMEZONE
TZID:America/Nassau
BEGIN:DAYLIGHT
TZOFFSETFROM:-0500
TZOFFSETTO:-0400
TZNAME:EDT
DTSTART:20230312T070000
END:DAYLIGHT
BEGIN:STANDARD
TZOFFSETFROM:-0400
TZOFFSETTO:-0500
TZNAME:EST
DTSTART:20231105T060000
END:STANDARD
BEGIN:DAYLIGHT
TZOFFSETFROM:-0500
TZOFFSETTO:-0400
TZNAME:EDT
DTSTART:20240310T070000
END:DAYLIGHT
BEGIN:STANDARD
TZOFFSETFROM:-0400
TZOFFSETTO:-0500
TZNAME:EST
DTSTART:20241103T060000
END:STANDARD
BEGIN:DAYLIGHT
TZOFFSETFROM:-0500
TZOFFSETTO:-0400
TZNAME:EDT
DTSTART:20250309T070000
END:DAYLIGHT
BEGIN:STANDARD
TZOFFSETFROM:-0400
TZOFFSETTO:-0500
TZNAME:EST
DTSTART:20251102T060000
END:STANDARD
END:VTIMEZONE
BEGIN:VEVENT
DTSTART;TZID=America/Nassau:20241120T100000
DTEND;TZID=America/Nassau:20241120T170000
DTSTAMP:20260426T000104
CREATED:20241101T184648Z
LAST-MODIFIED:20241101T184648Z
UID:31602-1732096800-1732122000@www.industrialtribunal.bs
SUMMARY:Valerie R Cooper-Neely v Bahamas Hyperbaric Center NP2021-2019
DESCRIPTION:
URL:https://www.industrialtribunal.bs/event/valerie-r-cooper-neely-v-bahamas-hyperbaric-center-np2021-2019/
LOCATION:Court 3 – Vice President Sharada Humes Ferguson\, First Floor\, Suite 106\, Saffrey Square Building\, Bank Lane and East Street\, Nassau\, New Providence\, Bahamas
CATEGORIES:Court 3
END:VEVENT
BEGIN:VEVENT
DTSTART;TZID=America/Nassau:20241120T100000
DTEND;TZID=America/Nassau:20241120T170000
DTSTAMP:20260426T000104
CREATED:20241101T185653Z
LAST-MODIFIED:20241101T185653Z
UID:31604-1732096800-1732122000@www.industrialtribunal.bs
SUMMARY:Laron M. Neely v Bahamas Hyperbaric Center NP2021-224
DESCRIPTION:
URL:https://www.industrialtribunal.bs/event/laron-m-neely-v-bahamas-hyperbaric-center-np2021-224/
LOCATION:Court 3 – Vice President Sharada Humes Ferguson\, First Floor\, Suite 106\, Saffrey Square Building\, Bank Lane and East Street\, Nassau\, New Providence\, Bahamas
CATEGORIES:Court 3
END:VEVENT
END:VCALENDAR