BEGIN:VCALENDAR
VERSION:2.0
PRODID:-//Bahamas Industrial Tribunal - ECPv6.15.20//NONSGML v1.0//EN
CALSCALE:GREGORIAN
METHOD:PUBLISH
X-WR-CALNAME:Bahamas Industrial Tribunal
X-ORIGINAL-URL:https://www.industrialtribunal.bs
X-WR-CALDESC:Events for Bahamas Industrial Tribunal
REFRESH-INTERVAL;VALUE=DURATION:PT1H
X-Robots-Tag:noindex
X-PUBLISHED-TTL:PT1H
BEGIN:VTIMEZONE
TZID:America/Nassau
BEGIN:DAYLIGHT
TZOFFSETFROM:-0500
TZOFFSETTO:-0400
TZNAME:EDT
DTSTART:20240310T070000
END:DAYLIGHT
BEGIN:STANDARD
TZOFFSETFROM:-0400
TZOFFSETTO:-0500
TZNAME:EST
DTSTART:20241103T060000
END:STANDARD
BEGIN:DAYLIGHT
TZOFFSETFROM:-0500
TZOFFSETTO:-0400
TZNAME:EDT
DTSTART:20250309T070000
END:DAYLIGHT
BEGIN:STANDARD
TZOFFSETFROM:-0400
TZOFFSETTO:-0500
TZNAME:EST
DTSTART:20251102T060000
END:STANDARD
BEGIN:DAYLIGHT
TZOFFSETFROM:-0500
TZOFFSETTO:-0400
TZNAME:EDT
DTSTART:20260308T070000
END:DAYLIGHT
BEGIN:STANDARD
TZOFFSETFROM:-0400
TZOFFSETTO:-0500
TZNAME:EST
DTSTART:20261101T060000
END:STANDARD
END:VTIMEZONE
BEGIN:VEVENT
DTSTART;TZID=America/Nassau:20250910T100000
DTEND;TZID=America/Nassau:20250910T170000
DTSTAMP:20260425T073838
CREATED:20250908T151834Z
LAST-MODIFIED:20250908T151903Z
UID:32847-1757498400-1757523600@www.industrialtribunal.bs
SUMMARY:Nikeya Cash v Mt. Carmel Preparatory Academy NP2022-054
DESCRIPTION:
URL:https://www.industrialtribunal.bs/event/nikeya-cash-v-mt-carmel-preparatory-academy-np2022-054-5/
CATEGORIES:Court 3
END:VEVENT
BEGIN:VEVENT
DTSTART;TZID=America/Nassau:20250910T100000
DTEND;TZID=America/Nassau:20250910T170000
DTSTAMP:20260425T073838
CREATED:20250908T152115Z
LAST-MODIFIED:20250908T152115Z
UID:32849-1757498400-1757523600@www.industrialtribunal.bs
SUMMARY:Daxson Morris v Bayside Construction Development NP2023-102
DESCRIPTION:
URL:https://www.industrialtribunal.bs/event/daxson-morris-v-bayside-construction-development-np2023-102-3/
CATEGORIES:Court 3
END:VEVENT
END:VCALENDAR