BEGIN:VCALENDAR
VERSION:2.0
PRODID:-//Bahamas Industrial Tribunal - ECPv6.15.20//NONSGML v1.0//EN
CALSCALE:GREGORIAN
METHOD:PUBLISH
X-ORIGINAL-URL:https://www.industrialtribunal.bs
X-WR-CALDESC:Events for Bahamas Industrial Tribunal
REFRESH-INTERVAL;VALUE=DURATION:PT1H
X-Robots-Tag:noindex
X-PUBLISHED-TTL:PT1H
BEGIN:VTIMEZONE
TZID:America/Nassau
BEGIN:DAYLIGHT
TZOFFSETFROM:-0500
TZOFFSETTO:-0400
TZNAME:EDT
DTSTART:20220313T070000
END:DAYLIGHT
BEGIN:STANDARD
TZOFFSETFROM:-0400
TZOFFSETTO:-0500
TZNAME:EST
DTSTART:20221106T060000
END:STANDARD
BEGIN:DAYLIGHT
TZOFFSETFROM:-0500
TZOFFSETTO:-0400
TZNAME:EDT
DTSTART:20230312T070000
END:DAYLIGHT
BEGIN:STANDARD
TZOFFSETFROM:-0400
TZOFFSETTO:-0500
TZNAME:EST
DTSTART:20231105T060000
END:STANDARD
BEGIN:DAYLIGHT
TZOFFSETFROM:-0500
TZOFFSETTO:-0400
TZNAME:EDT
DTSTART:20240310T070000
END:DAYLIGHT
BEGIN:STANDARD
TZOFFSETFROM:-0400
TZOFFSETTO:-0500
TZNAME:EST
DTSTART:20241103T060000
END:STANDARD
BEGIN:DAYLIGHT
TZOFFSETFROM:-0500
TZOFFSETTO:-0400
TZNAME:EDT
DTSTART:20250309T070000
END:DAYLIGHT
BEGIN:STANDARD
TZOFFSETFROM:-0400
TZOFFSETTO:-0500
TZNAME:EST
DTSTART:20251102T060000
END:STANDARD
END:VTIMEZONE
BEGIN:VEVENT
DTSTART;TZID=America/Nassau:20240229T100000
DTEND;TZID=America/Nassau:20240229T170000
DTSTAMP:20260425T151554
CREATED:20240208T165758Z
LAST-MODIFIED:20240208T165758Z
UID:30561-1709200800-1709226000@www.industrialtribunal.bs
SUMMARY:Laron M. Neely v Bahamas Hyperbaric Center Ltd NP2021-224
DESCRIPTION:
URL:https://www.industrialtribunal.bs/event/laron-m-neely-v-bahamas-hyperbaric-center-ltd-np2021-224/
LOCATION:Court 3 – Vice President Sharada Humes Ferguson\, First Floor\, Suite 106\, Saffrey Square Building\, Bank Lane and East Street\, Nassau\, New Providence\, Bahamas
CATEGORIES:Court 3
END:VEVENT
BEGIN:VEVENT
DTSTART;TZID=America/Nassau:20240229T100000
DTEND;TZID=America/Nassau:20240229T170000
DTSTAMP:20260425T151554
CREATED:20240208T165639Z
LAST-MODIFIED:20240208T165639Z
UID:30559-1709200800-1709226000@www.industrialtribunal.bs
SUMMARY:Valerie R. Cooper v Bahamas Hyperbaric Center Ltd NP2021-219
DESCRIPTION:
URL:https://www.industrialtribunal.bs/event/valerie-r-cooper-v-bahamas-hyperbaric-center-ltd-np2021-219/
LOCATION:Court 3 – Vice President Sharada Humes Ferguson\, First Floor\, Suite 106\, Saffrey Square Building\, Bank Lane and East Street\, Nassau\, New Providence\, Bahamas
CATEGORIES:Court 3
END:VEVENT
BEGIN:VEVENT
DTSTART;TZID=America/Nassau:20240228T100000
DTEND;TZID=America/Nassau:20240228T170000
DTSTAMP:20260425T151554
CREATED:20240208T165504Z
LAST-MODIFIED:20240208T165504Z
UID:30557-1709114400-1709139600@www.industrialtribunal.bs
SUMMARY:Lena Roberts v GSC Management Company Bahamas Ltd United Shipping Nassau Company Ltd NP2020-94
DESCRIPTION:
URL:https://www.industrialtribunal.bs/event/lena-roberts-v-gsc-management-company-bahamas-ltd-united-shipping-nassau-company-ltd-np2020-94-3/
LOCATION:Court 3 – Vice President Sharada Humes Ferguson\, First Floor\, Suite 106\, Saffrey Square Building\, Bank Lane and East Street\, Nassau\, New Providence\, Bahamas
CATEGORIES:Court 3
END:VEVENT
BEGIN:VEVENT
DTSTART;TZID=America/Nassau:20240227T100000
DTEND;TZID=America/Nassau:20240227T170000
DTSTAMP:20260425T151554
CREATED:20240208T165300Z
LAST-MODIFIED:20240208T165300Z
UID:30555-1709028000-1709053200@www.industrialtribunal.bs
SUMMARY:Lena Roberts v GSC Management Company Bahamas Ltd United Shipping Nassau Company Ltd NP2020-94
DESCRIPTION:
URL:https://www.industrialtribunal.bs/event/lena-roberts-v-gsc-management-company-bahamas-ltd-united-shipping-nassau-company-ltd-np2020-94-2/
LOCATION:Court 3 – Vice President Sharada Humes Ferguson\, First Floor\, Suite 106\, Saffrey Square Building\, Bank Lane and East Street\, Nassau\, New Providence\, Bahamas
CATEGORIES:Court 3
END:VEVENT
BEGIN:VEVENT
DTSTART;TZID=America/Nassau:20240226T100000
DTEND;TZID=America/Nassau:20240226T170000
DTSTAMP:20260425T151554
CREATED:20240208T165120Z
LAST-MODIFIED:20240208T165120Z
UID:30553-1708941600-1708966800@www.industrialtribunal.bs
SUMMARY:Lena Roberts v GSC Management Company Bahamas Ltd United Shipping Nassau Company Ltd NP2020-94
DESCRIPTION:
URL:https://www.industrialtribunal.bs/event/lena-roberts-v-gsc-management-company-bahamas-ltd-united-shipping-nassau-company-ltd-np2020-94/
LOCATION:Court 3 – Vice President Sharada Humes Ferguson\, First Floor\, Suite 106\, Saffrey Square Building\, Bank Lane and East Street\, Nassau\, New Providence\, Bahamas
CATEGORIES:Court 3
END:VEVENT
BEGIN:VEVENT
DTSTART;TZID=America/Nassau:20240220T100000
DTEND;TZID=America/Nassau:20240220T170000
DTSTAMP:20260425T151554
CREATED:20240208T164913Z
LAST-MODIFIED:20240208T164913Z
UID:30551-1708423200-1708448400@www.industrialtribunal.bs
SUMMARY:Shenique Forbes v Distinguised Enterprises Limited NP2021-067
DESCRIPTION:
URL:https://www.industrialtribunal.bs/event/shenique-forbes-v-distinguised-enterprises-limited-np2021-067-2/
LOCATION:Court 3 – Vice President Sharada Humes Ferguson\, First Floor\, Suite 106\, Saffrey Square Building\, Bank Lane and East Street\, Nassau\, New Providence\, Bahamas
CATEGORIES:Court 3
END:VEVENT
BEGIN:VEVENT
DTSTART;TZID=America/Nassau:20240219T100000
DTEND;TZID=America/Nassau:20240219T170000
DTSTAMP:20260425T151554
CREATED:20240208T164756Z
LAST-MODIFIED:20240208T164756Z
UID:30549-1708336800-1708362000@www.industrialtribunal.bs
SUMMARY:Shenique Forbes v Distinguised Enterprises Limited NP2021-067
DESCRIPTION:
URL:https://www.industrialtribunal.bs/event/shenique-forbes-v-distinguised-enterprises-limited-np2021-067/
LOCATION:Court 3 – Vice President Sharada Humes Ferguson\, First Floor\, Suite 106\, Saffrey Square Building\, Bank Lane and East Street\, Nassau\, New Providence\, Bahamas
CATEGORIES:Court 3
END:VEVENT
BEGIN:VEVENT
DTSTART;TZID=America/Nassau:20240216T100000
DTEND;TZID=America/Nassau:20240216T170000
DTSTAMP:20260425T151554
CREATED:20240209T163050Z
LAST-MODIFIED:20240209T163050Z
UID:30566-1708077600-1708102800@www.industrialtribunal.bs
SUMMARY:Antonius Cartwright v Michael Nixon-Morton Bahamas Limited NP2022-072
DESCRIPTION:
URL:https://www.industrialtribunal.bs/event/antonius-cartwright-v-michael-nixon-morton-bahamas-limited-np2022-072-2/
LOCATION:Court 3 – Vice President Sharada Humes Ferguson\, First Floor\, Suite 106\, Saffrey Square Building\, Bank Lane and East Street\, Nassau\, New Providence\, Bahamas
CATEGORIES:Court 3
END:VEVENT
BEGIN:VEVENT
DTSTART;TZID=America/Nassau:20240215T100000
DTEND;TZID=America/Nassau:20240215T170000
DTSTAMP:20260425T151554
CREATED:20240209T162738Z
LAST-MODIFIED:20240209T162738Z
UID:30564-1707991200-1708016400@www.industrialtribunal.bs
SUMMARY:Brock Bridgewater v Paradise Enterprises Limited NP2021-123
DESCRIPTION:
URL:https://www.industrialtribunal.bs/event/brock-bridgewater-v-paradise-enterprises-limited-np2021-123-2/
LOCATION:Court 3 – Vice President Sharada Humes Ferguson\, First Floor\, Suite 106\, Saffrey Square Building\, Bank Lane and East Street\, Nassau\, New Providence\, Bahamas
CATEGORIES:Court 3
END:VEVENT
BEGIN:VEVENT
DTSTART;TZID=America/Nassau:20240215T100000
DTEND;TZID=America/Nassau:20240215T170000
DTSTAMP:20260425T151554
CREATED:20240208T164618Z
LAST-MODIFIED:20240208T164618Z
UID:30547-1707991200-1708016400@www.industrialtribunal.bs
SUMMARY:Antonius Cartwright v Michael Nixon -Morton Bahamas Limited NP2022-072
DESCRIPTION:
URL:https://www.industrialtribunal.bs/event/antonius-cartwright-v-michael-nixon-morton-bahamas-limited-np2022-072/
LOCATION:Court 3 – Vice President Sharada Humes Ferguson\, First Floor\, Suite 106\, Saffrey Square Building\, Bank Lane and East Street\, Nassau\, New Providence\, Bahamas
CATEGORIES:Court 3
END:VEVENT
BEGIN:VEVENT
DTSTART;TZID=America/Nassau:20240213T100000
DTEND;TZID=America/Nassau:20240213T170000
DTSTAMP:20260425T151554
CREATED:20240208T164433Z
LAST-MODIFIED:20240208T164433Z
UID:30545-1707818400-1707843600@www.industrialtribunal.bs
SUMMARY:Cyril Morris v Bahamas Union of Teachers NP2023-006
DESCRIPTION:
URL:https://www.industrialtribunal.bs/event/cyril-morris-v-bahamas-union-of-teachers-np2023-006-2/
LOCATION:Court 3 – Vice President Sharada Humes Ferguson\, First Floor\, Suite 106\, Saffrey Square Building\, Bank Lane and East Street\, Nassau\, New Providence\, Bahamas
CATEGORIES:Court 3
END:VEVENT
BEGIN:VEVENT
DTSTART;TZID=America/Nassau:20240212T100000
DTEND;TZID=America/Nassau:20240212T170000
DTSTAMP:20260425T151554
CREATED:20240208T164321Z
LAST-MODIFIED:20240208T164321Z
UID:30543-1707732000-1707757200@www.industrialtribunal.bs
SUMMARY:Theodore Forbes v Security Masters NP2022-011
DESCRIPTION:
URL:https://www.industrialtribunal.bs/event/theodore-forbes-v-security-masters-np2022-011-2/
LOCATION:Court 3 – Vice President Sharada Humes Ferguson\, First Floor\, Suite 106\, Saffrey Square Building\, Bank Lane and East Street\, Nassau\, New Providence\, Bahamas
CATEGORIES:Court 3
END:VEVENT
BEGIN:VEVENT
DTSTART;TZID=America/Nassau:20240208T100000
DTEND;TZID=America/Nassau:20240208T170000
DTSTAMP:20260425T151554
CREATED:20240208T164220Z
LAST-MODIFIED:20240208T164220Z
UID:30541-1707386400-1707411600@www.industrialtribunal.bs
SUMMARY:Kimsley Fergsuon President (BPSU} on behalf of Lucille Strachan & Alegrio Lewis v Department of Statistics NP2021-186
DESCRIPTION:
URL:https://www.industrialtribunal.bs/event/kimsley-fergsuon-president-bpsu-on-behalf-of-lucille-strachan-alegrio-lewis-v-department-of-statistics-np2021-186/
LOCATION:Court 3 – Vice President Sharada Humes Ferguson\, First Floor\, Suite 106\, Saffrey Square Building\, Bank Lane and East Street\, Nassau\, New Providence\, Bahamas
CATEGORIES:Court 3
END:VEVENT
BEGIN:VEVENT
DTSTART;TZID=America/Nassau:20231207T100000
DTEND;TZID=America/Nassau:20231207T170000
DTSTAMP:20260425T151554
CREATED:20231204T173114Z
LAST-MODIFIED:20231204T173114Z
UID:30396-1701943200-1701968400@www.industrialtribunal.bs
SUMMARY:Tameka Coleby v Warwick Hotel & H.R Business Solution & Marketing NP2022-088
DESCRIPTION:
URL:https://www.industrialtribunal.bs/event/tameka-coleby-v-warwick-hotel-h-r-business-solution-marketing-np2022-088/
LOCATION:Court 3 – Vice President Sharada Humes Ferguson\, First Floor\, Suite 106\, Saffrey Square Building\, Bank Lane and East Street\, Nassau\, New Providence\, Bahamas
CATEGORIES:Court 3
END:VEVENT
BEGIN:VEVENT
DTSTART;TZID=America/Nassau:20231205T100000
DTEND;TZID=America/Nassau:20231205T170000
DTSTAMP:20260425T151554
CREATED:20231204T172619Z
LAST-MODIFIED:20231204T172619Z
UID:30394-1701770400-1701795600@www.industrialtribunal.bs
SUMMARY:Shenique Forbes v Distinguished Enterprises NP2021-067
DESCRIPTION:
URL:https://www.industrialtribunal.bs/event/shenique-forbes-v-distinguished-enterprises-np2021-067-2/
LOCATION:Court 3 – Vice President Sharada Humes Ferguson\, First Floor\, Suite 106\, Saffrey Square Building\, Bank Lane and East Street\, Nassau\, New Providence\, Bahamas
CATEGORIES:Court 3
END:VEVENT
BEGIN:VEVENT
DTSTART;TZID=America/Nassau:20231204T100000
DTEND;TZID=America/Nassau:20231204T170000
DTSTAMP:20260425T151554
CREATED:20231204T171557Z
LAST-MODIFIED:20231204T171557Z
UID:30392-1701684000-1701709200@www.industrialtribunal.bs
SUMMARY:Shenique Forbes v Distinguished Enterprises NP2021-067
DESCRIPTION:
URL:https://www.industrialtribunal.bs/event/shenique-forbes-v-distinguished-enterprises-np2021-067/
LOCATION:Court 3 – Vice President Sharada Humes Ferguson\, First Floor\, Suite 106\, Saffrey Square Building\, Bank Lane and East Street\, Nassau\, New Providence\, Bahamas
CATEGORIES:Court 3
END:VEVENT
BEGIN:VEVENT
DTSTART;TZID=America/Nassau:20231129T100000
DTEND;TZID=America/Nassau:20231129T170000
DTSTAMP:20260425T151554
CREATED:20231102T192640Z
LAST-MODIFIED:20231102T192640Z
UID:29831-1701252000-1701277200@www.industrialtribunal.bs
SUMMARY:Brock Bridgewater v Paradise Enterprises Limited NP2021-123
DESCRIPTION:
URL:https://www.industrialtribunal.bs/event/brock-bridgewater-v-paradise-enterprises-limited-np2021-123/
LOCATION:Court 3 – Vice President Sharada Humes Ferguson\, First Floor\, Suite 106\, Saffrey Square Building\, Bank Lane and East Street\, Nassau\, New Providence\, Bahamas
CATEGORIES:Court 3
END:VEVENT
BEGIN:VEVENT
DTSTART;TZID=America/Nassau:20231127T100000
DTEND;TZID=America/Nassau:20231127T170000
DTSTAMP:20260425T151554
CREATED:20231102T192531Z
LAST-MODIFIED:20231102T192531Z
UID:29829-1701079200-1701104400@www.industrialtribunal.bs
SUMMARY:Laron M. Neely v Bahamas Hyperbaric Centre Ltd NP2021-224
DESCRIPTION:
URL:https://www.industrialtribunal.bs/event/laron-m-neely-v-bahamas-hyperbaric-centre-ltd-np2021-224-5/
LOCATION:Court 3 – Vice President Sharada Humes Ferguson\, First Floor\, Suite 106\, Saffrey Square Building\, Bank Lane and East Street\, Nassau\, New Providence\, Bahamas
CATEGORIES:Court 3
END:VEVENT
BEGIN:VEVENT
DTSTART;TZID=America/Nassau:20231127T100000
DTEND;TZID=America/Nassau:20231127T170000
DTSTAMP:20260425T151554
CREATED:20231102T192250Z
LAST-MODIFIED:20231102T192250Z
UID:29827-1701079200-1701104400@www.industrialtribunal.bs
SUMMARY:Valerie R. Cooper - Neely v Bahamas Hyperbaric Centre Ltd NP2021-219
DESCRIPTION:
URL:https://www.industrialtribunal.bs/event/valerie-r-cooper-neely-v-bahamas-hyperbaric-centre-ltd-np2021-219/
LOCATION:Court 3 – Vice President Sharada Humes Ferguson\, First Floor\, Suite 106\, Saffrey Square Building\, Bank Lane and East Street\, Nassau\, New Providence\, Bahamas
CATEGORIES:Court 3
END:VEVENT
BEGIN:VEVENT
DTSTART;TZID=America/Nassau:20231124T100000
DTEND;TZID=America/Nassau:20231124T170000
DTSTAMP:20260425T151554
CREATED:20231102T192115Z
LAST-MODIFIED:20231102T192115Z
UID:29825-1700820000-1700845200@www.industrialtribunal.bs
SUMMARY:Lena Roberts v GSC Management Company (Bahamas Limited) United Shipping (Nassau) Company Limited NP2020-94
DESCRIPTION:
URL:https://www.industrialtribunal.bs/event/lena-roberts-v-gsc-management-company-bahamas-limited-united-shipping-nassau-company-limited-np2020-94-2/
LOCATION:Court 3 – Vice President Sharada Humes Ferguson\, First Floor\, Suite 106\, Saffrey Square Building\, Bank Lane and East Street\, Nassau\, New Providence\, Bahamas
CATEGORIES:Court 3
END:VEVENT
BEGIN:VEVENT
DTSTART;TZID=America/Nassau:20231123T100000
DTEND;TZID=America/Nassau:20231123T170000
DTSTAMP:20260425T151554
CREATED:20231102T191852Z
LAST-MODIFIED:20231102T191852Z
UID:29823-1700733600-1700758800@www.industrialtribunal.bs
SUMMARY:Lena Roberts v GSC Management Company (Bahamas Limited) United Shipping (Nassau) Company Limited NP2020-94
DESCRIPTION:
URL:https://www.industrialtribunal.bs/event/lena-roberts-v-gsc-management-company-bahamas-limited-united-shipping-nassau-company-limited-np2020-94/
LOCATION:Court 3 – Vice President Sharada Humes Ferguson\, First Floor\, Suite 106\, Saffrey Square Building\, Bank Lane and East Street\, Nassau\, New Providence\, Bahamas
CATEGORIES:Court 3
END:VEVENT
BEGIN:VEVENT
DTSTART;TZID=America/Nassau:20231117T100000
DTEND;TZID=America/Nassau:20231117T170000
DTSTAMP:20260425T151554
CREATED:20231102T191651Z
LAST-MODIFIED:20231102T191651Z
UID:29821-1700215200-1700240400@www.industrialtribunal.bs
SUMMARY:Bahamas Public Service Union-Victor Grant v The Bahamas Mortgage Corporation NP2022-036
DESCRIPTION:
URL:https://www.industrialtribunal.bs/event/bahamas-public-service-union-victor-grant-v-the-bahamas-mortgage-corporation-np2022-036-7/
LOCATION:Court 3 – Vice President Sharada Humes Ferguson\, First Floor\, Suite 106\, Saffrey Square Building\, Bank Lane and East Street\, Nassau\, New Providence\, Bahamas
CATEGORIES:Court 3
END:VEVENT
BEGIN:VEVENT
DTSTART;TZID=America/Nassau:20231116T100000
DTEND;TZID=America/Nassau:20231116T170000
DTSTAMP:20260425T151554
CREATED:20231102T191430Z
LAST-MODIFIED:20231102T191430Z
UID:29819-1700128800-1700154000@www.industrialtribunal.bs
SUMMARY:Bahamas Public Service Union-Victor Grant v The Bahamas Mortgage Corporation NP2022-036
DESCRIPTION:
URL:https://www.industrialtribunal.bs/event/bahamas-public-service-union-victor-grant-v-the-bahamas-mortgage-corporation-np2022-036-6/
LOCATION:Court 3 – Vice President Sharada Humes Ferguson\, First Floor\, Suite 106\, Saffrey Square Building\, Bank Lane and East Street\, Nassau\, New Providence\, Bahamas
CATEGORIES:Court 3
END:VEVENT
BEGIN:VEVENT
DTSTART;TZID=America/Nassau:20231115T100000
DTEND;TZID=America/Nassau:20231115T170000
DTSTAMP:20260425T151554
CREATED:20231102T183731Z
LAST-MODIFIED:20231102T183731Z
UID:29817-1700042400-1700067600@www.industrialtribunal.bs
SUMMARY:Clyde Mackey\, Stephen McPhee\, Justin Pierre\, Ronald Rolle & Wren Rolle v Woodside Petroleum Company (Texaco) Bryan Woodside & Rodney Eve NP2018-166
DESCRIPTION:
URL:https://www.industrialtribunal.bs/event/clyde-mackey-stephen-mcphee-justin-pierre-ronald-rolle-wren-rolle-v-woodside-petroleum-company-texaco-bryan-woodside-rodney-eve-np2018-166-3/
LOCATION:Court 3 – Vice President Sharada Humes Ferguson\, First Floor\, Suite 106\, Saffrey Square Building\, Bank Lane and East Street\, Nassau\, New Providence\, Bahamas
CATEGORIES:Court 3
END:VEVENT
BEGIN:VEVENT
DTSTART;TZID=America/Nassau:20231114T100000
DTEND;TZID=America/Nassau:20231114T170000
DTSTAMP:20260425T151554
CREATED:20231102T183452Z
LAST-MODIFIED:20231102T183452Z
UID:29815-1699956000-1699981200@www.industrialtribunal.bs
SUMMARY:Clyde Mackey\, Stephen Mcphee\, Justin Pierre\, Ronald Rolle & Wren Rolle v Woodside Petroleum Company (Texaco) Bryan Woodside & Rodney Eve NP2018-166
DESCRIPTION:
URL:https://www.industrialtribunal.bs/event/clyde-mackey-stephen-mcphee-justin-pierre-ronald-rolle-wren-rolle-v-woodside-petroleum-company-texaco-bryan-woodside-rodney-eve-np2018-166-2/
LOCATION:Court 3 – Vice President Sharada Humes Ferguson\, First Floor\, Suite 106\, Saffrey Square Building\, Bank Lane and East Street\, Nassau\, New Providence\, Bahamas
CATEGORIES:Court 3
END:VEVENT
BEGIN:VEVENT
DTSTART;TZID=America/Nassau:20231113T100000
DTEND;TZID=America/Nassau:20231113T170000
DTSTAMP:20260425T151554
CREATED:20231102T183012Z
LAST-MODIFIED:20231102T183012Z
UID:29813-1699869600-1699894800@www.industrialtribunal.bs
SUMMARY:Sandra Rose v Island Hotel Company Limited NP2019-132
DESCRIPTION:
URL:https://www.industrialtribunal.bs/event/sandra-rose-v-island-hotel-company-limited-np2019-132-3/
LOCATION:Court 3 – Vice President Sharada Humes Ferguson\, First Floor\, Suite 106\, Saffrey Square Building\, Bank Lane and East Street\, Nassau\, New Providence\, Bahamas
CATEGORIES:Court 3
END:VEVENT
BEGIN:VEVENT
DTSTART;TZID=America/Nassau:20231113T100000
DTEND;TZID=America/Nassau:20231113T170000
DTSTAMP:20260425T151554
CREATED:20231102T182832Z
LAST-MODIFIED:20231102T182832Z
UID:29811-1699869600-1699894800@www.industrialtribunal.bs
SUMMARY:Gwendolyn Smith v Holiday Inn/AMEC NP2021-058
DESCRIPTION:
URL:https://www.industrialtribunal.bs/event/gwendolyn-smith-v-holiday-inn-amec-np2021-058-2/
LOCATION:Court 3 – Vice President Sharada Humes Ferguson\, First Floor\, Suite 106\, Saffrey Square Building\, Bank Lane and East Street\, Nassau\, New Providence\, Bahamas
CATEGORIES:Court 3
END:VEVENT
BEGIN:VEVENT
DTSTART;TZID=America/Nassau:20231110T100000
DTEND;TZID=America/Nassau:20231110T170000
DTSTAMP:20260425T151554
CREATED:20231102T182429Z
LAST-MODIFIED:20231102T182429Z
UID:29809-1699610400-1699635600@www.industrialtribunal.bs
SUMMARY:Nikeya Cash v Mt. Carmel Preparatory Academy NP2022-054
DESCRIPTION:
URL:https://www.industrialtribunal.bs/event/nikeya-cash-v-mt-carmel-preparatory-academy-np2022-054-2/
LOCATION:Court 3 – Vice President Sharada Humes Ferguson\, First Floor\, Suite 106\, Saffrey Square Building\, Bank Lane and East Street\, Nassau\, New Providence\, Bahamas
CATEGORIES:Court 3
END:VEVENT
BEGIN:VEVENT
DTSTART;TZID=America/Nassau:20231031T100000
DTEND;TZID=America/Nassau:20231031T170000
DTSTAMP:20260425T151554
CREATED:20231003T164856Z
LAST-MODIFIED:20231003T164856Z
UID:29655-1698746400-1698771600@www.industrialtribunal.bs
SUMMARY:Temar Davis v Atlantis NP2020-52
DESCRIPTION:
URL:https://www.industrialtribunal.bs/event/temar-davis-v-atlantis-np2020-52-6/
LOCATION:Court 3 – Vice President Sharada Humes Ferguson\, First Floor\, Suite 106\, Saffrey Square Building\, Bank Lane and East Street\, Nassau\, New Providence\, Bahamas
CATEGORIES:Court 3
END:VEVENT
BEGIN:VEVENT
DTSTART;TZID=America/Nassau:20231030T100000
DTEND;TZID=America/Nassau:20231030T170000
DTSTAMP:20260425T151554
CREATED:20231003T164751Z
LAST-MODIFIED:20231003T164751Z
UID:29653-1698660000-1698685200@www.industrialtribunal.bs
SUMMARY:Temar Davis v Atlantis NP2020-52
DESCRIPTION:
URL:https://www.industrialtribunal.bs/event/temar-davis-v-atlantis-np2020-52-5/
LOCATION:Court 3 – Vice President Sharada Humes Ferguson\, First Floor\, Suite 106\, Saffrey Square Building\, Bank Lane and East Street\, Nassau\, New Providence\, Bahamas
CATEGORIES:Court 3
END:VEVENT
END:VCALENDAR