BEGIN:VCALENDAR
VERSION:2.0
PRODID:-//Bahamas Industrial Tribunal - ECPv6.15.20//NONSGML v1.0//EN
CALSCALE:GREGORIAN
METHOD:PUBLISH
X-WR-CALNAME:Bahamas Industrial Tribunal
X-ORIGINAL-URL:https://www.industrialtribunal.bs
X-WR-CALDESC:Events for Bahamas Industrial Tribunal
REFRESH-INTERVAL;VALUE=DURATION:PT1H
X-Robots-Tag:noindex
X-PUBLISHED-TTL:PT1H
BEGIN:VTIMEZONE
TZID:America/Nassau
BEGIN:DAYLIGHT
TZOFFSETFROM:-0500
TZOFFSETTO:-0400
TZNAME:EDT
DTSTART:20220313T070000
END:DAYLIGHT
BEGIN:STANDARD
TZOFFSETFROM:-0400
TZOFFSETTO:-0500
TZNAME:EST
DTSTART:20221106T060000
END:STANDARD
BEGIN:DAYLIGHT
TZOFFSETFROM:-0500
TZOFFSETTO:-0400
TZNAME:EDT
DTSTART:20230312T070000
END:DAYLIGHT
BEGIN:STANDARD
TZOFFSETFROM:-0400
TZOFFSETTO:-0500
TZNAME:EST
DTSTART:20231105T060000
END:STANDARD
BEGIN:DAYLIGHT
TZOFFSETFROM:-0500
TZOFFSETTO:-0400
TZNAME:EDT
DTSTART:20240310T070000
END:DAYLIGHT
BEGIN:STANDARD
TZOFFSETFROM:-0400
TZOFFSETTO:-0500
TZNAME:EST
DTSTART:20241103T060000
END:STANDARD
END:VTIMEZONE
BEGIN:VEVENT
DTSTART;TZID=America/Nassau:20231114T100000
DTEND;TZID=America/Nassau:20231114T170000
DTSTAMP:20260425T182548
CREATED:20231102T183452Z
LAST-MODIFIED:20231102T183452Z
UID:29815-1699956000-1699981200@www.industrialtribunal.bs
SUMMARY:Clyde Mackey\, Stephen Mcphee\, Justin Pierre\, Ronald Rolle & Wren Rolle v Woodside Petroleum Company (Texaco) Bryan Woodside & Rodney Eve NP2018-166
DESCRIPTION:
URL:https://www.industrialtribunal.bs/event/clyde-mackey-stephen-mcphee-justin-pierre-ronald-rolle-wren-rolle-v-woodside-petroleum-company-texaco-bryan-woodside-rodney-eve-np2018-166-2/
LOCATION:Court 3 – Vice President Sharada Humes Ferguson\, First Floor\, Suite 106\, Saffrey Square Building\, Bank Lane and East Street\, Nassau\, New Providence\, Bahamas
CATEGORIES:Court 3
END:VEVENT
BEGIN:VEVENT
DTSTART;TZID=America/Nassau:20231113T100000
DTEND;TZID=America/Nassau:20231113T170000
DTSTAMP:20260425T182548
CREATED:20231102T183012Z
LAST-MODIFIED:20231102T183012Z
UID:29813-1699869600-1699894800@www.industrialtribunal.bs
SUMMARY:Sandra Rose v Island Hotel Company Limited NP2019-132
DESCRIPTION:
URL:https://www.industrialtribunal.bs/event/sandra-rose-v-island-hotel-company-limited-np2019-132-3/
LOCATION:Court 3 – Vice President Sharada Humes Ferguson\, First Floor\, Suite 106\, Saffrey Square Building\, Bank Lane and East Street\, Nassau\, New Providence\, Bahamas
CATEGORIES:Court 3
END:VEVENT
BEGIN:VEVENT
DTSTART;TZID=America/Nassau:20231113T100000
DTEND;TZID=America/Nassau:20231113T170000
DTSTAMP:20260425T182548
CREATED:20231102T182832Z
LAST-MODIFIED:20231102T182832Z
UID:29811-1699869600-1699894800@www.industrialtribunal.bs
SUMMARY:Gwendolyn Smith v Holiday Inn/AMEC NP2021-058
DESCRIPTION:
URL:https://www.industrialtribunal.bs/event/gwendolyn-smith-v-holiday-inn-amec-np2021-058-2/
LOCATION:Court 3 – Vice President Sharada Humes Ferguson\, First Floor\, Suite 106\, Saffrey Square Building\, Bank Lane and East Street\, Nassau\, New Providence\, Bahamas
CATEGORIES:Court 3
END:VEVENT
BEGIN:VEVENT
DTSTART;TZID=America/Nassau:20231110T100000
DTEND;TZID=America/Nassau:20231110T170000
DTSTAMP:20260425T182548
CREATED:20231102T182429Z
LAST-MODIFIED:20231102T182429Z
UID:29809-1699610400-1699635600@www.industrialtribunal.bs
SUMMARY:Nikeya Cash v Mt. Carmel Preparatory Academy NP2022-054
DESCRIPTION:
URL:https://www.industrialtribunal.bs/event/nikeya-cash-v-mt-carmel-preparatory-academy-np2022-054-2/
LOCATION:Court 3 – Vice President Sharada Humes Ferguson\, First Floor\, Suite 106\, Saffrey Square Building\, Bank Lane and East Street\, Nassau\, New Providence\, Bahamas
CATEGORIES:Court 3
END:VEVENT
BEGIN:VEVENT
DTSTART;TZID=America/Nassau:20231031T100000
DTEND;TZID=America/Nassau:20231031T170000
DTSTAMP:20260425T182548
CREATED:20231003T164856Z
LAST-MODIFIED:20231003T164856Z
UID:29655-1698746400-1698771600@www.industrialtribunal.bs
SUMMARY:Temar Davis v Atlantis NP2020-52
DESCRIPTION:
URL:https://www.industrialtribunal.bs/event/temar-davis-v-atlantis-np2020-52-6/
LOCATION:Court 3 – Vice President Sharada Humes Ferguson\, First Floor\, Suite 106\, Saffrey Square Building\, Bank Lane and East Street\, Nassau\, New Providence\, Bahamas
CATEGORIES:Court 3
END:VEVENT
BEGIN:VEVENT
DTSTART;TZID=America/Nassau:20231030T100000
DTEND;TZID=America/Nassau:20231030T170000
DTSTAMP:20260425T182548
CREATED:20231003T164751Z
LAST-MODIFIED:20231003T164751Z
UID:29653-1698660000-1698685200@www.industrialtribunal.bs
SUMMARY:Temar Davis v Atlantis NP2020-52
DESCRIPTION:
URL:https://www.industrialtribunal.bs/event/temar-davis-v-atlantis-np2020-52-5/
LOCATION:Court 3 – Vice President Sharada Humes Ferguson\, First Floor\, Suite 106\, Saffrey Square Building\, Bank Lane and East Street\, Nassau\, New Providence\, Bahamas
CATEGORIES:Court 3
END:VEVENT
BEGIN:VEVENT
DTSTART;TZID=America/Nassau:20231024T100000
DTEND;TZID=America/Nassau:20231024T170000
DTSTAMP:20260425T182548
CREATED:20231003T164658Z
LAST-MODIFIED:20231003T164658Z
UID:29651-1698141600-1698166800@www.industrialtribunal.bs
SUMMARY:Sean D. Pratt v Restview Memorial Mortuary & Crematorium NP2022-203
DESCRIPTION:
URL:https://www.industrialtribunal.bs/event/sean-d-pratt-v-restview-memorial-mortuary-crematorium-np2022-203-3/
LOCATION:Court 3 – Vice President Sharada Humes Ferguson\, First Floor\, Suite 106\, Saffrey Square Building\, Bank Lane and East Street\, Nassau\, New Providence\, Bahamas
CATEGORIES:Court 3
END:VEVENT
BEGIN:VEVENT
DTSTART;TZID=America/Nassau:20231023T100000
DTEND;TZID=America/Nassau:20231023T170000
DTSTAMP:20260425T182548
CREATED:20231003T164525Z
LAST-MODIFIED:20231003T164525Z
UID:29649-1698055200-1698080400@www.industrialtribunal.bs
SUMMARY:Sean D. Pratt v Restview Memorial Mortuary & Crematorium NP2022-203
DESCRIPTION:
URL:https://www.industrialtribunal.bs/event/sean-d-pratt-v-restview-memorial-mortuary-crematorium-np2022-203-2/
LOCATION:Court 3 – Vice President Sharada Humes Ferguson\, First Floor\, Suite 106\, Saffrey Square Building\, Bank Lane and East Street\, Nassau\, New Providence\, Bahamas
CATEGORIES:Court 3
END:VEVENT
BEGIN:VEVENT
DTSTART;TZID=America/Nassau:20231016T100000
DTEND;TZID=America/Nassau:20231016T170000
DTSTAMP:20260425T182548
CREATED:20231003T164104Z
LAST-MODIFIED:20231003T164104Z
UID:29647-1697450400-1697475600@www.industrialtribunal.bs
SUMMARY:Elmelcha A. Brown v CGT Contractors Developers Limited NP2021-176
DESCRIPTION:
URL:https://www.industrialtribunal.bs/event/elmelcha-a-brown-v-cgt-contractors-developers-limited-np2021-176/
LOCATION:Court 3 – Vice President Sharada Humes Ferguson\, First Floor\, Suite 106\, Saffrey Square Building\, Bank Lane and East Street\, Nassau\, New Providence\, Bahamas
CATEGORIES:Court 3
END:VEVENT
BEGIN:VEVENT
DTSTART;TZID=America/Nassau:20231016T093000
DTEND;TZID=America/Nassau:20231016T170000
DTSTAMP:20260425T182548
CREATED:20231003T163909Z
LAST-MODIFIED:20231003T163909Z
UID:29645-1697448600-1697475600@www.industrialtribunal.bs
SUMMARY:Wandell Baptiste v Montague Motors NP2021-238
DESCRIPTION:
URL:https://www.industrialtribunal.bs/event/wandell-baptiste-v-montague-motors-np2021-238-4/
LOCATION:Court 3 – Vice President Sharada Humes Ferguson\, First Floor\, Suite 106\, Saffrey Square Building\, Bank Lane and East Street\, Nassau\, New Providence\, Bahamas
CATEGORIES:Court 3
END:VEVENT
BEGIN:VEVENT
DTSTART;TZID=America/Nassau:20231016T093000
DTEND;TZID=America/Nassau:20231016T170000
DTSTAMP:20260425T182548
CREATED:20231003T154611Z
LAST-MODIFIED:20231003T154611Z
UID:29643-1697448600-1697475600@www.industrialtribunal.bs
SUMMARY:Kimsley Ferguson v Department of Statistics NP2022-189
DESCRIPTION:
URL:https://www.industrialtribunal.bs/event/kimsley-ferguson-v-department-of-statistics-np2022-189-2/
LOCATION:Court 3 – Vice President Sharada Humes Ferguson\, First Floor\, Suite 106\, Saffrey Square Building\, Bank Lane and East Street\, Nassau\, New Providence\, Bahamas
CATEGORIES:Court 3
END:VEVENT
BEGIN:VEVENT
DTSTART;TZID=America/Nassau:20231013T100000
DTEND;TZID=America/Nassau:20231013T170000
DTSTAMP:20260425T182548
CREATED:20231003T154448Z
LAST-MODIFIED:20231003T154448Z
UID:29641-1697191200-1697216400@www.industrialtribunal.bs
SUMMARY:Gwendolyn Smith v Holiday Inn/AMEC NP2021-058
DESCRIPTION:
URL:https://www.industrialtribunal.bs/event/gwendolyn-smith-v-holiday-inn-amec-np2021-058/
LOCATION:Court 3 – Vice President Sharada Humes Ferguson\, First Floor\, Suite 106\, Saffrey Square Building\, Bank Lane and East Street\, Nassau\, New Providence\, Bahamas
CATEGORIES:Court 3
END:VEVENT
BEGIN:VEVENT
DTSTART;TZID=America/Nassau:20231012T100000
DTEND;TZID=America/Nassau:20231012T170000
DTSTAMP:20260425T182548
CREATED:20231003T154335Z
LAST-MODIFIED:20231003T154335Z
UID:29639-1697104800-1697130000@www.industrialtribunal.bs
SUMMARY:Sandra Rose v Island Hotel Company Limited NP2019-132
DESCRIPTION:
URL:https://www.industrialtribunal.bs/event/sandra-rose-v-island-hotel-company-limited-np2019-132-2/
LOCATION:Court 3 – Vice President Sharada Humes Ferguson\, First Floor\, Suite 106\, Saffrey Square Building\, Bank Lane and East Street\, Nassau\, New Providence\, Bahamas
CATEGORIES:Court 3
END:VEVENT
BEGIN:VEVENT
DTSTART;TZID=America/Nassau:20231011T100000
DTEND;TZID=America/Nassau:20231011T170000
DTSTAMP:20260425T182548
CREATED:20231003T154152Z
LAST-MODIFIED:20231003T154152Z
UID:29637-1697018400-1697043600@www.industrialtribunal.bs
SUMMARY:Sandra Rose v Island Hotel Company Limited NP2019-132
DESCRIPTION:
URL:https://www.industrialtribunal.bs/event/sandra-rose-v-island-hotel-company-limited-np2019-132/
LOCATION:Court 3 – Vice President Sharada Humes Ferguson\, First Floor\, Suite 106\, Saffrey Square Building\, Bank Lane and East Street\, Nassau\, New Providence\, Bahamas
CATEGORIES:Court 3
END:VEVENT
BEGIN:VEVENT
DTSTART;TZID=America/Nassau:20231005T093000
DTEND;TZID=America/Nassau:20231005T170000
DTSTAMP:20260425T182548
CREATED:20231003T154032Z
LAST-MODIFIED:20231003T154032Z
UID:29635-1696498200-1696525200@www.industrialtribunal.bs
SUMMARY:Sean D. Pratt v Restview Memorial Mortuary & Crematorium NP2022-203
DESCRIPTION:
URL:https://www.industrialtribunal.bs/event/sean-d-pratt-v-restview-memorial-mortuary-crematorium-np2022-203/
LOCATION:Court 3 – Vice President Sharada Humes Ferguson\, First Floor\, Suite 106\, Saffrey Square Building\, Bank Lane and East Street\, Nassau\, New Providence\, Bahamas
CATEGORIES:Court 3
END:VEVENT
BEGIN:VEVENT
DTSTART;TZID=America/Nassau:20230929T100000
DTEND;TZID=America/Nassau:20230929T170000
DTSTAMP:20260425T182548
CREATED:20230904T172840Z
LAST-MODIFIED:20230904T172840Z
UID:29440-1695981600-1696006800@www.industrialtribunal.bs
SUMMARY:Shawn John Bowe v Caribbean Asphalt Paving NP2021-207
DESCRIPTION:
URL:https://www.industrialtribunal.bs/event/shawn-john-bowe-v-caribbean-asphalt-paving-np2021-207/
LOCATION:Court 3 – Vice President Sharada Humes Ferguson\, First Floor\, Suite 106\, Saffrey Square Building\, Bank Lane and East Street\, Nassau\, New Providence\, Bahamas
CATEGORIES:Court 3
END:VEVENT
BEGIN:VEVENT
DTSTART;TZID=America/Nassau:20230921T100000
DTEND;TZID=America/Nassau:20230921T170000
DTSTAMP:20260425T182548
CREATED:20230904T172516Z
LAST-MODIFIED:20230904T172516Z
UID:29438-1695290400-1695315600@www.industrialtribunal.bs
SUMMARY:Emelcha A. Brown v CGT Contractors & Developers Limited NP2021-176
DESCRIPTION:
URL:https://www.industrialtribunal.bs/event/emelcha-a-brown-v-cgt-contractors-developers-limited-np2021-176-5/
LOCATION:Court 3 – Vice President Sharada Humes Ferguson\, First Floor\, Suite 106\, Saffrey Square Building\, Bank Lane and East Street\, Nassau\, New Providence\, Bahamas
CATEGORIES:Court 3
END:VEVENT
BEGIN:VEVENT
DTSTART;TZID=America/Nassau:20230920T100000
DTEND;TZID=America/Nassau:20230920T170000
DTSTAMP:20260425T182548
CREATED:20230904T172313Z
LAST-MODIFIED:20230904T172313Z
UID:29436-1695204000-1695229200@www.industrialtribunal.bs
SUMMARY:Marvin Josey v Sunshine Cruises/Blue Illusions NP2020-27
DESCRIPTION:
URL:https://www.industrialtribunal.bs/event/marvin-josey-v-sunshine-cruises-blue-illusions-np2020-27-2/
LOCATION:Court 3 – Vice President Sharada Humes Ferguson\, First Floor\, Suite 106\, Saffrey Square Building\, Bank Lane and East Street\, Nassau\, New Providence\, Bahamas
CATEGORIES:Court 3
END:VEVENT
BEGIN:VEVENT
DTSTART;TZID=America/Nassau:20230920T100000
DTEND;TZID=America/Nassau:20230920T170000
DTSTAMP:20260425T182548
CREATED:20230904T171929Z
LAST-MODIFIED:20230904T171929Z
UID:29434-1695204000-1695229200@www.industrialtribunal.bs
SUMMARY:Wandell Baptiste v Montague Motors NP2021-238
DESCRIPTION:
URL:https://www.industrialtribunal.bs/event/wandell-baptiste-v-montague-motors-np2021-238-3/
LOCATION:Court 3 – Vice President Sharada Humes Ferguson\, First Floor\, Suite 106\, Saffrey Square Building\, Bank Lane and East Street\, Nassau\, New Providence\, Bahamas
CATEGORIES:Court 3
END:VEVENT
BEGIN:VEVENT
DTSTART;TZID=America/Nassau:20230919T100000
DTEND;TZID=America/Nassau:20230919T170000
DTSTAMP:20260425T182548
CREATED:20230904T165559Z
LAST-MODIFIED:20230904T165559Z
UID:29427-1695117600-1695142800@www.industrialtribunal.bs
SUMMARY:Sean D Pratt v Restview Memorial Mortuary & Crematorium NP2022-023
DESCRIPTION:
URL:https://www.industrialtribunal.bs/event/sean-d-pratt-v-restview-memorial-mortuary-crematorium-np2022-023-6/
LOCATION:Court 3 – Vice President Sharada Humes Ferguson\, First Floor\, Suite 106\, Saffrey Square Building\, Bank Lane and East Street\, Nassau\, New Providence\, Bahamas
CATEGORIES:Court 3
END:VEVENT
BEGIN:VEVENT
DTSTART;TZID=America/Nassau:20230919T093000
DTEND;TZID=America/Nassau:20230919T170000
DTSTAMP:20260425T182548
CREATED:20230904T171004Z
LAST-MODIFIED:20230904T171518Z
UID:29431-1695115800-1695142800@www.industrialtribunal.bs
SUMMARY:Bahamas Public Service Union-Victor Grant v The Bahamas Mortgage Corporation NP2022-036
DESCRIPTION:
URL:https://www.industrialtribunal.bs/event/bahamas-public-service-union-victor-grant-v-the-bahamas-mortgage-corporation-np2022-036-5/
LOCATION:Court 3 – Vice President Sharada Humes Ferguson\, First Floor\, Suite 106\, Saffrey Square Building\, Bank Lane and East Street\, Nassau\, New Providence\, Bahamas
CATEGORIES:Court 3
END:VEVENT
BEGIN:VEVENT
DTSTART;TZID=America/Nassau:20230919T093000
DTEND;TZID=America/Nassau:20230919T170000
DTSTAMP:20260425T182548
CREATED:20230904T165726Z
LAST-MODIFIED:20230904T171359Z
UID:29429-1695115800-1695142800@www.industrialtribunal.bs
SUMMARY:Kimsley Ferguson v Department of Statistics NP2022-189
DESCRIPTION:
URL:https://www.industrialtribunal.bs/event/kimsley-ferguson-v-department-of-statistics-np2022-189/
LOCATION:Court 3 – Vice President Sharada Humes Ferguson\, First Floor\, Suite 106\, Saffrey Square Building\, Bank Lane and East Street\, Nassau\, New Providence\, Bahamas
CATEGORIES:Court 3
END:VEVENT
BEGIN:VEVENT
DTSTART;TZID=America/Nassau:20230918T100000
DTEND;TZID=America/Nassau:20230918T170000
DTSTAMP:20260425T182548
CREATED:20230904T165354Z
LAST-MODIFIED:20230904T165354Z
UID:29425-1695031200-1695056400@www.industrialtribunal.bs
SUMMARY:Sean D Pratt v Restview Memorial Mortuary & Crematorium NP2022-023
DESCRIPTION:
URL:https://www.industrialtribunal.bs/event/sean-d-pratt-v-restview-memorial-mortuary-crematorium-np2022-023-5/
LOCATION:Court 3 – Vice President Sharada Humes Ferguson\, First Floor\, Suite 106\, Saffrey Square Building\, Bank Lane and East Street\, Nassau\, New Providence\, Bahamas
CATEGORIES:Court 3
END:VEVENT
BEGIN:VEVENT
DTSTART;TZID=America/Nassau:20230912T100000
DTEND;TZID=America/Nassau:20230912T170000
DTSTAMP:20260425T182548
CREATED:20230904T165205Z
LAST-MODIFIED:20230904T165205Z
UID:29423-1694512800-1694538000@www.industrialtribunal.bs
SUMMARY:Clyde Mackey et al v Woodside Petroleum Company (Texaco} Bryan Woodside and Rodeny Eve NP2018-166
DESCRIPTION:
URL:https://www.industrialtribunal.bs/event/clyde-mackey-et-al-v-woodside-petroleum-company-texaco-bryan-woodside-and-rodeny-eve-np2018-166/
LOCATION:Court 3 – Vice President Sharada Humes Ferguson\, First Floor\, Suite 106\, Saffrey Square Building\, Bank Lane and East Street\, Nassau\, New Providence\, Bahamas
CATEGORIES:Court 3
END:VEVENT
BEGIN:VEVENT
DTSTART;TZID=America/Nassau:20230912T100000
DTEND;TZID=America/Nassau:20230912T170000
DTSTAMP:20260425T182548
CREATED:20230904T164838Z
LAST-MODIFIED:20230904T164838Z
UID:29421-1694512800-1694538000@www.industrialtribunal.bs
SUMMARY:Bahamas Hotel Managerial Association v Perfect Luck Employer (No.1} Limited NP2021-168
DESCRIPTION:
URL:https://www.industrialtribunal.bs/event/bahamas-hotel-managerial-association-v-perfect-luck-employer-no-1-limited-np2021-168-3/
LOCATION:Court 3 – Vice President Sharada Humes Ferguson\, First Floor\, Suite 106\, Saffrey Square Building\, Bank Lane and East Street\, Nassau\, New Providence\, Bahamas
CATEGORIES:Court 3
END:VEVENT
BEGIN:VEVENT
DTSTART;TZID=America/Nassau:20230814T100000
DTEND;TZID=America/Nassau:20230814T170000
DTSTAMP:20260425T182548
CREATED:20230802T154712Z
LAST-MODIFIED:20230802T154712Z
UID:29341-1692007200-1692032400@www.industrialtribunal.bs
SUMMARY:Gwendolyn Smith v Holiday Inn/Amec Agency NP2021-058
DESCRIPTION:
URL:https://www.industrialtribunal.bs/event/gwendolyn-smith-v-holiday-inn-amec-agency-np2021-058-3/
LOCATION:Court 3 – Vice President Sharada Humes Ferguson\, First Floor\, Suite 106\, Saffrey Square Building\, Bank Lane and East Street\, Nassau\, New Providence\, Bahamas
CATEGORIES:Court 3
END:VEVENT
BEGIN:VEVENT
DTSTART;TZID=America/Nassau:20230810T100000
DTEND;TZID=America/Nassau:20230810T170000
DTSTAMP:20260425T182548
CREATED:20230802T154456Z
LAST-MODIFIED:20230802T154456Z
UID:29339-1691661600-1691686800@www.industrialtribunal.bs
SUMMARY:Bahamas Public Service Union- Victor Grant v The Bahamas Mortgage Corporation NP2022-036
DESCRIPTION:
URL:https://www.industrialtribunal.bs/event/bahamas-public-service-union-victor-grant-v-the-bahamas-mortgage-corporation-np2022-036-4/
LOCATION:Court 3 – Vice President Sharada Humes Ferguson\, First Floor\, Suite 106\, Saffrey Square Building\, Bank Lane and East Street\, Nassau\, New Providence\, Bahamas
CATEGORIES:Court 3
END:VEVENT
BEGIN:VEVENT
DTSTART;TZID=America/Nassau:20230809T100000
DTEND;TZID=America/Nassau:20230809T170000
DTSTAMP:20260425T182548
CREATED:20230802T154240Z
LAST-MODIFIED:20230802T154240Z
UID:29337-1691575200-1691600400@www.industrialtribunal.bs
SUMMARY:Tevin Pickstock v Albany Bahamas NP2022-057
DESCRIPTION:
URL:https://www.industrialtribunal.bs/event/tevin-pickstock-v-albany-bahamas-np2022-057-6/
LOCATION:Court 3 – Vice President Sharada Humes Ferguson\, First Floor\, Suite 106\, Saffrey Square Building\, Bank Lane and East Street\, Nassau\, New Providence\, Bahamas
CATEGORIES:Court 3
END:VEVENT
BEGIN:VEVENT
DTSTART;TZID=America/Nassau:20230808T100000
DTEND;TZID=America/Nassau:20230808T170000
DTSTAMP:20260425T182548
CREATED:20230802T153944Z
LAST-MODIFIED:20230802T153944Z
UID:29335-1691488800-1691514000@www.industrialtribunal.bs
SUMMARY:Tevin Pickstock v Albany Bahamas NP2022-057
DESCRIPTION:
URL:https://www.industrialtribunal.bs/event/tevin-pickstock-v-albany-bahamas-np2022-057-5/
LOCATION:Court 3 – Vice President Sharada Humes Ferguson\, First Floor\, Suite 106\, Saffrey Square Building\, Bank Lane and East Street\, Nassau\, New Providence\, Bahamas
CATEGORIES:Court 3
END:VEVENT
BEGIN:VEVENT
DTSTART;TZID=America/Nassau:20230731T100000
DTEND;TZID=America/Nassau:20230731T170000
DTSTAMP:20260425T182548
CREATED:20230626T145052Z
LAST-MODIFIED:20230626T145052Z
UID:29071-1690797600-1690822800@www.industrialtribunal.bs
SUMMARY:Granville Don Thomas Butler III v Ministry of Foreign Affairs NP2021-108
DESCRIPTION:
URL:https://www.industrialtribunal.bs/event/granville-don-thomas-butler-iii-v-ministry-of-foreign-affairs-np2021-108-4/
LOCATION:Court 3 – Vice President Sharada Humes Ferguson\, First Floor\, Suite 106\, Saffrey Square Building\, Bank Lane and East Street\, Nassau\, New Providence\, Bahamas
CATEGORIES:Court 3
END:VEVENT
END:VCALENDAR