BEGIN:VCALENDAR
VERSION:2.0
PRODID:-//Bahamas Industrial Tribunal - ECPv6.15.20//NONSGML v1.0//EN
CALSCALE:GREGORIAN
METHOD:PUBLISH
X-ORIGINAL-URL:https://www.industrialtribunal.bs
X-WR-CALDESC:Events for Bahamas Industrial Tribunal
REFRESH-INTERVAL;VALUE=DURATION:PT1H
X-Robots-Tag:noindex
X-PUBLISHED-TTL:PT1H
BEGIN:VTIMEZONE
TZID:America/Nassau
BEGIN:DAYLIGHT
TZOFFSETFROM:-0500
TZOFFSETTO:-0400
TZNAME:EDT
DTSTART:20240310T070000
END:DAYLIGHT
BEGIN:STANDARD
TZOFFSETFROM:-0400
TZOFFSETTO:-0500
TZNAME:EST
DTSTART:20241103T060000
END:STANDARD
BEGIN:DAYLIGHT
TZOFFSETFROM:-0500
TZOFFSETTO:-0400
TZNAME:EDT
DTSTART:20250309T070000
END:DAYLIGHT
BEGIN:STANDARD
TZOFFSETFROM:-0400
TZOFFSETTO:-0500
TZNAME:EST
DTSTART:20251102T060000
END:STANDARD
BEGIN:DAYLIGHT
TZOFFSETFROM:-0500
TZOFFSETTO:-0400
TZNAME:EDT
DTSTART:20260308T070000
END:DAYLIGHT
BEGIN:STANDARD
TZOFFSETFROM:-0400
TZOFFSETTO:-0500
TZNAME:EST
DTSTART:20261101T060000
END:STANDARD
END:VTIMEZONE
BEGIN:VEVENT
DTSTART;TZID=America/Nassau:20250502T100000
DTEND;TZID=America/Nassau:20250502T170000
DTSTAMP:20260425T115353
CREATED:20250505T193225Z
LAST-MODIFIED:20250505T193225Z
UID:32439-1746180000-1746205200@www.industrialtribunal.bs
SUMMARY:Arlene Anderson vs. Island Hotel Co. Limited NP2024-082
DESCRIPTION:
URL:https://www.industrialtribunal.bs/event/arlene-anderson-vs-island-hotel-co-limited-np2024-082/
CATEGORIES:Court 4
END:VEVENT
BEGIN:VEVENT
DTSTART;TZID=America/Nassau:20250502T100000
DTEND;TZID=America/Nassau:20250502T170000
DTSTAMP:20260425T115353
CREATED:20250505T193338Z
LAST-MODIFIED:20250505T193338Z
UID:32441-1746180000-1746205200@www.industrialtribunal.bs
SUMMARY:Sherelle Major vs. Commonwealth Brewery NP2024-150
DESCRIPTION:
URL:https://www.industrialtribunal.bs/event/sherelle-major-vs-commonwealth-brewery-np2024-150/
CATEGORIES:Court 4
END:VEVENT
BEGIN:VEVENT
DTSTART;TZID=America/Nassau:20250505T100000
DTEND;TZID=America/Nassau:20250505T170000
DTSTAMP:20260425T115353
CREATED:20250505T193454Z
LAST-MODIFIED:20250505T193454Z
UID:32443-1746439200-1746464400@www.industrialtribunal.bs
SUMMARY:Marisa D. Mason Smith NP2023-058
DESCRIPTION:
URL:https://www.industrialtribunal.bs/event/marisa-d-mason-smith-np2023-058/
CATEGORIES:Court 4
END:VEVENT
BEGIN:VEVENT
DTSTART;TZID=America/Nassau:20250506T100000
DTEND;TZID=America/Nassau:20250506T170000
DTSTAMP:20260425T115353
CREATED:20250505T193530Z
LAST-MODIFIED:20250505T193530Z
UID:32445-1746525600-1746550800@www.industrialtribunal.bs
SUMMARY:Marisa D. Mason Smith NP2023-058
DESCRIPTION:
URL:https://www.industrialtribunal.bs/event/marisa-d-mason-smith-np2023-058-2/
CATEGORIES:Court 4
END:VEVENT
BEGIN:VEVENT
DTSTART;TZID=America/Nassau:20250507T100000
DTEND;TZID=America/Nassau:20250507T170000
DTSTAMP:20260425T115353
CREATED:20250505T193641Z
LAST-MODIFIED:20250505T193641Z
UID:32447-1746612000-1746637200@www.industrialtribunal.bs
SUMMARY:Carol Smith vs. Maxwell Storr NP2024-123
DESCRIPTION:
URL:https://www.industrialtribunal.bs/event/carol-smith-vs-maxwell-storr-np2024-123/
CATEGORIES:Court 4
END:VEVENT
BEGIN:VEVENT
DTSTART;TZID=America/Nassau:20250507T100000
DTEND;TZID=America/Nassau:20250507T170000
DTSTAMP:20260425T115353
CREATED:20250505T193802Z
LAST-MODIFIED:20250505T193802Z
UID:32449-1746612000-1746637200@www.industrialtribunal.bs
SUMMARY:Caroline Thompson vs. SMG Millwork Limited NP2024-078
DESCRIPTION:
URL:https://www.industrialtribunal.bs/event/caroline-thompson-vs-smg-millwork-limited-np2024-078/
CATEGORIES:Court 4
END:VEVENT
BEGIN:VEVENT
DTSTART;TZID=America/Nassau:20250507T100000
DTEND;TZID=America/Nassau:20250507T170000
DTSTAMP:20260425T115353
CREATED:20250505T193915Z
LAST-MODIFIED:20250505T193915Z
UID:32451-1746612000-1746637200@www.industrialtribunal.bs
SUMMARY:Anthony Saunders vs. Lifestyle Luxury Vacation Club NP2023-063
DESCRIPTION:
URL:https://www.industrialtribunal.bs/event/anthony-saunders-vs-lifestyle-luxury-vacation-club-np2023-063/
CATEGORIES:Court 4
END:VEVENT
BEGIN:VEVENT
DTSTART;TZID=America/Nassau:20250508T100000
DTEND;TZID=America/Nassau:20250508T170000
DTSTAMP:20260425T115353
CREATED:20250505T194049Z
LAST-MODIFIED:20250505T194049Z
UID:32453-1746698400-1746723600@www.industrialtribunal.bs
SUMMARY:Laurelle Burrows vs. Bahamas air Holdings LTD NP2024-087
DESCRIPTION:
URL:https://www.industrialtribunal.bs/event/laurelle-burrows-vs-bahamas-air-holdings-ltd-np2024-087/
CATEGORIES:Court 4
END:VEVENT
BEGIN:VEVENT
DTSTART;TZID=America/Nassau:20250508T100000
DTEND;TZID=America/Nassau:20250508T170000
DTSTAMP:20260425T115353
CREATED:20250505T194253Z
LAST-MODIFIED:20250505T194253Z
UID:32455-1746698400-1746723600@www.industrialtribunal.bs
SUMMARY:Anthony Saunders vs. Lifestyle Luxury Vacation Club NP2023-063
DESCRIPTION:
URL:https://www.industrialtribunal.bs/event/anthony-saunders-vs-lifestyle-luxury-vacation-club-np2023-063-2/
CATEGORIES:Court 4
END:VEVENT
BEGIN:VEVENT
DTSTART;TZID=America/Nassau:20250513T100000
DTEND;TZID=America/Nassau:20250513T170000
DTSTAMP:20260425T115353
CREATED:20250505T194415Z
LAST-MODIFIED:20250505T194415Z
UID:32457-1747130400-1747155600@www.industrialtribunal.bs
SUMMARY:Kelia Nottage vs. Blue Lagoon Island & Dolphin Encounters LTD NP2023-053
DESCRIPTION:
URL:https://www.industrialtribunal.bs/event/anthony-saunders-vs-lifestyle-luxury-vacation-club-np2023-063-2-2/
CATEGORIES:Court 4
END:VEVENT
BEGIN:VEVENT
DTSTART;TZID=America/Nassau:20250513T100000
DTEND;TZID=America/Nassau:20250513T170000
DTSTAMP:20260425T115353
CREATED:20250505T194545Z
LAST-MODIFIED:20250505T194545Z
UID:32459-1747130400-1747155600@www.industrialtribunal.bs
SUMMARY:Mark Johnson vs. Kamalame Cay NP2024-014
DESCRIPTION:
URL:https://www.industrialtribunal.bs/event/mark-johnson-vs-kamalame-cay-np2024-014/
CATEGORIES:Court 4
END:VEVENT
BEGIN:VEVENT
DTSTART;TZID=America/Nassau:20250514T100000
DTEND;TZID=America/Nassau:20250514T170000
DTSTAMP:20260425T115353
CREATED:20250505T194657Z
LAST-MODIFIED:20250505T194657Z
UID:32461-1747216800-1747242000@www.industrialtribunal.bs
SUMMARY:Joan Brown vs. Island Hotel Company Limited Atlantis NP2023-069
DESCRIPTION:
URL:https://www.industrialtribunal.bs/event/joan-brown-vs-island-hotel-company-limited-atlantis-np2023-069/
CATEGORIES:Court 4
END:VEVENT
BEGIN:VEVENT
DTSTART;TZID=America/Nassau:20250519T100000
DTEND;TZID=America/Nassau:20250519T170000
DTSTAMP:20260425T115353
CREATED:20250505T194848Z
LAST-MODIFIED:20250505T194848Z
UID:32463-1747648800-1747674000@www.industrialtribunal.bs
SUMMARY:Don Seymour vs. Custom Fenestration Products International & CFP Installations Bahamas NP2023-074
DESCRIPTION:
URL:https://www.industrialtribunal.bs/event/don-seymour-vs-custom-fenestration-products-international-cfp-installations-bahamas-np2023-074/
CATEGORIES:Court 4
END:VEVENT
BEGIN:VEVENT
DTSTART;TZID=America/Nassau:20250520T100000
DTEND;TZID=America/Nassau:20250520T170000
DTSTAMP:20260425T115353
CREATED:20250505T195013Z
LAST-MODIFIED:20250505T195013Z
UID:32465-1747735200-1747760400@www.industrialtribunal.bs
SUMMARY:Stephano Green vs. Bahamas Power & Light NP2023-081
DESCRIPTION:
URL:https://www.industrialtribunal.bs/event/stephano-green-vs-bahamas-power-light-np2023-081/
CATEGORIES:Court 4
END:VEVENT
BEGIN:VEVENT
DTSTART;TZID=America/Nassau:20250521T100000
DTEND;TZID=America/Nassau:20250521T170000
DTSTAMP:20260425T115353
CREATED:20250505T195136Z
LAST-MODIFIED:20250505T195136Z
UID:32467-1747821600-1747846800@www.industrialtribunal.bs
SUMMARY:Patrice Panza vs. Holland American/Half Moon Cay NP2023-113
DESCRIPTION:
URL:https://www.industrialtribunal.bs/event/patrice-panza-vs-holland-american-half-moon-cay-np2023-113/
CATEGORIES:Court 4
END:VEVENT
BEGIN:VEVENT
DTSTART;TZID=America/Nassau:20250526T100000
DTEND;TZID=America/Nassau:20250526T170000
DTSTAMP:20260425T115353
CREATED:20250505T195248Z
LAST-MODIFIED:20250505T195248Z
UID:32469-1748253600-1748278800@www.industrialtribunal.bs
SUMMARY:Michelle Hanna vs. EJ's Liquor Store NP2024-080
DESCRIPTION:
URL:https://www.industrialtribunal.bs/event/michelle-hanna-vs-ejs-liquor-store-np2024-080/
CATEGORIES:Court 4
END:VEVENT
END:VCALENDAR