BEGIN:VCALENDAR
VERSION:2.0
PRODID:-//Bahamas Industrial Tribunal - ECPv6.15.20//NONSGML v1.0//EN
CALSCALE:GREGORIAN
METHOD:PUBLISH
X-ORIGINAL-URL:https://www.industrialtribunal.bs
X-WR-CALDESC:Events for Bahamas Industrial Tribunal
REFRESH-INTERVAL;VALUE=DURATION:PT1H
X-Robots-Tag:noindex
X-PUBLISHED-TTL:PT1H
BEGIN:VTIMEZONE
TZID:America/Nassau
BEGIN:DAYLIGHT
TZOFFSETFROM:-0500
TZOFFSETTO:-0400
TZNAME:EDT
DTSTART:20240310T070000
END:DAYLIGHT
BEGIN:STANDARD
TZOFFSETFROM:-0400
TZOFFSETTO:-0500
TZNAME:EST
DTSTART:20241103T060000
END:STANDARD
BEGIN:DAYLIGHT
TZOFFSETFROM:-0500
TZOFFSETTO:-0400
TZNAME:EDT
DTSTART:20250309T070000
END:DAYLIGHT
BEGIN:STANDARD
TZOFFSETFROM:-0400
TZOFFSETTO:-0500
TZNAME:EST
DTSTART:20251102T060000
END:STANDARD
BEGIN:DAYLIGHT
TZOFFSETFROM:-0500
TZOFFSETTO:-0400
TZNAME:EDT
DTSTART:20260308T070000
END:DAYLIGHT
BEGIN:STANDARD
TZOFFSETFROM:-0400
TZOFFSETTO:-0500
TZNAME:EST
DTSTART:20261101T060000
END:STANDARD
END:VTIMEZONE
BEGIN:VEVENT
DTSTART;TZID=America/Nassau:20251201T100000
DTEND;TZID=America/Nassau:20251201T170000
DTSTAMP:20260425T002832
CREATED:20251216T151219Z
LAST-MODIFIED:20251216T151219Z
UID:33342-1764583200-1764608400@www.industrialtribunal.bs
SUMMARY:Don Seymour v Custom Fenestration Products International & CFP Installation Bahamas NP2023-074
DESCRIPTION:
URL:https://www.industrialtribunal.bs/event/don-seymour-v-custom-fenestration-products-international-cfp-installation-bahamas-np2023-074/
CATEGORIES:Court 4
END:VEVENT
BEGIN:VEVENT
DTSTART;TZID=America/Nassau:20251202T100000
DTEND;TZID=America/Nassau:20251202T170000
DTSTAMP:20260425T002832
CREATED:20251216T151249Z
LAST-MODIFIED:20251216T151249Z
UID:33344-1764669600-1764694800@www.industrialtribunal.bs
SUMMARY:Don Seymour v Custom Fenestration Products International & CFP Installation Bahamas NP2023-074
DESCRIPTION:
URL:https://www.industrialtribunal.bs/event/don-seymour-v-custom-fenestration-products-international-cfp-installation-bahamas-np2023-074-2/
CATEGORIES:Court 4
END:VEVENT
BEGIN:VEVENT
DTSTART;TZID=America/Nassau:20251208T100000
DTEND;TZID=America/Nassau:20251208T170000
DTSTAMP:20260425T002832
CREATED:20251216T151344Z
LAST-MODIFIED:20251216T151344Z
UID:33346-1765188000-1765213200@www.industrialtribunal.bs
SUMMARY:Darneisha Taylor v Adler Realty NP2024-122
DESCRIPTION:
URL:https://www.industrialtribunal.bs/event/darneisha-taylor-v-adler-realty-np2024-122-2/
CATEGORIES:Court 4
END:VEVENT
BEGIN:VEVENT
DTSTART;TZID=America/Nassau:20251209T100000
DTEND;TZID=America/Nassau:20251209T170000
DTSTAMP:20260425T002832
CREATED:20251216T151502Z
LAST-MODIFIED:20251216T151502Z
UID:33348-1765274400-1765299600@www.industrialtribunal.bs
SUMMARY:Eddiemae Gibson Home v Pats Senior Citizen Home NP2025-007
DESCRIPTION:
URL:https://www.industrialtribunal.bs/event/eddiemae-gibson-home-v-pats-senior-citizen-home-np2025-007/
CATEGORIES:Court 4
END:VEVENT
BEGIN:VEVENT
DTSTART;TZID=America/Nassau:20251210T100000
DTEND;TZID=America/Nassau:20251210T170000
DTSTAMP:20260425T002832
CREATED:20251216T151600Z
LAST-MODIFIED:20251216T151600Z
UID:33350-1765360800-1765386000@www.industrialtribunal.bs
SUMMARY:Sasha Hall v Island Hotel Company Limited NP2025-117
DESCRIPTION:
URL:https://www.industrialtribunal.bs/event/sasha-hall-v-island-hotel-company-limited-np2025-117/
CATEGORIES:Court 4
END:VEVENT
BEGIN:VEVENT
DTSTART;TZID=America/Nassau:20251210T100000
DTEND;TZID=America/Nassau:20251210T170000
DTSTAMP:20260425T002832
CREATED:20251216T151703Z
LAST-MODIFIED:20251216T151703Z
UID:33352-1765360800-1765386000@www.industrialtribunal.bs
SUMMARY:Lula Johnson v North Eleuthera District Council NP2020-86
DESCRIPTION:
URL:https://www.industrialtribunal.bs/event/lula-johnson-v-north-eleuthera-district-council-np2020-86-3/
CATEGORIES:Court 4
END:VEVENT
BEGIN:VEVENT
DTSTART;TZID=America/Nassau:20251211T100000
DTEND;TZID=America/Nassau:20251211T170000
DTSTAMP:20260425T002832
CREATED:20251216T151822Z
LAST-MODIFIED:20251216T151822Z
UID:33354-1765447200-1765472400@www.industrialtribunal.bs
SUMMARY:Employees of Sky Bahamas v Sky Bahamas Airlines NP2021-063
DESCRIPTION:
URL:https://www.industrialtribunal.bs/event/employees-of-sky-bahamas-v-sky-bahamas-airlines-np2021-063-11/
CATEGORIES:Court 4
END:VEVENT
BEGIN:VEVENT
DTSTART;TZID=America/Nassau:20251216T100000
DTEND;TZID=America/Nassau:20251216T170000
DTSTAMP:20260425T002832
CREATED:20251216T151921Z
LAST-MODIFIED:20251216T151921Z
UID:33356-1765879200-1765904400@www.industrialtribunal.bs
SUMMARY:Beverley Turnquest v Cay Island Tours NP2023-121
DESCRIPTION:
URL:https://www.industrialtribunal.bs/event/beverley-turnquest-v-cay-island-tours-np2023-121/
CATEGORIES:Court 4
END:VEVENT
BEGIN:VEVENT
DTSTART;TZID=America/Nassau:20251218T100000
DTEND;TZID=America/Nassau:20251218T170000
DTSTAMP:20260425T002832
CREATED:20251216T152022Z
LAST-MODIFIED:20251216T152022Z
UID:33358-1766052000-1766077200@www.industrialtribunal.bs
SUMMARY:Willard Colebrook v Public Hospital Authority NP2024-079
DESCRIPTION:
URL:https://www.industrialtribunal.bs/event/willard-colebrook-v-public-hospital-authority-np2024-079/
CATEGORIES:Court 4
END:VEVENT
END:VCALENDAR