BEGIN:VCALENDAR
VERSION:2.0
PRODID:-//Bahamas Industrial Tribunal - ECPv6.15.20//NONSGML v1.0//EN
CALSCALE:GREGORIAN
METHOD:PUBLISH
X-ORIGINAL-URL:https://www.industrialtribunal.bs
X-WR-CALDESC:Events for Bahamas Industrial Tribunal
REFRESH-INTERVAL;VALUE=DURATION:PT1H
X-Robots-Tag:noindex
X-PUBLISHED-TTL:PT1H
BEGIN:VTIMEZONE
TZID:America/Nassau
BEGIN:DAYLIGHT
TZOFFSETFROM:-0500
TZOFFSETTO:-0400
TZNAME:EDT
DTSTART:20240310T070000
END:DAYLIGHT
BEGIN:STANDARD
TZOFFSETFROM:-0400
TZOFFSETTO:-0500
TZNAME:EST
DTSTART:20241103T060000
END:STANDARD
BEGIN:DAYLIGHT
TZOFFSETFROM:-0500
TZOFFSETTO:-0400
TZNAME:EDT
DTSTART:20250309T070000
END:DAYLIGHT
BEGIN:STANDARD
TZOFFSETFROM:-0400
TZOFFSETTO:-0500
TZNAME:EST
DTSTART:20251102T060000
END:STANDARD
BEGIN:DAYLIGHT
TZOFFSETFROM:-0500
TZOFFSETTO:-0400
TZNAME:EDT
DTSTART:20260308T070000
END:DAYLIGHT
BEGIN:STANDARD
TZOFFSETFROM:-0400
TZOFFSETTO:-0500
TZNAME:EST
DTSTART:20261101T060000
END:STANDARD
BEGIN:DAYLIGHT
TZOFFSETFROM:-0500
TZOFFSETTO:-0400
TZNAME:EDT
DTSTART:20270314T070000
END:DAYLIGHT
BEGIN:STANDARD
TZOFFSETFROM:-0400
TZOFFSETTO:-0500
TZNAME:EST
DTSTART:20271107T060000
END:STANDARD
END:VTIMEZONE
BEGIN:VEVENT
DTSTART;TZID=America/Nassau:20260311T100000
DTEND;TZID=America/Nassau:20260311T170000
DTSTAMP:20260424T175159
CREATED:20260304T211102Z
LAST-MODIFIED:20260304T211102Z
UID:33739-1773223200-1773248400@www.industrialtribunal.bs
SUMMARY:Darren Ferguson v Sandilands Rehabilitation Centre NP2024-090
DESCRIPTION:
URL:https://www.industrialtribunal.bs/event/darren-ferguson-v-sandilands-rehabilitation-centre-np2024-090-3/
CATEGORIES:Court 4
END:VEVENT
BEGIN:VEVENT
DTSTART;TZID=America/Nassau:20260311T100000
DTEND;TZID=America/Nassau:20260311T170000
DTSTAMP:20260424T175159
CREATED:20260304T211002Z
LAST-MODIFIED:20260304T211002Z
UID:33737-1773223200-1773248400@www.industrialtribunal.bs
SUMMARY:Prescott Wilson Sr. v Bahamas Security Investigative Services NP2024-065
DESCRIPTION:
URL:https://www.industrialtribunal.bs/event/prescott-wilson-sr-v-bahamas-security-investigative-services-np2024-065-2/
CATEGORIES:Court 4
END:VEVENT
BEGIN:VEVENT
DTSTART;TZID=America/Nassau:20260311T100000
DTEND;TZID=America/Nassau:20260311T170000
DTSTAMP:20260424T175159
CREATED:20260304T210851Z
LAST-MODIFIED:20260304T210851Z
UID:33735-1773223200-1773248400@www.industrialtribunal.bs
SUMMARY:Dominic Missick v Splice & Connect Company Limited NP2022-067
DESCRIPTION:
URL:https://www.industrialtribunal.bs/event/dominic-missick-v-splice-connect-company-limited-np2022-067/
CATEGORIES:Court 4
END:VEVENT
BEGIN:VEVENT
DTSTART;TZID=America/Nassau:20260311T100000
DTEND;TZID=America/Nassau:20260311T170000
DTSTAMP:20260424T175159
CREATED:20260304T210737Z
LAST-MODIFIED:20260304T210737Z
UID:33733-1773223200-1773248400@www.industrialtribunal.bs
SUMMARY:Anniemae Forbes v Island Hotel Company NP2024-069
DESCRIPTION:
URL:https://www.industrialtribunal.bs/event/anniemae-forbes-v-island-hotel-company-np2024-069/
CATEGORIES:Court 4
END:VEVENT
BEGIN:VEVENT
DTSTART;TZID=America/Nassau:20260311T100000
DTEND;TZID=America/Nassau:20260311T170000
DTSTAMP:20260424T175159
CREATED:20260304T210643Z
LAST-MODIFIED:20260304T210643Z
UID:33731-1773223200-1773248400@www.industrialtribunal.bs
SUMMARY:Portia Knowles v Dunmil Security NP2024-074
DESCRIPTION:
URL:https://www.industrialtribunal.bs/event/portia-knowles-v-dunmil-security-np2024-074-2/
CATEGORIES:Court 4
END:VEVENT
BEGIN:VEVENT
DTSTART;TZID=America/Nassau:20260311T100000
DTEND;TZID=America/Nassau:20260311T170000
DTSTAMP:20260424T175159
CREATED:20260304T210554Z
LAST-MODIFIED:20260304T210554Z
UID:33729-1773223200-1773248400@www.industrialtribunal.bs
SUMMARY:Diallo Rolle v Organic Life Landscaping & Maintenances Services NP2024-077
DESCRIPTION:
URL:https://www.industrialtribunal.bs/event/diallo-rolle-v-organic-life-landscaping-maintenances-services-np2024-077/
CATEGORIES:Court 4
END:VEVENT
BEGIN:VEVENT
DTSTART;TZID=America/Nassau:20260311T100000
DTEND;TZID=America/Nassau:20260311T170000
DTSTAMP:20260424T175159
CREATED:20260304T210433Z
LAST-MODIFIED:20260304T210433Z
UID:33727-1773223200-1773248400@www.industrialtribunal.bs
SUMMARY:Bahamas Public Services Union v University of The Bahamas NP2024-102
DESCRIPTION:
URL:https://www.industrialtribunal.bs/event/bahamas-public-services-union-v-university-of-the-bahamas-np2024-102/
CATEGORIES:Court 4
END:VEVENT
BEGIN:VEVENT
DTSTART;TZID=America/Nassau:20260311T100000
DTEND;TZID=America/Nassau:20260311T170000
DTSTAMP:20260424T175159
CREATED:20260304T210318Z
LAST-MODIFIED:20260304T210318Z
UID:33725-1773223200-1773248400@www.industrialtribunal.bs
SUMMARY:Wellington Albury v Betty K Agencies Limited NP2024-083
DESCRIPTION:
URL:https://www.industrialtribunal.bs/event/wellington-albury-v-betty-k-agencies-limited-np2024-083/
CATEGORIES:Court 4
END:VEVENT
BEGIN:VEVENT
DTSTART;TZID=America/Nassau:20260304T100000
DTEND;TZID=America/Nassau:20260304T170000
DTSTAMP:20260424T175159
CREATED:20260304T210151Z
LAST-MODIFIED:20260304T210151Z
UID:33723-1772618400-1772643600@www.industrialtribunal.bs
SUMMARY:Lula Johnson v Island Hotel Company Limited NP2025-117
DESCRIPTION:
URL:https://www.industrialtribunal.bs/event/lula-johnson-v-island-hotel-company-limited-np2025-117/
CATEGORIES:Court 4
END:VEVENT
BEGIN:VEVENT
DTSTART;TZID=America/Nassau:20251218T100000
DTEND;TZID=America/Nassau:20251218T170000
DTSTAMP:20260424T175159
CREATED:20251216T152022Z
LAST-MODIFIED:20251216T152022Z
UID:33358-1766052000-1766077200@www.industrialtribunal.bs
SUMMARY:Willard Colebrook v Public Hospital Authority NP2024-079
DESCRIPTION:
URL:https://www.industrialtribunal.bs/event/willard-colebrook-v-public-hospital-authority-np2024-079/
CATEGORIES:Court 4
END:VEVENT
BEGIN:VEVENT
DTSTART;TZID=America/Nassau:20251216T100000
DTEND;TZID=America/Nassau:20251216T170000
DTSTAMP:20260424T175159
CREATED:20251216T151921Z
LAST-MODIFIED:20251216T151921Z
UID:33356-1765879200-1765904400@www.industrialtribunal.bs
SUMMARY:Beverley Turnquest v Cay Island Tours NP2023-121
DESCRIPTION:
URL:https://www.industrialtribunal.bs/event/beverley-turnquest-v-cay-island-tours-np2023-121/
CATEGORIES:Court 4
END:VEVENT
BEGIN:VEVENT
DTSTART;TZID=America/Nassau:20251211T100000
DTEND;TZID=America/Nassau:20251211T170000
DTSTAMP:20260424T175159
CREATED:20251216T151822Z
LAST-MODIFIED:20251216T151822Z
UID:33354-1765447200-1765472400@www.industrialtribunal.bs
SUMMARY:Employees of Sky Bahamas v Sky Bahamas Airlines NP2021-063
DESCRIPTION:
URL:https://www.industrialtribunal.bs/event/employees-of-sky-bahamas-v-sky-bahamas-airlines-np2021-063-11/
CATEGORIES:Court 4
END:VEVENT
BEGIN:VEVENT
DTSTART;TZID=America/Nassau:20251210T100000
DTEND;TZID=America/Nassau:20251210T170000
DTSTAMP:20260424T175159
CREATED:20251216T151703Z
LAST-MODIFIED:20251216T151703Z
UID:33352-1765360800-1765386000@www.industrialtribunal.bs
SUMMARY:Lula Johnson v North Eleuthera District Council NP2020-86
DESCRIPTION:
URL:https://www.industrialtribunal.bs/event/lula-johnson-v-north-eleuthera-district-council-np2020-86-3/
CATEGORIES:Court 4
END:VEVENT
BEGIN:VEVENT
DTSTART;TZID=America/Nassau:20251210T100000
DTEND;TZID=America/Nassau:20251210T170000
DTSTAMP:20260424T175159
CREATED:20251216T151600Z
LAST-MODIFIED:20251216T151600Z
UID:33350-1765360800-1765386000@www.industrialtribunal.bs
SUMMARY:Sasha Hall v Island Hotel Company Limited NP2025-117
DESCRIPTION:
URL:https://www.industrialtribunal.bs/event/sasha-hall-v-island-hotel-company-limited-np2025-117/
CATEGORIES:Court 4
END:VEVENT
BEGIN:VEVENT
DTSTART;TZID=America/Nassau:20251209T100000
DTEND;TZID=America/Nassau:20251209T170000
DTSTAMP:20260424T175159
CREATED:20251216T151502Z
LAST-MODIFIED:20251216T151502Z
UID:33348-1765274400-1765299600@www.industrialtribunal.bs
SUMMARY:Eddiemae Gibson Home v Pats Senior Citizen Home NP2025-007
DESCRIPTION:
URL:https://www.industrialtribunal.bs/event/eddiemae-gibson-home-v-pats-senior-citizen-home-np2025-007/
CATEGORIES:Court 4
END:VEVENT
BEGIN:VEVENT
DTSTART;TZID=America/Nassau:20251208T100000
DTEND;TZID=America/Nassau:20251208T170000
DTSTAMP:20260424T175159
CREATED:20251216T151344Z
LAST-MODIFIED:20251216T151344Z
UID:33346-1765188000-1765213200@www.industrialtribunal.bs
SUMMARY:Darneisha Taylor v Adler Realty NP2024-122
DESCRIPTION:
URL:https://www.industrialtribunal.bs/event/darneisha-taylor-v-adler-realty-np2024-122-2/
CATEGORIES:Court 4
END:VEVENT
BEGIN:VEVENT
DTSTART;TZID=America/Nassau:20251202T100000
DTEND;TZID=America/Nassau:20251202T170000
DTSTAMP:20260424T175159
CREATED:20251216T151249Z
LAST-MODIFIED:20251216T151249Z
UID:33344-1764669600-1764694800@www.industrialtribunal.bs
SUMMARY:Don Seymour v Custom Fenestration Products International & CFP Installation Bahamas NP2023-074
DESCRIPTION:
URL:https://www.industrialtribunal.bs/event/don-seymour-v-custom-fenestration-products-international-cfp-installation-bahamas-np2023-074-2/
CATEGORIES:Court 4
END:VEVENT
BEGIN:VEVENT
DTSTART;TZID=America/Nassau:20251201T100000
DTEND;TZID=America/Nassau:20251201T170000
DTSTAMP:20260424T175159
CREATED:20251216T151219Z
LAST-MODIFIED:20251216T151219Z
UID:33342-1764583200-1764608400@www.industrialtribunal.bs
SUMMARY:Don Seymour v Custom Fenestration Products International & CFP Installation Bahamas NP2023-074
DESCRIPTION:
URL:https://www.industrialtribunal.bs/event/don-seymour-v-custom-fenestration-products-international-cfp-installation-bahamas-np2023-074/
CATEGORIES:Court 4
END:VEVENT
BEGIN:VEVENT
DTSTART;TZID=America/Nassau:20251127T100000
DTEND;TZID=America/Nassau:20251127T170000
DTSTAMP:20260424T175159
CREATED:20251112T203116Z
LAST-MODIFIED:20251112T203116Z
UID:33176-1764237600-1764262800@www.industrialtribunal.bs
SUMMARY:Anthony Saunders v Life Style Luxury Vacation Club NP2023-063
DESCRIPTION:
URL:https://www.industrialtribunal.bs/event/anthony-saunders-v-life-style-luxury-vacation-club-np2023-063-2/
CATEGORIES:Court 4
END:VEVENT
BEGIN:VEVENT
DTSTART;TZID=America/Nassau:20251119T100000
DTEND;TZID=America/Nassau:20251119T170000
DTSTAMP:20260424T175159
CREATED:20251112T203024Z
LAST-MODIFIED:20251112T203024Z
UID:33174-1763546400-1763571600@www.industrialtribunal.bs
SUMMARY:Anthony Saunders v Life Style Luxury Vacation Club NP2023-063
DESCRIPTION:
URL:https://www.industrialtribunal.bs/event/anthony-saunders-v-life-style-luxury-vacation-club-np2023-063/
CATEGORIES:Court 4
END:VEVENT
BEGIN:VEVENT
DTSTART;TZID=America/Nassau:20251118T100000
DTEND;TZID=America/Nassau:20251118T170000
DTSTAMP:20260424T175159
CREATED:20251112T202834Z
LAST-MODIFIED:20251112T202834Z
UID:33172-1763460000-1763485200@www.industrialtribunal.bs
SUMMARY:David Barlett v Nassau Cruise Port T/A Global Ports Holdings NP2024-026
DESCRIPTION:
URL:https://www.industrialtribunal.bs/event/david-barlett-v-nassau-cruise-port-t-a-global-ports-holdings-np2024-026/
CATEGORIES:Court 4
END:VEVENT
BEGIN:VEVENT
DTSTART;TZID=America/Nassau:20251111T100000
DTEND;TZID=America/Nassau:20251111T170000
DTSTAMP:20260424T175159
CREATED:20251112T202641Z
LAST-MODIFIED:20251112T202641Z
UID:33170-1762855200-1762880400@www.industrialtribunal.bs
SUMMARY:Carol Camille Smith v Maxwell I Storr NP2024-123
DESCRIPTION:
URL:https://www.industrialtribunal.bs/event/carol-camille-smith-v-maxwell-i-storr-np2024-123/
CATEGORIES:Court 4
END:VEVENT
BEGIN:VEVENT
DTSTART;TZID=America/Nassau:20251111T100000
DTEND;TZID=America/Nassau:20251111T170000
DTSTAMP:20260424T175159
CREATED:20251112T202521Z
LAST-MODIFIED:20251112T202521Z
UID:33168-1762855200-1762880400@www.industrialtribunal.bs
SUMMARY:Kelia Nottage v Blue Lagoon Island and Dolphin Encounters NP2023-053
DESCRIPTION:
URL:https://www.industrialtribunal.bs/event/kelia-nottage-v-blue-lagoon-island-and-dolphin-encounters-np2023-053/
CATEGORIES:Court 4
END:VEVENT
BEGIN:VEVENT
DTSTART;TZID=America/Nassau:20251105T100000
DTEND;TZID=America/Nassau:20251105T170000
DTSTAMP:20260424T175159
CREATED:20251112T202341Z
LAST-MODIFIED:20251112T202341Z
UID:33166-1762336800-1762362000@www.industrialtribunal.bs
SUMMARY:Stephano Green v Bahamas Power & Light NP2023-081
DESCRIPTION:
URL:https://www.industrialtribunal.bs/event/stephano-green-v-bahamas-power-light-np2023-081-2/
CATEGORIES:Court 4
END:VEVENT
BEGIN:VEVENT
DTSTART;TZID=America/Nassau:20251028T100000
DTEND;TZID=America/Nassau:20251028T170000
DTSTAMP:20260424T175159
CREATED:20251008T141726Z
LAST-MODIFIED:20251008T141726Z
UID:33003-1761645600-1761670800@www.industrialtribunal.bs
SUMMARY:Vonya Williams v Adeana Creation NP2024-051
DESCRIPTION:
URL:https://www.industrialtribunal.bs/event/vonya-williams-v-adeana-creation-np2024-051/
CATEGORIES:Court 4
END:VEVENT
BEGIN:VEVENT
DTSTART;TZID=America/Nassau:20251027T100000
DTEND;TZID=America/Nassau:20251027T170000
DTSTAMP:20260424T175159
CREATED:20251008T141610Z
LAST-MODIFIED:20251008T141610Z
UID:33001-1761559200-1761584400@www.industrialtribunal.bs
SUMMARY:Siann Butler v Albany Resort NP2024-115
DESCRIPTION:
URL:https://www.industrialtribunal.bs/event/siann-butler-v-albany-resort-np2024-115-3/
CATEGORIES:Court 4
END:VEVENT
BEGIN:VEVENT
DTSTART;TZID=America/Nassau:20251027T100000
DTEND;TZID=America/Nassau:20251027T170000
DTSTAMP:20260424T175159
CREATED:20251008T141502Z
LAST-MODIFIED:20251008T141502Z
UID:32999-1761559200-1761584400@www.industrialtribunal.bs
SUMMARY:Tanya Jones v Albany Resort NP2024-119
DESCRIPTION:
URL:https://www.industrialtribunal.bs/event/tanya-jones-v-albany-resort-np2024-119-3/
CATEGORIES:Court 4
END:VEVENT
BEGIN:VEVENT
DTSTART;TZID=America/Nassau:20251023T100000
DTEND;TZID=America/Nassau:20251023T170000
DTSTAMP:20260424T175159
CREATED:20251008T141355Z
LAST-MODIFIED:20251008T141355Z
UID:32997-1761213600-1761238800@www.industrialtribunal.bs
SUMMARY:Anthony Linden v Play Tech System Limited NP2024-081
DESCRIPTION:
URL:https://www.industrialtribunal.bs/event/anthony-linden-v-play-tech-system-limited-np2024-081/
CATEGORIES:Court 4
END:VEVENT
BEGIN:VEVENT
DTSTART;TZID=America/Nassau:20251021T100000
DTEND;TZID=America/Nassau:20251021T170000
DTSTAMP:20260424T175159
CREATED:20251008T141241Z
LAST-MODIFIED:20251008T141241Z
UID:32994-1761040800-1761066000@www.industrialtribunal.bs
SUMMARY:Nicola Saunders v Rentokil Initial Bahamas Ltd. NP2023-036
DESCRIPTION:
URL:https://www.industrialtribunal.bs/event/nicola-saunders-v-rentokil-initial-bahamas-ltd-np2023-036-4/
CATEGORIES:Court 4
END:VEVENT
BEGIN:VEVENT
DTSTART;TZID=America/Nassau:20251020T100000
DTEND;TZID=America/Nassau:20251020T170000
DTSTAMP:20260424T175159
CREATED:20251008T140919Z
LAST-MODIFIED:20251008T141205Z
UID:32990-1760954400-1760979600@www.industrialtribunal.bs
SUMMARY:Nicola Saunders v Rentokil Initial Bahamas Ltd. NP2023-036
DESCRIPTION:
URL:https://www.industrialtribunal.bs/event/eric-eugene-riley-v-direct-waste-limited-np2022-058-3/
CATEGORIES:Court 4
END:VEVENT
END:VCALENDAR