BEGIN:VCALENDAR
VERSION:2.0
PRODID:-//Bahamas Industrial Tribunal - ECPv6.15.20//NONSGML v1.0//EN
CALSCALE:GREGORIAN
METHOD:PUBLISH
X-WR-CALNAME:Bahamas Industrial Tribunal
X-ORIGINAL-URL:https://www.industrialtribunal.bs
X-WR-CALDESC:Events for Bahamas Industrial Tribunal
REFRESH-INTERVAL;VALUE=DURATION:PT1H
X-Robots-Tag:noindex
X-PUBLISHED-TTL:PT1H
BEGIN:VTIMEZONE
TZID:America/Nassau
BEGIN:DAYLIGHT
TZOFFSETFROM:-0500
TZOFFSETTO:-0400
TZNAME:EDT
DTSTART:20220313T070000
END:DAYLIGHT
BEGIN:STANDARD
TZOFFSETFROM:-0400
TZOFFSETTO:-0500
TZNAME:EST
DTSTART:20221106T060000
END:STANDARD
BEGIN:DAYLIGHT
TZOFFSETFROM:-0500
TZOFFSETTO:-0400
TZNAME:EDT
DTSTART:20230312T070000
END:DAYLIGHT
BEGIN:STANDARD
TZOFFSETFROM:-0400
TZOFFSETTO:-0500
TZNAME:EST
DTSTART:20231105T060000
END:STANDARD
BEGIN:DAYLIGHT
TZOFFSETFROM:-0500
TZOFFSETTO:-0400
TZNAME:EDT
DTSTART:20240310T070000
END:DAYLIGHT
BEGIN:STANDARD
TZOFFSETFROM:-0400
TZOFFSETTO:-0500
TZNAME:EST
DTSTART:20241103T060000
END:STANDARD
BEGIN:DAYLIGHT
TZOFFSETFROM:-0500
TZOFFSETTO:-0400
TZNAME:EDT
DTSTART:20250309T070000
END:DAYLIGHT
BEGIN:STANDARD
TZOFFSETFROM:-0400
TZOFFSETTO:-0500
TZNAME:EST
DTSTART:20251102T060000
END:STANDARD
END:VTIMEZONE
BEGIN:VEVENT
DTSTART;TZID=America/Nassau:20240422T100000
DTEND;TZID=America/Nassau:20240422T170000
DTSTAMP:20260425T134553
CREATED:20240409T183141Z
LAST-MODIFIED:20240409T183141Z
UID:30797-1713780000-1713805200@www.industrialtribunal.bs
SUMMARY:Patricia Ashe v Courtyard Marriott NP2024-009
DESCRIPTION:
URL:https://www.industrialtribunal.bs/event/patricia-ashe-v-courtyard-marriott-np2024-009/
LOCATION:Court 4 – Vice President Subusola Swain
CATEGORIES:Court 4
END:VEVENT
BEGIN:VEVENT
DTSTART;TZID=America/Nassau:20240422T100000
DTEND;TZID=America/Nassau:20240422T170000
DTSTAMP:20260425T134553
CREATED:20240409T182920Z
LAST-MODIFIED:20240409T182920Z
UID:30795-1713780000-1713805200@www.industrialtribunal.bs
SUMMARY:Preston Clarke v Courtyard Marriot NP2023-141
DESCRIPTION:
URL:https://www.industrialtribunal.bs/event/preston-clarke-v-courtyard-marriot-np2023-141/
LOCATION:Court 4 – Vice President Subusola Swain
CATEGORIES:Court 4
END:VEVENT
BEGIN:VEVENT
DTSTART;TZID=America/Nassau:20240419T100000
DTEND;TZID=America/Nassau:20240419T170000
DTSTAMP:20260425T134553
CREATED:20240409T183314Z
LAST-MODIFIED:20240409T183314Z
UID:30799-1713520800-1713546000@www.industrialtribunal.bs
SUMMARY:Keva Rose v Mexicaba NP2023-073
DESCRIPTION:
URL:https://www.industrialtribunal.bs/event/keva-rose-v-mexicaba-np2023-073/
LOCATION:Court 4 – Vice President Subusola Swain
CATEGORIES:Court 4
END:VEVENT
BEGIN:VEVENT
DTSTART;TZID=America/Nassau:20240410T100000
DTEND;TZID=America/Nassau:20240410T170000
DTSTAMP:20260425T134553
CREATED:20240409T183728Z
LAST-MODIFIED:20240409T183728Z
UID:30803-1712743200-1712768400@www.industrialtribunal.bs
SUMMARY:Kelecha Beckles v Jumbey Cafe NP2023-097
DESCRIPTION:
URL:https://www.industrialtribunal.bs/event/kelecha-beckles-v-jumbey-cafe-np2023-097/
LOCATION:Court 4 – Vice President Subusola Swain
CATEGORIES:Court 4
END:VEVENT
BEGIN:VEVENT
DTSTART;TZID=America/Nassau:20240410T100000
DTEND;TZID=America/Nassau:20240410T170000
DTSTAMP:20260425T134553
CREATED:20240409T183503Z
LAST-MODIFIED:20240409T183503Z
UID:30801-1712743200-1712768400@www.industrialtribunal.bs
SUMMARY:Renaldo Cartwright v Bahamas Power & Light NP2023-070
DESCRIPTION:
URL:https://www.industrialtribunal.bs/event/renaldo-cartwright-v-bahamas-power-light-np2023-070/
LOCATION:Court 4 – Vice President Subusola Swain
CATEGORIES:Court 4
END:VEVENT
BEGIN:VEVENT
DTSTART;TZID=America/Nassau:20240408T100000
DTEND;TZID=America/Nassau:20240408T170000
DTSTAMP:20260425T134553
CREATED:20240409T183905Z
LAST-MODIFIED:20240409T183905Z
UID:30805-1712570400-1712595600@www.industrialtribunal.bs
SUMMARY:Samantha Sands v Titian Hospitality (Wreckers} Spanish Wells\, Eleuthera NP2021-220
DESCRIPTION:
URL:https://www.industrialtribunal.bs/event/samantha-sands-v-titian-hospitality-wreckers-spanish-wells-eleuthera-np2021-220/
LOCATION:Court 4 – Vice President Subusola Swain
CATEGORIES:Court 4
END:VEVENT
BEGIN:VEVENT
DTSTART;TZID=America/Nassau:20240328T100000
DTEND;TZID=America/Nassau:20240328T170000
DTSTAMP:20260425T134553
CREATED:20240327T151857Z
LAST-MODIFIED:20240327T151857Z
UID:30747-1711620000-1711645200@www.industrialtribunal.bs
SUMMARY:Kendra Lima v Melia Nassau Beach NP2020-30
DESCRIPTION:
URL:https://www.industrialtribunal.bs/event/kendra-lima-v-melia-nassau-beach-np2020-30/
LOCATION:Court 4 – Vice President Subusola Swain
CATEGORIES:Court 4
END:VEVENT
BEGIN:VEVENT
DTSTART;TZID=America/Nassau:20240322T100000
DTEND;TZID=America/Nassau:20240322T170000
DTSTAMP:20260425T134553
CREATED:20240307T145339Z
LAST-MODIFIED:20240307T145339Z
UID:30698-1711101600-1711126800@www.industrialtribunal.bs
SUMMARY:Rusher Cargill v Atlantis Resort NP2022-052
DESCRIPTION:
URL:https://www.industrialtribunal.bs/event/rusher-cargill-v-atlantis-resort-np2022-052-4/
LOCATION:Court 4 – Vice President Subusola Swain
CATEGORIES:Court 4
END:VEVENT
BEGIN:VEVENT
DTSTART;TZID=America/Nassau:20240320T100000
DTEND;TZID=America/Nassau:20240320T170000
DTSTAMP:20260425T134553
CREATED:20240307T144952Z
LAST-MODIFIED:20240307T144952Z
UID:30696-1710928800-1710954000@www.industrialtribunal.bs
SUMMARY:Rusher Cargill v Atlantis Resort NP2022-052
DESCRIPTION:
URL:https://www.industrialtribunal.bs/event/rusher-cargill-v-atlantis-resort-np2022-052-3/
LOCATION:Court 4 – Vice President Subusola Swain
CATEGORIES:Court 4
END:VEVENT
BEGIN:VEVENT
DTSTART;TZID=America/Nassau:20240318T100000
DTEND;TZID=America/Nassau:20240318T170000
DTSTAMP:20260425T134553
CREATED:20240307T144422Z
LAST-MODIFIED:20240307T144422Z
UID:30694-1710756000-1710781200@www.industrialtribunal.bs
SUMMARY:Rusher Cargill v Atlantis Resort NP2022-052
DESCRIPTION:
URL:https://www.industrialtribunal.bs/event/rusher-cargill-v-atlantis-resort-np2022-052-2/
LOCATION:Court 4 – Vice President Subusola Swain
CATEGORIES:Court 4
END:VEVENT
BEGIN:VEVENT
DTSTART;TZID=America/Nassau:20240315T100000
DTEND;TZID=America/Nassau:20240315T170000
DTSTAMP:20260425T134553
CREATED:20240307T144127Z
LAST-MODIFIED:20240307T144127Z
UID:30692-1710496800-1710522000@www.industrialtribunal.bs
SUMMARY:Nicola Jones v F & B Security NP2021-062
DESCRIPTION:
URL:https://www.industrialtribunal.bs/event/nicola-jones-v-f-b-security-np2021-062-4/
LOCATION:Court 4 – Vice President Subusola Swain
CATEGORIES:Court 4
END:VEVENT
BEGIN:VEVENT
DTSTART;TZID=America/Nassau:20231127T100000
DTEND;TZID=America/Nassau:20231127T170000
DTSTAMP:20260425T134553
CREATED:20231103T182938Z
LAST-MODIFIED:20231103T182938Z
UID:29847-1701079200-1701104400@www.industrialtribunal.bs
SUMMARY:Renaldo Russell v Cloud Carib Limited NP2023-075
DESCRIPTION:
URL:https://www.industrialtribunal.bs/event/renaldo-russell-v-cloud-carib-limited-np2023-075/
LOCATION:Court 4 – Vice President Ingrid Cooper-Brooks
CATEGORIES:Court 4
END:VEVENT
BEGIN:VEVENT
DTSTART;TZID=America/Nassau:20231127T100000
DTEND;TZID=America/Nassau:20231127T170000
DTSTAMP:20260425T134553
CREATED:20231103T182856Z
LAST-MODIFIED:20231103T182856Z
UID:29845-1701079200-1701104400@www.industrialtribunal.bs
SUMMARY:Anthony Saunders v Lifestyle Luxury Vacation Club NP2023-063
DESCRIPTION:
URL:https://www.industrialtribunal.bs/event/anthony-saunders-v-lifestyle-luxury-vacation-club-np2023-063/
LOCATION:Court 4 – Vice President Ingrid Cooper-Brooks
CATEGORIES:Court 4
END:VEVENT
BEGIN:VEVENT
DTSTART;TZID=America/Nassau:20231127T100000
DTEND;TZID=America/Nassau:20231127T170000
DTSTAMP:20260425T134553
CREATED:20231103T182752Z
LAST-MODIFIED:20231103T182752Z
UID:29843-1701079200-1701104400@www.industrialtribunal.bs
SUMMARY:Niquel Simon v Subway (John Bull) NP2023-055
DESCRIPTION:
URL:https://www.industrialtribunal.bs/event/niquel-simon-v-subway-john-bull-np2023-055/
LOCATION:Court 4 – Vice President Ingrid Cooper-Brooks
CATEGORIES:Court 4
END:VEVENT
BEGIN:VEVENT
DTSTART;TZID=America/Nassau:20231123T100000
DTEND;TZID=America/Nassau:20231123T170000
DTSTAMP:20260425T134553
CREATED:20231103T182634Z
LAST-MODIFIED:20231103T182634Z
UID:29841-1700733600-1700758800@www.industrialtribunal.bs
SUMMARY:Jennifer Rolle v Abby's Catering NP2023-062
DESCRIPTION:
URL:https://www.industrialtribunal.bs/event/jennifer-rolle-v-abbys-catering-np2023-062/
LOCATION:Court 4 – Vice President Ingrid Cooper-Brooks
CATEGORIES:Court 4
END:VEVENT
BEGIN:VEVENT
DTSTART;TZID=America/Nassau:20231123T100000
DTEND;TZID=America/Nassau:20231123T170000
DTSTAMP:20260425T134553
CREATED:20231103T182533Z
LAST-MODIFIED:20231103T182533Z
UID:29839-1700733600-1700758800@www.industrialtribunal.bs
SUMMARY:Devon M. Seymour v TIG Investments Limited NP2023-068
DESCRIPTION:
URL:https://www.industrialtribunal.bs/event/devon-m-seymour-v-tig-investments-limited-np2023-068/
LOCATION:Court 4 – Vice President Ingrid Cooper-Brooks
CATEGORIES:Court 4
END:VEVENT
BEGIN:VEVENT
DTSTART;TZID=America/Nassau:20231123T100000
DTEND;TZID=America/Nassau:20231123T170000
DTSTAMP:20260425T134553
CREATED:20231103T182413Z
LAST-MODIFIED:20231103T182413Z
UID:29837-1700733600-1700758800@www.industrialtribunal.bs
SUMMARY:Alexander Gray v Elite Security Company NP2023-045
DESCRIPTION:
URL:https://www.industrialtribunal.bs/event/alexander-gray-v-elite-security-company-np2023-045/
LOCATION:Court 4 – Vice President Ingrid Cooper-Brooks
CATEGORIES:Court 4
END:VEVENT
BEGIN:VEVENT
DTSTART;TZID=America/Nassau:20231123T100000
DTEND;TZID=America/Nassau:20231123T170000
DTSTAMP:20260425T134553
CREATED:20231103T182307Z
LAST-MODIFIED:20231103T182307Z
UID:29835-1700733600-1700758800@www.industrialtribunal.bs
SUMMARY:Timothy Sharp v Click to Collect Company NP2022-116
DESCRIPTION:
URL:https://www.industrialtribunal.bs/event/timothy-sharp-v-click-to-collect-company-np2022-116-2/
LOCATION:Court 4 – Vice President Ingrid Cooper-Brooks
CATEGORIES:Court 4
END:VEVENT
BEGIN:VEVENT
DTSTART;TZID=America/Nassau:20231115T100000
DTEND;TZID=America/Nassau:20231115T170000
DTSTAMP:20260425T134553
CREATED:20231103T182149Z
LAST-MODIFIED:20231103T182149Z
UID:29833-1700042400-1700067600@www.industrialtribunal.bs
SUMMARY:Employees of Sky Bahamas v Sky Bahamas Airlines NP2021-063
DESCRIPTION:
URL:https://www.industrialtribunal.bs/event/employees-of-sky-bahamas-v-sky-bahamas-airlines-np2021-063-10/
LOCATION:Court 4 – Vice President Ingrid Cooper-Brooks
CATEGORIES:Court 4
END:VEVENT
BEGIN:VEVENT
DTSTART;TZID=America/Nassau:20231030T100000
DTEND;TZID=America/Nassau:20231030T170000
DTSTAMP:20260425T134553
CREATED:20231002T172812Z
LAST-MODIFIED:20231002T172812Z
UID:29625-1698660000-1698685200@www.industrialtribunal.bs
SUMMARY:Nicola Jones v F & B Security NP2023-011
DESCRIPTION:
URL:https://www.industrialtribunal.bs/event/nicola-jones-v-f-b-security-np2023-011/
LOCATION:Court 4 – Vice President Ingrid Cooper-Brooks
CATEGORIES:Court 4
END:VEVENT
BEGIN:VEVENT
DTSTART;TZID=America/Nassau:20231019T100000
DTEND;TZID=America/Nassau:20231019T170000
DTSTAMP:20260425T134553
CREATED:20231002T172551Z
LAST-MODIFIED:20231002T172551Z
UID:29623-1697709600-1697734800@www.industrialtribunal.bs
SUMMARY:Jonathan Clarke v Atlantis Paradise Island Bahamas NP2021-019
DESCRIPTION:
URL:https://www.industrialtribunal.bs/event/jonathan-clarke-v-atlantis-paradise-island-bahamas-np2021-019-3/
LOCATION:Court 4 – Vice President Ingrid Cooper-Brooks
CATEGORIES:Court 4
END:VEVENT
BEGIN:VEVENT
DTSTART;TZID=America/Nassau:20231018T100000
DTEND;TZID=America/Nassau:20231018T170000
DTSTAMP:20260425T134553
CREATED:20231002T172418Z
LAST-MODIFIED:20231002T172418Z
UID:29621-1697623200-1697648400@www.industrialtribunal.bs
SUMMARY:Marisa D. Mason - Smith v Bahamas Power & Light NP2023-058
DESCRIPTION:
URL:https://www.industrialtribunal.bs/event/marisa-d-mason-smith-v-bahamas-power-light-np2023-058-2/
LOCATION:Court 4 – Vice President Ingrid Cooper-Brooks
CATEGORIES:Court 4
END:VEVENT
BEGIN:VEVENT
DTSTART;TZID=America/Nassau:20231017T100000
DTEND;TZID=America/Nassau:20231017T170000
DTSTAMP:20260425T134553
CREATED:20231002T172314Z
LAST-MODIFIED:20231002T172314Z
UID:29619-1697536800-1697562000@www.industrialtribunal.bs
SUMMARY:Shirnette Wilkinson v ICS of The Bahamas NP2023-022
DESCRIPTION:
URL:https://www.industrialtribunal.bs/event/shirnette-wilkinson-v-ics-of-the-bahamas-np2023-022/
LOCATION:Court 4 – Vice President Ingrid Cooper-Brooks
CATEGORIES:Court 4
END:VEVENT
BEGIN:VEVENT
DTSTART;TZID=America/Nassau:20231017T100000
DTEND;TZID=America/Nassau:20231017T170000
DTSTAMP:20260425T134553
CREATED:20231002T172122Z
LAST-MODIFIED:20231002T172122Z
UID:29617-1697536800-1697562000@www.industrialtribunal.bs
SUMMARY:Patricia Rolle v Rentokil Initial Bahamas Limited NP2023-072
DESCRIPTION:
URL:https://www.industrialtribunal.bs/event/patricia-rolle-v-rentokil-initial-bahamas-limited-np2023-072/
LOCATION:Court 4 – Vice President Ingrid Cooper-Brooks
CATEGORIES:Court 4
END:VEVENT
BEGIN:VEVENT
DTSTART;TZID=America/Nassau:20231017T100000
DTEND;TZID=America/Nassau:20231017T170000
DTSTAMP:20260425T134553
CREATED:20231002T171733Z
LAST-MODIFIED:20231002T171733Z
UID:29615-1697536800-1697562000@www.industrialtribunal.bs
SUMMARY:Davardo Strachan v ICS Security Company Limited NP2023-018
DESCRIPTION:
URL:https://www.industrialtribunal.bs/event/davardo-strachan-v-ics-security-company-limited-np2023-018/
LOCATION:Court 4 – Vice President Ingrid Cooper-Brooks
CATEGORIES:Court 4
END:VEVENT
BEGIN:VEVENT
DTSTART;TZID=America/Nassau:20231016T100000
DTEND;TZID=America/Nassau:20231016T170000
DTSTAMP:20260425T134553
CREATED:20231002T171259Z
LAST-MODIFIED:20231002T171259Z
UID:29613-1697450400-1697475600@www.industrialtribunal.bs
SUMMARY:Tameka Coleby v Warwick Hotel & H.R Business Solutions & Marketing NP2022-088
DESCRIPTION:
URL:https://www.industrialtribunal.bs/event/tameka-coleby-v-warwick-hotel-h-r-business-solutions-marketing-np2022-088/
LOCATION:Court 4 – Vice President Ingrid Cooper-Brooks
CATEGORIES:Court 4
END:VEVENT
BEGIN:VEVENT
DTSTART;TZID=America/Nassau:20231013T100000
DTEND;TZID=America/Nassau:20231013T170000
DTSTAMP:20260425T134553
CREATED:20231002T174107Z
LAST-MODIFIED:20231002T174107Z
UID:29633-1697191200-1697216400@www.industrialtribunal.bs
SUMMARY:Don Seymour v Custom Fenestration Products International NP2023-074
DESCRIPTION:
URL:https://www.industrialtribunal.bs/event/don-seymour-v-custom-fenestration-products-international-np2023-074/
LOCATION:Court 4 – Vice President Ingrid Cooper-Brooks
CATEGORIES:Court 4
END:VEVENT
BEGIN:VEVENT
DTSTART;TZID=America/Nassau:20231013T100000
DTEND;TZID=America/Nassau:20231013T170000
DTSTAMP:20260425T134553
CREATED:20231002T171017Z
LAST-MODIFIED:20231002T171017Z
UID:29611-1697191200-1697216400@www.industrialtribunal.bs
SUMMARY:Charles Rolle v Aetos Holdings Limited NP2023-067
DESCRIPTION:
URL:https://www.industrialtribunal.bs/event/charles-rolle-v-aetos-holdings-limited-np2023-067/
LOCATION:Court 4 – Vice President Ingrid Cooper-Brooks
CATEGORIES:Court 4
END:VEVENT
BEGIN:VEVENT
DTSTART;TZID=America/Nassau:20231012T100000
DTEND;TZID=America/Nassau:20231012T170000
DTSTAMP:20260425T134553
CREATED:20231002T173444Z
LAST-MODIFIED:20231002T173444Z
UID:29631-1697104800-1697130000@www.industrialtribunal.bs
SUMMARY:Rusher Cargill v Paradise Security Services Limited NP2022-052
DESCRIPTION:
URL:https://www.industrialtribunal.bs/event/rusher-cargill-v-paradise-security-services-limited-np2022-052-2/
LOCATION:Court 4 – Vice President Ingrid Cooper-Brooks
CATEGORIES:Court 4
END:VEVENT
BEGIN:VEVENT
DTSTART;TZID=America/Nassau:20231005T100000
DTEND;TZID=America/Nassau:20231005T170000
DTSTAMP:20260425T134553
CREATED:20231002T173156Z
LAST-MODIFIED:20231002T173156Z
UID:29629-1696500000-1696525200@www.industrialtribunal.bs
SUMMARY:Katie Roberts v Ministry of Public Service NP2023-061
DESCRIPTION:
URL:https://www.industrialtribunal.bs/event/katie-roberts-v-ministry-of-public-service-np2023-061-2/
LOCATION:Court 4 – Vice President Ingrid Cooper-Brooks
CATEGORIES:Court 4
END:VEVENT
END:VCALENDAR