BEGIN:VCALENDAR
VERSION:2.0
PRODID:-//Bahamas Industrial Tribunal - ECPv6.15.20//NONSGML v1.0//EN
CALSCALE:GREGORIAN
METHOD:PUBLISH
X-WR-CALNAME:Bahamas Industrial Tribunal
X-ORIGINAL-URL:https://www.industrialtribunal.bs
X-WR-CALDESC:Events for Bahamas Industrial Tribunal
REFRESH-INTERVAL;VALUE=DURATION:PT1H
X-Robots-Tag:noindex
X-PUBLISHED-TTL:PT1H
BEGIN:VTIMEZONE
TZID:America/Nassau
BEGIN:DAYLIGHT
TZOFFSETFROM:-0500
TZOFFSETTO:-0400
TZNAME:EDT
DTSTART:20220313T070000
END:DAYLIGHT
BEGIN:STANDARD
TZOFFSETFROM:-0400
TZOFFSETTO:-0500
TZNAME:EST
DTSTART:20221106T060000
END:STANDARD
BEGIN:DAYLIGHT
TZOFFSETFROM:-0500
TZOFFSETTO:-0400
TZNAME:EDT
DTSTART:20230312T070000
END:DAYLIGHT
BEGIN:STANDARD
TZOFFSETFROM:-0400
TZOFFSETTO:-0500
TZNAME:EST
DTSTART:20231105T060000
END:STANDARD
BEGIN:DAYLIGHT
TZOFFSETFROM:-0500
TZOFFSETTO:-0400
TZNAME:EDT
DTSTART:20240310T070000
END:DAYLIGHT
BEGIN:STANDARD
TZOFFSETFROM:-0400
TZOFFSETTO:-0500
TZNAME:EST
DTSTART:20241103T060000
END:STANDARD
END:VTIMEZONE
BEGIN:VEVENT
DTSTART;TZID=America/Nassau:20231017T100000
DTEND;TZID=America/Nassau:20231017T170000
DTSTAMP:20260425T165147
CREATED:20231002T171733Z
LAST-MODIFIED:20231002T171733Z
UID:29615-1697536800-1697562000@www.industrialtribunal.bs
SUMMARY:Davardo Strachan v ICS Security Company Limited NP2023-018
DESCRIPTION:
URL:https://www.industrialtribunal.bs/event/davardo-strachan-v-ics-security-company-limited-np2023-018/
LOCATION:Court 4 – Vice President Ingrid Cooper-Brooks
CATEGORIES:Court 4
END:VEVENT
BEGIN:VEVENT
DTSTART;TZID=America/Nassau:20231016T100000
DTEND;TZID=America/Nassau:20231016T170000
DTSTAMP:20260425T165147
CREATED:20231002T171259Z
LAST-MODIFIED:20231002T171259Z
UID:29613-1697450400-1697475600@www.industrialtribunal.bs
SUMMARY:Tameka Coleby v Warwick Hotel & H.R Business Solutions & Marketing NP2022-088
DESCRIPTION:
URL:https://www.industrialtribunal.bs/event/tameka-coleby-v-warwick-hotel-h-r-business-solutions-marketing-np2022-088/
LOCATION:Court 4 – Vice President Ingrid Cooper-Brooks
CATEGORIES:Court 4
END:VEVENT
BEGIN:VEVENT
DTSTART;TZID=America/Nassau:20231013T100000
DTEND;TZID=America/Nassau:20231013T170000
DTSTAMP:20260425T165147
CREATED:20231002T174107Z
LAST-MODIFIED:20231002T174107Z
UID:29633-1697191200-1697216400@www.industrialtribunal.bs
SUMMARY:Don Seymour v Custom Fenestration Products International NP2023-074
DESCRIPTION:
URL:https://www.industrialtribunal.bs/event/don-seymour-v-custom-fenestration-products-international-np2023-074/
LOCATION:Court 4 – Vice President Ingrid Cooper-Brooks
CATEGORIES:Court 4
END:VEVENT
BEGIN:VEVENT
DTSTART;TZID=America/Nassau:20231013T100000
DTEND;TZID=America/Nassau:20231013T170000
DTSTAMP:20260425T165147
CREATED:20231002T171017Z
LAST-MODIFIED:20231002T171017Z
UID:29611-1697191200-1697216400@www.industrialtribunal.bs
SUMMARY:Charles Rolle v Aetos Holdings Limited NP2023-067
DESCRIPTION:
URL:https://www.industrialtribunal.bs/event/charles-rolle-v-aetos-holdings-limited-np2023-067/
LOCATION:Court 4 – Vice President Ingrid Cooper-Brooks
CATEGORIES:Court 4
END:VEVENT
BEGIN:VEVENT
DTSTART;TZID=America/Nassau:20231012T100000
DTEND;TZID=America/Nassau:20231012T170000
DTSTAMP:20260425T165147
CREATED:20231002T173444Z
LAST-MODIFIED:20231002T173444Z
UID:29631-1697104800-1697130000@www.industrialtribunal.bs
SUMMARY:Rusher Cargill v Paradise Security Services Limited NP2022-052
DESCRIPTION:
URL:https://www.industrialtribunal.bs/event/rusher-cargill-v-paradise-security-services-limited-np2022-052-2/
LOCATION:Court 4 – Vice President Ingrid Cooper-Brooks
CATEGORIES:Court 4
END:VEVENT
BEGIN:VEVENT
DTSTART;TZID=America/Nassau:20231005T100000
DTEND;TZID=America/Nassau:20231005T170000
DTSTAMP:20260425T165147
CREATED:20231002T173156Z
LAST-MODIFIED:20231002T173156Z
UID:29629-1696500000-1696525200@www.industrialtribunal.bs
SUMMARY:Katie Roberts v Ministry of Public Service NP2023-061
DESCRIPTION:
URL:https://www.industrialtribunal.bs/event/katie-roberts-v-ministry-of-public-service-np2023-061-2/
LOCATION:Court 4 – Vice President Ingrid Cooper-Brooks
CATEGORIES:Court 4
END:VEVENT
BEGIN:VEVENT
DTSTART;TZID=America/Nassau:20231003T100000
DTEND;TZID=America/Nassau:20231003T170000
DTSTAMP:20260425T165147
CREATED:20231002T172919Z
LAST-MODIFIED:20231002T172919Z
UID:29627-1696327200-1696352400@www.industrialtribunal.bs
SUMMARY:Donald McDonald v Island Hotel Company Limited NP2021-205
DESCRIPTION:
URL:https://www.industrialtribunal.bs/event/donald-mcdonald-v-island-hotel-company-limited-np2021-205-3/
LOCATION:Court 4 – Vice President Ingrid Cooper-Brooks
CATEGORIES:Court 4
END:VEVENT
BEGIN:VEVENT
DTSTART;TZID=America/Nassau:20230925T100000
DTEND;TZID=America/Nassau:20230925T170000
DTSTAMP:20260425T165147
CREATED:20230913T141035Z
LAST-MODIFIED:20230913T141035Z
UID:29468-1695636000-1695661200@www.industrialtribunal.bs
SUMMARY:Ingrid Culmer v University of the Bahamas NP2021-167
DESCRIPTION:
URL:https://www.industrialtribunal.bs/event/ingrid-culmer-v-university-of-the-bahamas-np2021-167-4/
LOCATION:Court 4 – Vice President Ingrid Cooper-Brooks
CATEGORIES:Court 4
END:VEVENT
BEGIN:VEVENT
DTSTART;TZID=America/Nassau:20230921T100000
DTEND;TZID=America/Nassau:20230921T170000
DTSTAMP:20260425T165147
CREATED:20230913T140928Z
LAST-MODIFIED:20230913T140928Z
UID:29466-1695290400-1695315600@www.industrialtribunal.bs
SUMMARY:Ancel Pratt v Bank of the Bahamas NP2023-011
DESCRIPTION:
URL:https://www.industrialtribunal.bs/event/ancel-pratt-v-bank-of-the-bahamas-np2023-011-4/
LOCATION:Court 4 – Vice President Ingrid Cooper-Brooks
CATEGORIES:Court 4
END:VEVENT
BEGIN:VEVENT
DTSTART;TZID=America/Nassau:20230920T100000
DTEND;TZID=America/Nassau:20230920T170000
DTSTAMP:20260425T165147
CREATED:20230913T140835Z
LAST-MODIFIED:20230913T140835Z
UID:29464-1695204000-1695229200@www.industrialtribunal.bs
SUMMARY:Ancel Pratt v Bank of the Bahamas NP2023-011
DESCRIPTION:
URL:https://www.industrialtribunal.bs/event/ancel-pratt-v-bank-of-the-bahamas-np2023-011-3/
LOCATION:Court 4 – Vice President Ingrid Cooper-Brooks
CATEGORIES:Court 4
END:VEVENT
BEGIN:VEVENT
DTSTART;TZID=America/Nassau:20230920T100000
DTEND;TZID=America/Nassau:20230920T170000
DTSTAMP:20260425T165147
CREATED:20230913T140515Z
LAST-MODIFIED:20230913T140515Z
UID:29462-1695204000-1695229200@www.industrialtribunal.bs
SUMMARY:Ancel Pratt v Bank of the Bahamas NP2023-011
DESCRIPTION:
URL:https://www.industrialtribunal.bs/event/ancel-pratt-v-bank-of-the-bahamas-np2023-011-2/
LOCATION:Court 4 – Vice President Ingrid Cooper-Brooks
CATEGORIES:Court 4
END:VEVENT
BEGIN:VEVENT
DTSTART;TZID=America/Nassau:20230919T100000
DTEND;TZID=America/Nassau:20230919T170000
DTSTAMP:20260425T165147
CREATED:20230913T140333Z
LAST-MODIFIED:20230913T140333Z
UID:29460-1695117600-1695142800@www.industrialtribunal.bs
SUMMARY:Rusher Cargill v Paradise Security Services Limited NP2022-052
DESCRIPTION:
URL:https://www.industrialtribunal.bs/event/rusher-cargill-v-paradise-security-services-limited-np2022-052/
LOCATION:Court 4 – Vice President Ingrid Cooper-Brooks
CATEGORIES:Court 4
END:VEVENT
BEGIN:VEVENT
DTSTART;TZID=America/Nassau:20230918T100000
DTEND;TZID=America/Nassau:20230918T170000
DTSTAMP:20260425T165147
CREATED:20230913T140154Z
LAST-MODIFIED:20230913T140154Z
UID:29458-1695031200-1695056400@www.industrialtribunal.bs
SUMMARY:Katie Roberts v Ministry of Public Service NP2023-061
DESCRIPTION:
URL:https://www.industrialtribunal.bs/event/katie-roberts-v-ministry-of-public-service-np2023-061/
LOCATION:Court 4 – Vice President Ingrid Cooper-Brooks
CATEGORIES:Court 4
END:VEVENT
BEGIN:VEVENT
DTSTART;TZID=America/Nassau:20230918T100000
DTEND;TZID=America/Nassau:20230918T170000
DTSTAMP:20260425T165147
CREATED:20230913T134925Z
LAST-MODIFIED:20230913T134925Z
UID:29456-1695031200-1695056400@www.industrialtribunal.bs
SUMMARY:Marisa D. Mason - Smith v Bahamas Power & Light NP2023-058
DESCRIPTION:
URL:https://www.industrialtribunal.bs/event/marisa-d-mason-smith-v-bahamas-power-light-np2023-058/
LOCATION:Court 4 – Vice President Ingrid Cooper-Brooks
CATEGORIES:Court 4
END:VEVENT
BEGIN:VEVENT
DTSTART;TZID=America/Nassau:20230913T100000
DTEND;TZID=America/Nassau:20230913T170000
DTSTAMP:20260425T165147
CREATED:20230913T134357Z
LAST-MODIFIED:20230913T134357Z
UID:29454-1694599200-1694624400@www.industrialtribunal.bs
SUMMARY:Jonathan Clarke v Atlantis Paradise Island Bahamas
DESCRIPTION:
URL:https://www.industrialtribunal.bs/event/jonathan-clarke-v-atlantis-paradise-island-bahamas/
LOCATION:Court 4 – Vice President Ingrid Cooper-Brooks
CATEGORIES:Court 4
END:VEVENT
BEGIN:VEVENT
DTSTART;TZID=America/Nassau:20230822T100000
DTEND;TZID=America/Nassau:20230822T170000
DTSTAMP:20260425T165147
CREATED:20230803T134232Z
LAST-MODIFIED:20230803T134232Z
UID:29348-1692698400-1692723600@www.industrialtribunal.bs
SUMMARY:Kendia Laramore v Showcase Entertainment (Fusion Superplex} NP2021-237
DESCRIPTION:
URL:https://www.industrialtribunal.bs/event/kendia-laramore-v-showcase-entertainment-fusion-superplex-np2021-237-4/
LOCATION:Court 4 – Vice President Ingrid Cooper-Brooks
CATEGORIES:Court 4
END:VEVENT
BEGIN:VEVENT
DTSTART;TZID=America/Nassau:20230803T100000
DTEND;TZID=America/Nassau:20230803T170000
DTSTAMP:20260425T165147
CREATED:20230803T133834Z
LAST-MODIFIED:20230803T133834Z
UID:29346-1691056800-1691082000@www.industrialtribunal.bs
SUMMARY:Tameka Coleby v Warwick Hotel NP2022-088
DESCRIPTION:
URL:https://www.industrialtribunal.bs/event/tameka-coleby-v-warwick-hotel-np2022-088-3/
LOCATION:Court 4 – Vice President Ingrid Cooper-Brooks
CATEGORIES:Court 4
END:VEVENT
BEGIN:VEVENT
DTSTART;TZID=America/Nassau:20230725T100000
DTEND;TZID=America/Nassau:20230725T170000
DTSTAMP:20260425T165147
CREATED:20230704T200739Z
LAST-MODIFIED:20230704T200739Z
UID:29160-1690279200-1690304400@www.industrialtribunal.bs
SUMMARY:Swanson Brown v Commonwealth Building Supplies NP2022-063
DESCRIPTION:
URL:https://www.industrialtribunal.bs/event/swanson-brown-v-commonwealth-building-supplies-np2022-063-4/
LOCATION:Court 4 – Vice President Ingrid Cooper-Brooks
CATEGORIES:Court 4
END:VEVENT
BEGIN:VEVENT
DTSTART;TZID=America/Nassau:20230724T100000
DTEND;TZID=America/Nassau:20230724T170000
DTSTAMP:20260425T165147
CREATED:20230704T200554Z
LAST-MODIFIED:20230704T200554Z
UID:29158-1690192800-1690218000@www.industrialtribunal.bs
SUMMARY:Swanson Brown v Commonwealth Building Supplies NP2022-063
DESCRIPTION:
URL:https://www.industrialtribunal.bs/event/swanson-brown-v-commonwealth-building-supplies-np2022-063-3/
LOCATION:Court 4 – Vice President Ingrid Cooper-Brooks
CATEGORIES:Court 4
END:VEVENT
BEGIN:VEVENT
DTSTART;TZID=America/Nassau:20230720T100000
DTEND;TZID=America/Nassau:20230720T170000
DTSTAMP:20260425T165147
CREATED:20230704T200435Z
LAST-MODIFIED:20230704T200435Z
UID:29156-1689847200-1689872400@www.industrialtribunal.bs
SUMMARY:Jonathan Clarke v Paradise Enterprises NP2021-019
DESCRIPTION:
URL:https://www.industrialtribunal.bs/event/jonathan-clarke-v-paradise-enterprises-np2021-019/
LOCATION:Court 4 – Vice President Ingrid Cooper-Brooks
CATEGORIES:Court 4
END:VEVENT
BEGIN:VEVENT
DTSTART;TZID=America/Nassau:20230718T100000
DTEND;TZID=America/Nassau:20230718T170000
DTSTAMP:20260425T165147
CREATED:20230704T200314Z
LAST-MODIFIED:20230704T200314Z
UID:29154-1689674400-1689699600@www.industrialtribunal.bs
SUMMARY:Bernadette Beneby v The Marinn Residence (Albany) NP2022-026
DESCRIPTION:
URL:https://www.industrialtribunal.bs/event/bernadette-beneby-v-the-marinn-residence-albany-np2022-026-3/
LOCATION:Court 4 – Vice President Ingrid Cooper-Brooks
CATEGORIES:Court 4
END:VEVENT
BEGIN:VEVENT
DTSTART;TZID=America/Nassau:20230712T100000
DTEND;TZID=America/Nassau:20230712T170000
DTSTAMP:20260425T165147
CREATED:20230704T200116Z
LAST-MODIFIED:20230704T200116Z
UID:29152-1689156000-1689181200@www.industrialtribunal.bs
SUMMARY:Tameka Colbey v Warwick Hotel NP2022-088
DESCRIPTION:
URL:https://www.industrialtribunal.bs/event/tameka-colbey-v-warwick-hotel-np2022-088/
LOCATION:Court 4 – Vice President Ingrid Cooper-Brooks
CATEGORIES:Court 4
END:VEVENT
BEGIN:VEVENT
DTSTART;TZID=America/Nassau:20230706T100000
DTEND;TZID=America/Nassau:20230706T170000
DTSTAMP:20260425T165147
CREATED:20230704T195903Z
LAST-MODIFIED:20230704T195903Z
UID:29150-1688637600-1688662800@www.industrialtribunal.bs
SUMMARY:Tomiko Evans v The Cacique International Company Ltd   NP2021-225
DESCRIPTION:
URL:https://www.industrialtribunal.bs/event/tomiko-evans-v-the-cacique-international-company-ltd-np2021-225/
LOCATION:Court 4 – Vice President Ingrid Cooper-Brooks
CATEGORIES:Court 4
END:VEVENT
BEGIN:VEVENT
DTSTART;TZID=America/Nassau:20230620T100000
DTEND;TZID=America/Nassau:20230620T170000
DTSTAMP:20260425T165147
CREATED:20230606T170428Z
LAST-MODIFIED:20230606T170428Z
UID:29033-1687255200-1687280400@www.industrialtribunal.bs
SUMMARY:Kendia Laramore v Showcase Entertainment (Fusion Superplex} NP2021-237
DESCRIPTION:
URL:https://www.industrialtribunal.bs/event/kendia-laramore-v-showcase-entertainment-fusion-superplex-np2021-237-3/
LOCATION:Court 4 – Vice President Ingrid Cooper-Brooks
CATEGORIES:Court 4
END:VEVENT
BEGIN:VEVENT
DTSTART;TZID=America/Nassau:20230619T100000
DTEND;TZID=America/Nassau:20230619T170000
DTSTAMP:20260425T165147
CREATED:20230606T165832Z
LAST-MODIFIED:20230606T165832Z
UID:29031-1687168800-1687194000@www.industrialtribunal.bs
SUMMARY:Terah Black v RW Operations (Dunmore Beach Hotel} Harbour Island\, Eleuthera NP2021-222
DESCRIPTION:
URL:https://www.industrialtribunal.bs/event/terah-black-v-rw-operations-dunmore-beach-hotel-harbour-island-eleuthera-np2021-222/
LOCATION:Court 4 – Vice President Ingrid Cooper-Brooks
CATEGORIES:Court 4
END:VEVENT
BEGIN:VEVENT
DTSTART;TZID=America/Nassau:20230614T100000
DTEND;TZID=America/Nassau:20230614T170000
DTSTAMP:20260425T165147
CREATED:20230606T165449Z
LAST-MODIFIED:20230606T165449Z
UID:29029-1686736800-1686762000@www.industrialtribunal.bs
SUMMARY:Donald McDonald v Island Hotel Company Limited NP2021-205
DESCRIPTION:
URL:https://www.industrialtribunal.bs/event/donald-mcdonald-v-island-hotel-company-limited-np2021-205-2/
LOCATION:Court 4 – Vice President Ingrid Cooper-Brooks
CATEGORIES:Court 4
END:VEVENT
BEGIN:VEVENT
DTSTART;TZID=America/Nassau:20230609T100000
DTEND;TZID=America/Nassau:20230609T170000
DTSTAMP:20260425T165147
CREATED:20230606T163738Z
LAST-MODIFIED:20230606T163738Z
UID:29027-1686304800-1686330000@www.industrialtribunal.bs
SUMMARY:Employees of Sky Bahamas v Sky Bahamas Airlines NP2021-063
DESCRIPTION:
URL:https://www.industrialtribunal.bs/event/employees-of-sky-bahamas-v-sky-bahamas-airlines-np2021-063-9/
LOCATION:Court 4 – Vice President Ingrid Cooper-Brooks
CATEGORIES:Court 4
END:VEVENT
BEGIN:VEVENT
DTSTART;TZID=America/Nassau:20230608T100000
DTEND;TZID=America/Nassau:20230608T170000
DTSTAMP:20260425T165147
CREATED:20230606T162751Z
LAST-MODIFIED:20230606T162751Z
UID:29025-1686218400-1686243600@www.industrialtribunal.bs
SUMMARY:Employees of Sky Bahamas v Sky Bahamas Airlines NP2021-063
DESCRIPTION:
URL:https://www.industrialtribunal.bs/event/employees-of-sky-bahamas-v-sky-bahamas-airlines-np2021-063-8/
LOCATION:Court 4 – Vice President Ingrid Cooper-Brooks
CATEGORIES:Court 4
END:VEVENT
BEGIN:VEVENT
DTSTART;TZID=America/Nassau:20230607T100000
DTEND;TZID=America/Nassau:20230607T170000
DTSTAMP:20260425T165147
CREATED:20230606T162031Z
LAST-MODIFIED:20230606T162031Z
UID:29023-1686132000-1686157200@www.industrialtribunal.bs
SUMMARY:Employees of Sky Bahamas v Sky Bahamas Airlines NP2021-063
DESCRIPTION:
URL:https://www.industrialtribunal.bs/event/employees-of-sky-bahamas-v-sky-bahamas-airlines-np2021-063-7/
LOCATION:Court 4 – Vice President Ingrid Cooper-Brooks
CATEGORIES:Court 4
END:VEVENT
BEGIN:VEVENT
DTSTART;TZID=America/Nassau:20230606T100000
DTEND;TZID=America/Nassau:20230606T170000
DTSTAMP:20260425T165147
CREATED:20230606T154450Z
LAST-MODIFIED:20230606T154450Z
UID:29021-1686045600-1686070800@www.industrialtribunal.bs
SUMMARY:Employees of Sky Bahamas v Sky Bahamas Airlines NP2021-063
DESCRIPTION:
URL:https://www.industrialtribunal.bs/event/employees-of-sky-bahamas-v-sky-bahamas-airlines-np2021-063-6/
LOCATION:Court 4 – Vice President Ingrid Cooper-Brooks
CATEGORIES:Court 4
END:VEVENT
END:VCALENDAR