BEGIN:VCALENDAR
VERSION:2.0
PRODID:-//Bahamas Industrial Tribunal - ECPv6.15.20//NONSGML v1.0//EN
CALSCALE:GREGORIAN
METHOD:PUBLISH
X-ORIGINAL-URL:https://www.industrialtribunal.bs
X-WR-CALDESC:Events for Bahamas Industrial Tribunal
REFRESH-INTERVAL;VALUE=DURATION:PT1H
X-Robots-Tag:noindex
X-PUBLISHED-TTL:PT1H
BEGIN:VTIMEZONE
TZID:America/Nassau
BEGIN:DAYLIGHT
TZOFFSETFROM:-0500
TZOFFSETTO:-0400
TZNAME:EDT
DTSTART:20220313T070000
END:DAYLIGHT
BEGIN:STANDARD
TZOFFSETFROM:-0400
TZOFFSETTO:-0500
TZNAME:EST
DTSTART:20221106T060000
END:STANDARD
BEGIN:DAYLIGHT
TZOFFSETFROM:-0500
TZOFFSETTO:-0400
TZNAME:EDT
DTSTART:20230312T070000
END:DAYLIGHT
BEGIN:STANDARD
TZOFFSETFROM:-0400
TZOFFSETTO:-0500
TZNAME:EST
DTSTART:20231105T060000
END:STANDARD
BEGIN:DAYLIGHT
TZOFFSETFROM:-0500
TZOFFSETTO:-0400
TZNAME:EDT
DTSTART:20240310T070000
END:DAYLIGHT
BEGIN:STANDARD
TZOFFSETFROM:-0400
TZOFFSETTO:-0500
TZNAME:EST
DTSTART:20241103T060000
END:STANDARD
END:VTIMEZONE
BEGIN:VEVENT
DTSTART;TZID=America/Nassau:20230619T100000
DTEND;TZID=America/Nassau:20230619T170000
DTSTAMP:20260425T200525
CREATED:20230606T165832Z
LAST-MODIFIED:20230606T165832Z
UID:29031-1687168800-1687194000@www.industrialtribunal.bs
SUMMARY:Terah Black v RW Operations (Dunmore Beach Hotel} Harbour Island\, Eleuthera NP2021-222
DESCRIPTION:
URL:https://www.industrialtribunal.bs/event/terah-black-v-rw-operations-dunmore-beach-hotel-harbour-island-eleuthera-np2021-222/
LOCATION:Court 4 – Vice President Ingrid Cooper-Brooks
CATEGORIES:Court 4
END:VEVENT
BEGIN:VEVENT
DTSTART;TZID=America/Nassau:20230614T100000
DTEND;TZID=America/Nassau:20230614T170000
DTSTAMP:20260425T200525
CREATED:20230606T165449Z
LAST-MODIFIED:20230606T165449Z
UID:29029-1686736800-1686762000@www.industrialtribunal.bs
SUMMARY:Donald McDonald v Island Hotel Company Limited NP2021-205
DESCRIPTION:
URL:https://www.industrialtribunal.bs/event/donald-mcdonald-v-island-hotel-company-limited-np2021-205-2/
LOCATION:Court 4 – Vice President Ingrid Cooper-Brooks
CATEGORIES:Court 4
END:VEVENT
BEGIN:VEVENT
DTSTART;TZID=America/Nassau:20230609T100000
DTEND;TZID=America/Nassau:20230609T170000
DTSTAMP:20260425T200525
CREATED:20230606T163738Z
LAST-MODIFIED:20230606T163738Z
UID:29027-1686304800-1686330000@www.industrialtribunal.bs
SUMMARY:Employees of Sky Bahamas v Sky Bahamas Airlines NP2021-063
DESCRIPTION:
URL:https://www.industrialtribunal.bs/event/employees-of-sky-bahamas-v-sky-bahamas-airlines-np2021-063-9/
LOCATION:Court 4 – Vice President Ingrid Cooper-Brooks
CATEGORIES:Court 4
END:VEVENT
BEGIN:VEVENT
DTSTART;TZID=America/Nassau:20230608T100000
DTEND;TZID=America/Nassau:20230608T170000
DTSTAMP:20260425T200525
CREATED:20230606T162751Z
LAST-MODIFIED:20230606T162751Z
UID:29025-1686218400-1686243600@www.industrialtribunal.bs
SUMMARY:Employees of Sky Bahamas v Sky Bahamas Airlines NP2021-063
DESCRIPTION:
URL:https://www.industrialtribunal.bs/event/employees-of-sky-bahamas-v-sky-bahamas-airlines-np2021-063-8/
LOCATION:Court 4 – Vice President Ingrid Cooper-Brooks
CATEGORIES:Court 4
END:VEVENT
BEGIN:VEVENT
DTSTART;TZID=America/Nassau:20230607T100000
DTEND;TZID=America/Nassau:20230607T170000
DTSTAMP:20260425T200525
CREATED:20230606T162031Z
LAST-MODIFIED:20230606T162031Z
UID:29023-1686132000-1686157200@www.industrialtribunal.bs
SUMMARY:Employees of Sky Bahamas v Sky Bahamas Airlines NP2021-063
DESCRIPTION:
URL:https://www.industrialtribunal.bs/event/employees-of-sky-bahamas-v-sky-bahamas-airlines-np2021-063-7/
LOCATION:Court 4 – Vice President Ingrid Cooper-Brooks
CATEGORIES:Court 4
END:VEVENT
BEGIN:VEVENT
DTSTART;TZID=America/Nassau:20230606T100000
DTEND;TZID=America/Nassau:20230606T170000
DTSTAMP:20260425T200525
CREATED:20230606T154450Z
LAST-MODIFIED:20230606T154450Z
UID:29021-1686045600-1686070800@www.industrialtribunal.bs
SUMMARY:Employees of Sky Bahamas v Sky Bahamas Airlines NP2021-063
DESCRIPTION:
URL:https://www.industrialtribunal.bs/event/employees-of-sky-bahamas-v-sky-bahamas-airlines-np2021-063-6/
LOCATION:Court 4 – Vice President Ingrid Cooper-Brooks
CATEGORIES:Court 4
END:VEVENT
BEGIN:VEVENT
DTSTART;TZID=America/Nassau:20230605T100000
DTEND;TZID=America/Nassau:20230605T170000
DTSTAMP:20260425T200525
CREATED:20230606T154348Z
LAST-MODIFIED:20230606T154348Z
UID:29019-1685959200-1685984400@www.industrialtribunal.bs
SUMMARY:Employees of Sky Bahamas v Sky Bahamas Airlines NP2021-063
DESCRIPTION:
URL:https://www.industrialtribunal.bs/event/employees-of-sky-bahamas-v-sky-bahamas-airlines-np2021-063-5/
LOCATION:Court 4 – Vice President Ingrid Cooper-Brooks
CATEGORIES:Court 4
END:VEVENT
BEGIN:VEVENT
DTSTART;TZID=America/Nassau:20230601T100000
DTEND;TZID=America/Nassau:20230601T170000
DTSTAMP:20260425T200525
CREATED:20230606T154112Z
LAST-MODIFIED:20230606T154112Z
UID:29017-1685613600-1685638800@www.industrialtribunal.bs
SUMMARY:Nicola Jones v F & B Security NP2021-062
DESCRIPTION:
URL:https://www.industrialtribunal.bs/event/nicola-jones-v-f-b-security-np2021-062-3/
LOCATION:Court 4 – Vice President Ingrid Cooper-Brooks
CATEGORIES:Court 4
END:VEVENT
BEGIN:VEVENT
DTSTART;TZID=America/Nassau:20230601T100000
DTEND;TZID=America/Nassau:20230601T170000
DTSTAMP:20260425T200525
CREATED:20230606T153841Z
LAST-MODIFIED:20230606T153841Z
UID:29015-1685613600-1685638800@www.industrialtribunal.bs
SUMMARY:Ancel Pratt v Bank of The Bahamas NP2023-011
DESCRIPTION:
URL:https://www.industrialtribunal.bs/event/ancel-pratt-v-bank-of-the-bahamas-np2023-011/
LOCATION:Court 4 – Vice President Ingrid Cooper-Brooks
CATEGORIES:Court 4
END:VEVENT
BEGIN:VEVENT
DTSTART;TZID=America/Nassau:20230530T100000
DTEND;TZID=America/Nassau:20230530T170000
DTSTAMP:20260425T200525
CREATED:20230424T163237Z
LAST-MODIFIED:20230519T172009Z
UID:28426-1685440800-1685466000@www.industrialtribunal.bs
SUMMARY:Ingrid Culmer v University of The Bahamas NP2021-167
DESCRIPTION:
URL:https://www.industrialtribunal.bs/event/ingrid-culmer-v-university-of-the-bahamas-np2021-167-3/
LOCATION:Court 4 – Vice President Ingrid Cooper-Brooks
CATEGORIES:Court 4
END:VEVENT
BEGIN:VEVENT
DTSTART;TZID=America/Nassau:20230525T100000
DTEND;TZID=America/Nassau:20230525T170000
DTSTAMP:20260425T200525
CREATED:20230424T163124Z
LAST-MODIFIED:20230519T172518Z
UID:28424-1685008800-1685034000@www.industrialtribunal.bs
SUMMARY:Jonathan Clarke v Paradise Enterprises Limited NP2021-019
DESCRIPTION:
URL:https://www.industrialtribunal.bs/event/jonathan-clarke-v-paradise-enterprises-limited-np2021-019/
LOCATION:Court 4 – Vice President Ingrid Cooper-Brooks
CATEGORIES:Court 4
END:VEVENT
BEGIN:VEVENT
DTSTART;TZID=America/Nassau:20230525T100000
DTEND;TZID=America/Nassau:20230525T170000
DTSTAMP:20260425T200525
CREATED:20230424T162941Z
LAST-MODIFIED:20230519T172531Z
UID:28422-1685008800-1685034000@www.industrialtribunal.bs
SUMMARY:Yorlet A. Collie v Gray Cliff Hotel NP2022-062
DESCRIPTION:
URL:https://www.industrialtribunal.bs/event/yorlet-a-collie-v-gray-cliff-hotel-np2022-062/
LOCATION:Court 4 – Vice President Ingrid Cooper-Brooks
CATEGORIES:Court 4
END:VEVENT
BEGIN:VEVENT
DTSTART;TZID=America/Nassau:20230525T100000
DTEND;TZID=America/Nassau:20230525T170000
DTSTAMP:20260425T200525
CREATED:20230424T162830Z
LAST-MODIFIED:20230519T172545Z
UID:28420-1685008800-1685034000@www.industrialtribunal.bs
SUMMARY:Tameka Coleby v Warwick Hotel NP2022-088
DESCRIPTION:
URL:https://www.industrialtribunal.bs/event/tameka-coleby-v-warwick-hotel-np2022-088-2/
LOCATION:Court 4 – Vice President Ingrid Cooper-Brooks
CATEGORIES:Court 4
END:VEVENT
BEGIN:VEVENT
DTSTART;TZID=America/Nassau:20230523T100000
DTEND;TZID=America/Nassau:20230523T170000
DTSTAMP:20260425T200525
CREATED:20230424T162602Z
LAST-MODIFIED:20230519T172625Z
UID:28417-1684836000-1684861200@www.industrialtribunal.bs
SUMMARY:Tomiko Evans v The Cacique International Limited NP2021-225
DESCRIPTION:
URL:https://www.industrialtribunal.bs/event/tomiko-evans-v-the-cacique-international-limited-np2021-225-2/
LOCATION:Court 4 – Vice President Ingrid Cooper-Brooks
CATEGORIES:Court 4
END:VEVENT
BEGIN:VEVENT
DTSTART;TZID=America/Nassau:20230522T100000
DTEND;TZID=America/Nassau:20230522T170000
DTSTAMP:20260425T200525
CREATED:20230424T162433Z
LAST-MODIFIED:20230519T172706Z
UID:28415-1684749600-1684774800@www.industrialtribunal.bs
SUMMARY:All-Non Managerial staff v CIBC First Caribbean International Bank NP2022-041
DESCRIPTION:
URL:https://www.industrialtribunal.bs/event/all-non-managerial-staff-v-cibc-first-caribbean-international-bank-np2022-041-2/
LOCATION:Court 4 – Vice President Ingrid Cooper-Brooks
CATEGORIES:Court 4
END:VEVENT
BEGIN:VEVENT
DTSTART;TZID=America/Nassau:20230517T100000
DTEND;TZID=America/Nassau:20230517T170000
DTSTAMP:20260425T200525
CREATED:20230426T154038Z
LAST-MODIFIED:20230426T154038Z
UID:28455-1684317600-1684342800@www.industrialtribunal.bs
SUMMARY:Wandell Baptiste v Monatgue Motors NP2021-238
DESCRIPTION:
URL:https://www.industrialtribunal.bs/event/wandell-baptiste-v-monatgue-motors-np2021-238/
LOCATION:Court 4 – Vice President Sharada Humes Ferguson
CATEGORIES:Court 4
END:VEVENT
BEGIN:VEVENT
DTSTART;TZID=America/Nassau:20230515T100000
DTEND;TZID=America/Nassau:20230515T170000
DTSTAMP:20260425T200525
CREATED:20230426T153815Z
LAST-MODIFIED:20230426T153815Z
UID:28453-1684144800-1684170000@www.industrialtribunal.bs
SUMMARY:Gwendolyn Smith v Holiday Inn/Amec Agency NP2021-058
DESCRIPTION:
URL:https://www.industrialtribunal.bs/event/gwendolyn-smith-v-holiday-inn-amec-agency-np2021-058-2/
LOCATION:Court 4 – Vice President Sharada Humes Ferguson
CATEGORIES:Court 4
END:VEVENT
BEGIN:VEVENT
DTSTART;TZID=America/Nassau:20230511T100000
DTEND;TZID=America/Nassau:20230511T170000
DTSTAMP:20260425T200525
CREATED:20230426T153645Z
LAST-MODIFIED:20230426T153645Z
UID:28451-1683799200-1683824400@www.industrialtribunal.bs
SUMMARY:Sandra Rose v IHCL NP19-132
DESCRIPTION:
URL:https://www.industrialtribunal.bs/event/sandra-rose-v-ihcl-np19-132/
LOCATION:Court 4 – Vice President Sharada Humes Ferguson
CATEGORIES:Court 4
END:VEVENT
BEGIN:VEVENT
DTSTART;TZID=America/Nassau:20230510T100000
DTEND;TZID=America/Nassau:20230510T170000
DTSTAMP:20260425T200525
CREATED:20230426T153425Z
LAST-MODIFIED:20230426T153425Z
UID:28448-1683712800-1683738000@www.industrialtribunal.bs
SUMMARY:Temar Davis v Atlantis NP2020-52
DESCRIPTION:
URL:https://www.industrialtribunal.bs/event/temar-davis-v-atlantis-np2020-52-2/
LOCATION:Court 4 – Vice President Sharada Humes Ferguson
CATEGORIES:Court 4
END:VEVENT
BEGIN:VEVENT
DTSTART;TZID=America/Nassau:20230508T100000
DTEND;TZID=America/Nassau:20230508T170000
DTSTAMP:20260425T200525
CREATED:20230426T153306Z
LAST-MODIFIED:20230426T153531Z
UID:28446-1683540000-1683565200@www.industrialtribunal.bs
SUMMARY:Granville Don Thomas Butler III v The Ministry of Foreign Affairs NP2021-108
DESCRIPTION:
URL:https://www.industrialtribunal.bs/event/granville-don-thomas-butler-iii-and-the-ministry-of-foreign-affairs-np2021-108/
LOCATION:Court 4 – Vice President Sharada Humes Ferguson
CATEGORIES:Court 4
END:VEVENT
BEGIN:VEVENT
DTSTART;TZID=America/Nassau:20230427T100000
DTEND;TZID=America/Nassau:20230427T170000
DTSTAMP:20260425T200525
CREATED:20230404T134457Z
LAST-MODIFIED:20230404T134457Z
UID:28285-1682589600-1682614800@www.industrialtribunal.bs
SUMMARY:Shawne John Bowe v Caribbean Asphalt Paving NP2021-207
DESCRIPTION:
URL:https://www.industrialtribunal.bs/event/shawne-john-bowe-v-caribbean-asphalt-paving-np2021-207-2/
LOCATION:Court 4 – Vice President Sharada Humes Ferguson
CATEGORIES:Court 4
END:VEVENT
BEGIN:VEVENT
DTSTART;TZID=America/Nassau:20230425T100000
DTEND;TZID=America/Nassau:20230425T170000
DTSTAMP:20260425T200525
CREATED:20230404T134213Z
LAST-MODIFIED:20230404T134213Z
UID:28283-1682416800-1682442000@www.industrialtribunal.bs
SUMMARY:Tevin Pickstock v Albany Bahamas NP2022-057
DESCRIPTION:
URL:https://www.industrialtribunal.bs/event/tevin-pickstock-v-albany-bahamas-np2022-057-4/
LOCATION:Court 4 – Vice President Sharada Humes Ferguson
CATEGORIES:Court 4
END:VEVENT
BEGIN:VEVENT
DTSTART;TZID=America/Nassau:20230424T100000
DTEND;TZID=America/Nassau:20230424T170000
DTSTAMP:20260425T200525
CREATED:20230404T134113Z
LAST-MODIFIED:20230404T134113Z
UID:28281-1682330400-1682355600@www.industrialtribunal.bs
SUMMARY:Tevin Pickstock v Albany Bahamas NP2022-057
DESCRIPTION:
URL:https://www.industrialtribunal.bs/event/tevin-pickstock-v-albany-bahamas-np2022-057-3/
LOCATION:Court 4 – Vice President Sharada Humes Ferguson
CATEGORIES:Court 4
END:VEVENT
BEGIN:VEVENT
DTSTART;TZID=America/Nassau:20230419T100000
DTEND;TZID=America/Nassau:20230419T170000
DTSTAMP:20260425T200525
CREATED:20230404T133956Z
LAST-MODIFIED:20230404T133956Z
UID:28279-1681898400-1681923600@www.industrialtribunal.bs
SUMMARY:Marvin Josey v Sunshine Cruises d/b/a Blue Illusion NP2020-27
DESCRIPTION:
URL:https://www.industrialtribunal.bs/event/marvin-josey-v-sunshine-cruises-d-b-a-blue-illusion-np2020-27/
LOCATION:Court 4 – Vice President Sharada Humes Ferguson
CATEGORIES:Court 4
END:VEVENT
BEGIN:VEVENT
DTSTART;TZID=America/Nassau:20230327T100000
DTEND;TZID=America/Nassau:20230327T170000
DTSTAMP:20260425T200525
CREATED:20230228T203020Z
LAST-MODIFIED:20230228T203020Z
UID:28117-1679911200-1679936400@www.industrialtribunal.bs
SUMMARY:Lena Roberts v GSC Management Company (Bahamas Limited) & United Shipping (Nassau) Company Limited NP2021-229
DESCRIPTION:
URL:https://www.industrialtribunal.bs/event/lena-roberts-v-gsc-management-company-bahamas-limited-united-shipping-nassau-company-limited-np2021-229/
LOCATION:Court 4 – Vice President Sharada Humes Ferguson
CATEGORIES:Court 4
END:VEVENT
BEGIN:VEVENT
DTSTART;TZID=America/Nassau:20230322T100000
DTEND;TZID=America/Nassau:20230322T170000
DTSTAMP:20260425T200525
CREATED:20230310T160909Z
LAST-MODIFIED:20230310T160909Z
UID:28154-1679479200-1679504400@www.industrialtribunal.bs
SUMMARY:Clyde Mackey et.al. v Woodside Petroleum Company (Texaco) Byron Lisa & Neville Woodside NP2018-166
DESCRIPTION:
URL:https://www.industrialtribunal.bs/event/clyde-mackey-et-al-v-woodside-petroleum-company-texaco-byron-lisa-neville-woodside-np2018-166/
LOCATION:Court 4 – Vice President Sharada Humes Ferguson
CATEGORIES:Court 4
END:VEVENT
BEGIN:VEVENT
DTSTART;TZID=America/Nassau:20230313T100000
DTEND;TZID=America/Nassau:20230313T170000
DTSTAMP:20260425T200525
CREATED:20230228T202831Z
LAST-MODIFIED:20230228T202831Z
UID:28115-1678701600-1678726800@www.industrialtribunal.bs
SUMMARY:Wandell Baptiste v Montague Motors NP2021-238
DESCRIPTION:
URL:https://www.industrialtribunal.bs/event/wandell-baptiste-v-montague-motors-np2021-238-2/
LOCATION:Court 4 – Vice President Sharada Humes Ferguson
CATEGORIES:Court 4
END:VEVENT
BEGIN:VEVENT
DTSTART;TZID=America/Nassau:20230309T100000
DTEND;TZID=America/Nassau:20230309T170000
DTSTAMP:20260425T200525
CREATED:20230228T202732Z
LAST-MODIFIED:20230228T202732Z
UID:28113-1678356000-1678381200@www.industrialtribunal.bs
SUMMARY:Anita Moxey/ Bahamas Hotel Catering Allied Workers Union v Harbourside at Atlantis Management Ltd. T/A Harbourside Resort NP2021-155
DESCRIPTION:
URL:https://www.industrialtribunal.bs/event/anita-moxey-bahamas-hotel-catering-allied-workers-union-v-harbourside-at-atlantis-management-ltd-t-a-harbourside-resort-np2021-155-2/
LOCATION:Court 4 – Vice President Sharada Humes Ferguson
CATEGORIES:Court 4
END:VEVENT
BEGIN:VEVENT
DTSTART;TZID=America/Nassau:20230308T100000
DTEND;TZID=America/Nassau:20230308T170000
DTSTAMP:20260425T200525
CREATED:20230228T202606Z
LAST-MODIFIED:20230228T202606Z
UID:28111-1678269600-1678294800@www.industrialtribunal.bs
SUMMARY:Anita Moxey/Bahamas Hotel Catering Allied Workers Union v Harbourside at Atlantis Management Ltd T/A Harbourside Resort NP2021-155
DESCRIPTION:
URL:https://www.industrialtribunal.bs/event/anita-moxey-bahamas-hotel-catering-allied-workers-union-v-harbourside-at-atlantis-management-ltd-t-a-harbourside-resort-np2021-155/
LOCATION:Court 4 – Vice President Sharada Humes Ferguson
CATEGORIES:Court 4
END:VEVENT
BEGIN:VEVENT
DTSTART;TZID=America/Nassau:20230306T100000
DTEND;TZID=America/Nassau:20230306T170000
DTSTAMP:20260425T200525
CREATED:20230228T202411Z
LAST-MODIFIED:20230303T155323Z
UID:28109-1678096800-1678122000@www.industrialtribunal.bs
SUMMARY:Granville Don Thomas Butler III v Ministry of Foregin Affairs NP2021-108
DESCRIPTION:
URL:https://www.industrialtribunal.bs/event/salvant-st-merant-v-island-hotel-company-limited-d-b-a-atlantis-resort-spe-ltd-np2022-038/
LOCATION:Court 4 – Vice President Sharada Humes Ferguson
CATEGORIES:Court 4
END:VEVENT
END:VCALENDAR