BEGIN:VCALENDAR
VERSION:2.0
PRODID:-//Bahamas Industrial Tribunal - ECPv6.15.20//NONSGML v1.0//EN
CALSCALE:GREGORIAN
METHOD:PUBLISH
X-ORIGINAL-URL:https://www.industrialtribunal.bs
X-WR-CALDESC:Events for Bahamas Industrial Tribunal
REFRESH-INTERVAL;VALUE=DURATION:PT1H
X-Robots-Tag:noindex
X-PUBLISHED-TTL:PT1H
BEGIN:VTIMEZONE
TZID:America/Nassau
BEGIN:DAYLIGHT
TZOFFSETFROM:-0500
TZOFFSETTO:-0400
TZNAME:EDT
DTSTART:20210314T070000
END:DAYLIGHT
BEGIN:STANDARD
TZOFFSETFROM:-0400
TZOFFSETTO:-0500
TZNAME:EST
DTSTART:20211107T060000
END:STANDARD
BEGIN:DAYLIGHT
TZOFFSETFROM:-0500
TZOFFSETTO:-0400
TZNAME:EDT
DTSTART:20220313T070000
END:DAYLIGHT
BEGIN:STANDARD
TZOFFSETFROM:-0400
TZOFFSETTO:-0500
TZNAME:EST
DTSTART:20221106T060000
END:STANDARD
BEGIN:DAYLIGHT
TZOFFSETFROM:-0500
TZOFFSETTO:-0400
TZNAME:EDT
DTSTART:20230312T070000
END:DAYLIGHT
BEGIN:STANDARD
TZOFFSETFROM:-0400
TZOFFSETTO:-0500
TZNAME:EST
DTSTART:20231105T060000
END:STANDARD
BEGIN:DAYLIGHT
TZOFFSETFROM:-0500
TZOFFSETTO:-0400
TZNAME:EDT
DTSTART:20240310T070000
END:DAYLIGHT
BEGIN:STANDARD
TZOFFSETFROM:-0400
TZOFFSETTO:-0500
TZNAME:EST
DTSTART:20241103T060000
END:STANDARD
END:VTIMEZONE
BEGIN:VEVENT
DTSTART;TZID=America/Nassau:20230327T100000
DTEND;TZID=America/Nassau:20230327T170000
DTSTAMP:20260425T233501
CREATED:20230228T203020Z
LAST-MODIFIED:20230228T203020Z
UID:28117-1679911200-1679936400@www.industrialtribunal.bs
SUMMARY:Lena Roberts v GSC Management Company (Bahamas Limited) & United Shipping (Nassau) Company Limited NP2021-229
DESCRIPTION:
URL:https://www.industrialtribunal.bs/event/lena-roberts-v-gsc-management-company-bahamas-limited-united-shipping-nassau-company-limited-np2021-229/
LOCATION:Court 4 – Vice President Sharada Humes Ferguson
CATEGORIES:Court 4
END:VEVENT
BEGIN:VEVENT
DTSTART;TZID=America/Nassau:20230322T100000
DTEND;TZID=America/Nassau:20230322T170000
DTSTAMP:20260425T233501
CREATED:20230310T160909Z
LAST-MODIFIED:20230310T160909Z
UID:28154-1679479200-1679504400@www.industrialtribunal.bs
SUMMARY:Clyde Mackey et.al. v Woodside Petroleum Company (Texaco) Byron Lisa & Neville Woodside NP2018-166
DESCRIPTION:
URL:https://www.industrialtribunal.bs/event/clyde-mackey-et-al-v-woodside-petroleum-company-texaco-byron-lisa-neville-woodside-np2018-166/
LOCATION:Court 4 – Vice President Sharada Humes Ferguson
CATEGORIES:Court 4
END:VEVENT
BEGIN:VEVENT
DTSTART;TZID=America/Nassau:20230313T100000
DTEND;TZID=America/Nassau:20230313T170000
DTSTAMP:20260425T233501
CREATED:20230228T202831Z
LAST-MODIFIED:20230228T202831Z
UID:28115-1678701600-1678726800@www.industrialtribunal.bs
SUMMARY:Wandell Baptiste v Montague Motors NP2021-238
DESCRIPTION:
URL:https://www.industrialtribunal.bs/event/wandell-baptiste-v-montague-motors-np2021-238-2/
LOCATION:Court 4 – Vice President Sharada Humes Ferguson
CATEGORIES:Court 4
END:VEVENT
BEGIN:VEVENT
DTSTART;TZID=America/Nassau:20230309T100000
DTEND;TZID=America/Nassau:20230309T170000
DTSTAMP:20260425T233501
CREATED:20230228T202732Z
LAST-MODIFIED:20230228T202732Z
UID:28113-1678356000-1678381200@www.industrialtribunal.bs
SUMMARY:Anita Moxey/ Bahamas Hotel Catering Allied Workers Union v Harbourside at Atlantis Management Ltd. T/A Harbourside Resort NP2021-155
DESCRIPTION:
URL:https://www.industrialtribunal.bs/event/anita-moxey-bahamas-hotel-catering-allied-workers-union-v-harbourside-at-atlantis-management-ltd-t-a-harbourside-resort-np2021-155-2/
LOCATION:Court 4 – Vice President Sharada Humes Ferguson
CATEGORIES:Court 4
END:VEVENT
BEGIN:VEVENT
DTSTART;TZID=America/Nassau:20230308T100000
DTEND;TZID=America/Nassau:20230308T170000
DTSTAMP:20260425T233501
CREATED:20230228T202606Z
LAST-MODIFIED:20230228T202606Z
UID:28111-1678269600-1678294800@www.industrialtribunal.bs
SUMMARY:Anita Moxey/Bahamas Hotel Catering Allied Workers Union v Harbourside at Atlantis Management Ltd T/A Harbourside Resort NP2021-155
DESCRIPTION:
URL:https://www.industrialtribunal.bs/event/anita-moxey-bahamas-hotel-catering-allied-workers-union-v-harbourside-at-atlantis-management-ltd-t-a-harbourside-resort-np2021-155/
LOCATION:Court 4 – Vice President Sharada Humes Ferguson
CATEGORIES:Court 4
END:VEVENT
BEGIN:VEVENT
DTSTART;TZID=America/Nassau:20230306T100000
DTEND;TZID=America/Nassau:20230306T170000
DTSTAMP:20260425T233501
CREATED:20230228T202411Z
LAST-MODIFIED:20230303T155323Z
UID:28109-1678096800-1678122000@www.industrialtribunal.bs
SUMMARY:Granville Don Thomas Butler III v Ministry of Foregin Affairs NP2021-108
DESCRIPTION:
URL:https://www.industrialtribunal.bs/event/salvant-st-merant-v-island-hotel-company-limited-d-b-a-atlantis-resort-spe-ltd-np2022-038/
LOCATION:Court 4 – Vice President Sharada Humes Ferguson
CATEGORIES:Court 4
END:VEVENT
BEGIN:VEVENT
DTSTART;TZID=America/Nassau:20230306T100000
DTEND;TZID=America/Nassau:20230306T170000
DTSTAMP:20260425T233501
CREATED:20230228T202251Z
LAST-MODIFIED:20230228T202251Z
UID:28107-1678096800-1678122000@www.industrialtribunal.bs
SUMMARY:Phillip Munroe v Island Hotel Company NP2020-49
DESCRIPTION:
URL:https://www.industrialtribunal.bs/event/phillip-munroe-v-island-hotel-company-np2020-49/
LOCATION:Court 4 – Vice President Sharada Humes Ferguson
CATEGORIES:Court 4
END:VEVENT
BEGIN:VEVENT
DTSTART;TZID=America/Nassau:20230228T100000
DTEND;TZID=America/Nassau:20230228T170000
DTSTAMP:20260425T233501
CREATED:20230228T202152Z
LAST-MODIFIED:20230228T202152Z
UID:28105-1677578400-1677603600@www.industrialtribunal.bs
SUMMARY:Granville Don Thomas Butler III v Ministry of Foreign Affairs NP2021-108
DESCRIPTION:
URL:https://www.industrialtribunal.bs/event/granville-don-thomas-butler-iii-v-ministry-of-foreign-affairs-np2021-108-3/
LOCATION:Court 4 – Vice President Sharada Humes Ferguson
CATEGORIES:Court 4
END:VEVENT
BEGIN:VEVENT
DTSTART;TZID=America/Nassau:20230228T100000
DTEND;TZID=America/Nassau:20230228T170000
DTSTAMP:20260425T233501
CREATED:20230203T185033Z
LAST-MODIFIED:20230203T185033Z
UID:28027-1677578400-1677603600@www.industrialtribunal.bs
SUMMARY:Kenton Roberts v Airport Authority NP2021-204
DESCRIPTION:
URL:https://www.industrialtribunal.bs/event/kenton-roberts-v-airport-authority-np2021-204-3/
LOCATION:Court 4 – Vice President Sharada Humes Ferguson
CATEGORIES:Court 4
END:VEVENT
BEGIN:VEVENT
DTSTART;TZID=America/Nassau:20230227T100000
DTEND;TZID=America/Nassau:20230227T170000
DTSTAMP:20260425T233501
CREATED:20230203T184936Z
LAST-MODIFIED:20230203T184936Z
UID:28025-1677492000-1677517200@www.industrialtribunal.bs
SUMMARY:Kenton Roberts v Airport Authority NP2021-204
DESCRIPTION:
URL:https://www.industrialtribunal.bs/event/kenton-roberts-v-airport-authority-np2021-204-2/
LOCATION:Court 4 – Vice President Sharada Humes Ferguson
CATEGORIES:Court 4
END:VEVENT
BEGIN:VEVENT
DTSTART;TZID=America/Nassau:20230223T100000
DTEND;TZID=America/Nassau:20230223T170000
DTSTAMP:20260425T233501
CREATED:20230203T184813Z
LAST-MODIFIED:20230203T184813Z
UID:28023-1677146400-1677171600@www.industrialtribunal.bs
SUMMARY:Kimsley Ferguson v Department of Statistics NP2021-186
DESCRIPTION:
URL:https://www.industrialtribunal.bs/event/kimsley-ferguson-v-department-of-statistics-np2021-186/
LOCATION:Court 4 – Vice President Sharada Humes Ferguson
CATEGORIES:Court 4
END:VEVENT
BEGIN:VEVENT
DTSTART;TZID=America/Nassau:20230215T100000
DTEND;TZID=America/Nassau:20230215T170000
DTSTAMP:20260425T233501
CREATED:20230203T184715Z
LAST-MODIFIED:20230203T184715Z
UID:28021-1676455200-1676480400@www.industrialtribunal.bs
SUMMARY:Kendia Laramore v Showcase Entertainment (Fusion Superplex) NP2021-237
DESCRIPTION:
URL:https://www.industrialtribunal.bs/event/kendia-laramore-v-showcase-entertainment-fusion-superplex-np2021-237/
LOCATION:Court 4 – Vice President Sharada Humes Ferguson
CATEGORIES:Court 4
END:VEVENT
BEGIN:VEVENT
DTSTART;TZID=America/Nassau:20230215T100000
DTEND;TZID=America/Nassau:20230215T170000
DTSTAMP:20260425T233501
CREATED:20230203T184606Z
LAST-MODIFIED:20230203T184606Z
UID:28019-1676455200-1676480400@www.industrialtribunal.bs
SUMMARY:Shantell Joffre -Mackey v University of The Bahamas NP2021-229
DESCRIPTION:
URL:https://www.industrialtribunal.bs/event/shantell-joffre-mackey-v-university-of-the-bahamas-np2021-229-2/
LOCATION:Court 4 – Vice President Sharada Humes Ferguson
CATEGORIES:Court 4
END:VEVENT
BEGIN:VEVENT
DTSTART;TZID=America/Nassau:20230215T100000
DTEND;TZID=America/Nassau:20230215T170000
DTSTAMP:20260425T233501
CREATED:20230203T184454Z
LAST-MODIFIED:20230203T184454Z
UID:28017-1676455200-1676480400@www.industrialtribunal.bs
SUMMARY:Khyle Parker v University of The Bahamas NP2021-208
DESCRIPTION:
URL:https://www.industrialtribunal.bs/event/khyle-parker-v-university-of-the-bahamas-np2021-208/
LOCATION:Court 4 – Vice President Sharada Humes Ferguson
CATEGORIES:Court 4
END:VEVENT
BEGIN:VEVENT
DTSTART;TZID=America/Nassau:20230215T100000
DTEND;TZID=America/Nassau:20230215T170000
DTSTAMP:20260425T233501
CREATED:20230203T184347Z
LAST-MODIFIED:20230203T184347Z
UID:28015-1676455200-1676480400@www.industrialtribunal.bs
SUMMARY:Calpurnia Campbell v University of The Bahamas NP2021-189
DESCRIPTION:
URL:https://www.industrialtribunal.bs/event/calpurnia-campbell-v-university-of-the-bahamas-np2021-189-2/
LOCATION:Court 4 – Vice President Sharada Humes Ferguson
CATEGORIES:Court 4
END:VEVENT
BEGIN:VEVENT
DTSTART;TZID=America/Nassau:20230213T100000
DTEND;TZID=America/Nassau:20230213T170000
DTSTAMP:20260425T233501
CREATED:20230203T184137Z
LAST-MODIFIED:20230203T184137Z
UID:28013-1676282400-1676307600@www.industrialtribunal.bs
SUMMARY:Gwendolyn Smith v Holiday Inn NP2021-058
DESCRIPTION:
URL:https://www.industrialtribunal.bs/event/gwendolyn-smith-v-holiday-inn-np2021-058/
LOCATION:Court 4 – Vice President Sharada Humes Ferguson
CATEGORIES:Court 4
END:VEVENT
BEGIN:VEVENT
DTSTART;TZID=America/Nassau:20230206T100000
DTEND;TZID=America/Nassau:20230206T170000
DTSTAMP:20260425T233501
CREATED:20230203T184018Z
LAST-MODIFIED:20230203T184018Z
UID:28011-1675677600-1675702800@www.industrialtribunal.bs
SUMMARY:Lamertine Joseph v Rubis Blue Hill Rd. NP2022-040
DESCRIPTION:
URL:https://www.industrialtribunal.bs/event/lamertine-joseph-v-rubis-blue-hill-rd-np2022-040/
LOCATION:Court 4 – Vice President Sharada Humes Ferguson
CATEGORIES:Court 4
END:VEVENT
BEGIN:VEVENT
DTSTART;TZID=America/Nassau:20230202T100000
DTEND;TZID=America/Nassau:20230202T170000
DTSTAMP:20260425T233501
CREATED:20230203T183858Z
LAST-MODIFIED:20230203T183858Z
UID:28009-1675332000-1675357200@www.industrialtribunal.bs
SUMMARY:Sean D. Pratt v Restview Memorial Mortuary & Crematorium NP2022-023
DESCRIPTION:
URL:https://www.industrialtribunal.bs/event/sean-d-pratt-v-restview-memorial-mortuary-crematorium-np2022-023-2/
LOCATION:Court 4 – Vice President Sharada Humes Ferguson
CATEGORIES:Court 4
END:VEVENT
BEGIN:VEVENT
DTSTART;TZID=America/Nassau:20230201T100000
DTEND;TZID=America/Nassau:20230201T170000
DTSTAMP:20260425T233501
CREATED:20230203T183720Z
LAST-MODIFIED:20230203T183720Z
UID:28007-1675245600-1675270800@www.industrialtribunal.bs
SUMMARY:Sean D. Pratt v Restview Memorial Mortuary & Crematorium NP2022-023
DESCRIPTION:
URL:https://www.industrialtribunal.bs/event/sean-d-pratt-v-restview-memorial-mortuary-crematorium-np2022-023/
LOCATION:Court 4 – Vice President Sharada Humes Ferguson
CATEGORIES:Court 4
END:VEVENT
BEGIN:VEVENT
DTSTART;TZID=America/Nassau:20230130T100000
DTEND;TZID=America/Nassau:20230130T170000
DTSTAMP:20260425T233501
CREATED:20230109T152049Z
LAST-MODIFIED:20230109T152049Z
UID:27757-1675072800-1675098000@www.industrialtribunal.bs
SUMMARY:Larando Rolle/Bahamas Hotel Catering Allied Workers Union v Harbourside at Atlantis Management Limited\, T/A Harbourside Resort NP2021-156
DESCRIPTION:
URL:https://www.industrialtribunal.bs/event/larando-rolle-bahamas-hotel-catering-allied-workers-union-v-harbourside-at-atlantis-management-limited-t-a-harbourside-resort-np2021-156/
LOCATION:Court 4 – Vice President Sharada Humes Ferguson
CATEGORIES:Court 4
END:VEVENT
BEGIN:VEVENT
DTSTART;TZID=America/Nassau:20230126T100000
DTEND;TZID=America/Nassau:20230126T170000
DTSTAMP:20260425T233501
CREATED:20230109T151754Z
LAST-MODIFIED:20230109T151754Z
UID:27755-1674727200-1674752400@www.industrialtribunal.bs
SUMMARY:Claudia Pinder v Intertrust (Bahamas) Limited NP2018-160
DESCRIPTION:
URL:https://www.industrialtribunal.bs/event/claudia-pinder-v-intertrust-bahamas-limited-np2018-160/
LOCATION:Court 4 – Vice President Sharada Humes Ferguson
CATEGORIES:Court 4
END:VEVENT
BEGIN:VEVENT
DTSTART;TZID=America/Nassau:20230126T100000
DTEND;TZID=America/Nassau:20230126T170000
DTSTAMP:20260425T233501
CREATED:20230109T151613Z
LAST-MODIFIED:20230109T151613Z
UID:27753-1674727200-1674752400@www.industrialtribunal.bs
SUMMARY:Emelcha A Brown v CGT Contractors & Developers Limited NP2021-176
DESCRIPTION:
URL:https://www.industrialtribunal.bs/event/emelcha-a-brown-v-cgt-contractors-developers-limited-np2021-176-4/
LOCATION:Court 4 – Vice President Sharada Humes Ferguson
CATEGORIES:Court 4
END:VEVENT
BEGIN:VEVENT
DTSTART;TZID=America/Nassau:20230125T100000
DTEND;TZID=America/Nassau:20230125T170000
DTSTAMP:20260425T233501
CREATED:20230109T151427Z
LAST-MODIFIED:20230109T151427Z
UID:27751-1674640800-1674666000@www.industrialtribunal.bs
SUMMARY:Emelcha A. Brown v CGT Contractors & Developers Limited NP2021-176
DESCRIPTION:
URL:https://www.industrialtribunal.bs/event/emelcha-a-brown-v-cgt-contractors-developers-limited-np2021-176-3/
LOCATION:Court 4 – Vice President Sharada Humes Ferguson
CATEGORIES:Court 4
END:VEVENT
BEGIN:VEVENT
DTSTART;TZID=America/Nassau:20230123T100000
DTEND;TZID=America/Nassau:20230123T170000
DTSTAMP:20260425T233501
CREATED:20230109T151133Z
LAST-MODIFIED:20230109T151133Z
UID:27749-1674468000-1674493200@www.industrialtribunal.bs
SUMMARY:Mr. Laron M. Neely v Bahamas Hyperbaric Centre NP2021-224
DESCRIPTION:
URL:https://www.industrialtribunal.bs/event/mr-laron-m-neely-v-bahamas-hyperbaric-centre-np2021-224/
LOCATION:Court 4 – Vice President Sharada Humes Ferguson
CATEGORIES:Court 4
END:VEVENT
BEGIN:VEVENT
DTSTART;TZID=America/Nassau:20230123T100000
DTEND;TZID=America/Nassau:20230123T170000
DTSTAMP:20260425T233501
CREATED:20230109T151001Z
LAST-MODIFIED:20230109T151001Z
UID:27747-1674468000-1674493200@www.industrialtribunal.bs
SUMMARY:Mrs. Valerie R. Cooper v Bahamas Hyperbaric Centre Ltd NP2022-219
DESCRIPTION:
URL:https://www.industrialtribunal.bs/event/mrs-valerie-r-cooper-v-bahamas-hyperbaric-centre-ltd-np2022-219/
LOCATION:Court 4 – Vice President Sharada Humes Ferguson
CATEGORIES:Court 4
END:VEVENT
BEGIN:VEVENT
DTSTART;TZID=America/Nassau:20230119T100000
DTEND;TZID=America/Nassau:20230119T170000
DTSTAMP:20260425T233501
CREATED:20230109T150730Z
LAST-MODIFIED:20230109T150730Z
UID:27745-1674122400-1674147600@www.industrialtribunal.bs
SUMMARY:Charlin Jean-Jacques v Talcove Construction Limited NP2021-125
DESCRIPTION:
URL:https://www.industrialtribunal.bs/event/charlin-jean-jacques-v-talcove-construction-limited-np2021-125/
LOCATION:Court 4 – Vice President Sharada Humes Ferguson
CATEGORIES:Court 4
END:VEVENT
BEGIN:VEVENT
DTSTART;TZID=America/Nassau:20230119T100000
DTEND;TZID=America/Nassau:20230119T170000
DTSTAMP:20260425T233501
CREATED:20230109T150543Z
LAST-MODIFIED:20230109T150543Z
UID:27743-1674122400-1674147600@www.industrialtribunal.bs
SUMMARY:Bahamas Hotel Managerial Association v Perfect Luck Employer No.1 Limited NP2021-168
DESCRIPTION:
URL:https://www.industrialtribunal.bs/event/bahamas-hotel-managerial-association-v-perfect-luck-employer-no-1-limited-np2021-168/
LOCATION:Court 4 – Vice President Sharada Humes Ferguson
CATEGORIES:Court 4
END:VEVENT
BEGIN:VEVENT
DTSTART;TZID=America/Nassau:20221212T100000
DTEND;TZID=America/Nassau:20221212T170000
DTSTAMP:20260425T233501
CREATED:20221125T182115Z
LAST-MODIFIED:20221125T182115Z
UID:27545-1670839200-1670864400@www.industrialtribunal.bs
SUMMARY:Jason Rolle v Graycliff Cigar Company Limited & Graycliff Company Limited & Paolo Garzaroli NP2021-216
DESCRIPTION:
URL:https://www.industrialtribunal.bs/event/jason-rolle-v-graycliff-cigar-company-limited-graycliff-company-limited-paolo-garzaroli-np2021-216/
LOCATION:Court 4 – Vice President Sharada Humes Ferguson
CATEGORIES:Court 4
END:VEVENT
BEGIN:VEVENT
DTSTART;TZID=America/Nassau:20221212T100000
DTEND;TZID=America/Nassau:20221212T170000
DTSTAMP:20260425T233501
CREATED:20221125T181914Z
LAST-MODIFIED:20221125T181914Z
UID:27543-1670839200-1670864400@www.industrialtribunal.bs
SUMMARY:Ryan McCartney v Telecommunications Company NP2021-073
DESCRIPTION:
URL:https://www.industrialtribunal.bs/event/ryan-mccartney-v-telecommunications-company-np2021-073/
LOCATION:Court 4 – Vice President Sharada Humes Ferguson
CATEGORIES:Court 4
END:VEVENT
BEGIN:VEVENT
DTSTART;TZID=America/Nassau:20221207T100000
DTEND;TZID=America/Nassau:20221207T170000
DTSTAMP:20260425T233501
CREATED:20221125T181611Z
LAST-MODIFIED:20221125T181611Z
UID:27541-1670407200-1670432400@www.industrialtribunal.bs
SUMMARY:Willard Rolle v Commonwealth Brewery NP2021-060
DESCRIPTION:
URL:https://www.industrialtribunal.bs/event/willard-rolle-v-commonwealth-brewery-np2021-060-2/
LOCATION:Court 4 – Vice President Sharada Humes Ferguson
CATEGORIES:Court 4
END:VEVENT
END:VCALENDAR