BEGIN:VCALENDAR
VERSION:2.0
PRODID:-//Bahamas Industrial Tribunal - ECPv6.15.20//NONSGML v1.0//EN
CALSCALE:GREGORIAN
METHOD:PUBLISH
X-WR-CALNAME:Bahamas Industrial Tribunal
X-ORIGINAL-URL:https://www.industrialtribunal.bs
X-WR-CALDESC:Events for Bahamas Industrial Tribunal
REFRESH-INTERVAL;VALUE=DURATION:PT1H
X-Robots-Tag:noindex
X-PUBLISHED-TTL:PT1H
BEGIN:VTIMEZONE
TZID:America/Nassau
BEGIN:DAYLIGHT
TZOFFSETFROM:-0500
TZOFFSETTO:-0400
TZNAME:EDT
DTSTART:20230312T070000
END:DAYLIGHT
BEGIN:STANDARD
TZOFFSETFROM:-0400
TZOFFSETTO:-0500
TZNAME:EST
DTSTART:20231105T060000
END:STANDARD
BEGIN:DAYLIGHT
TZOFFSETFROM:-0500
TZOFFSETTO:-0400
TZNAME:EDT
DTSTART:20240310T070000
END:DAYLIGHT
BEGIN:STANDARD
TZOFFSETFROM:-0400
TZOFFSETTO:-0500
TZNAME:EST
DTSTART:20241103T060000
END:STANDARD
BEGIN:DAYLIGHT
TZOFFSETFROM:-0500
TZOFFSETTO:-0400
TZNAME:EDT
DTSTART:20250309T070000
END:DAYLIGHT
BEGIN:STANDARD
TZOFFSETFROM:-0400
TZOFFSETTO:-0500
TZNAME:EST
DTSTART:20251102T060000
END:STANDARD
BEGIN:DAYLIGHT
TZOFFSETFROM:-0500
TZOFFSETTO:-0400
TZNAME:EDT
DTSTART:20260308T070000
END:DAYLIGHT
BEGIN:STANDARD
TZOFFSETFROM:-0400
TZOFFSETTO:-0500
TZNAME:EST
DTSTART:20261101T060000
END:STANDARD
END:VTIMEZONE
BEGIN:VEVENT
DTSTART;TZID=America/Nassau:20250217T100000
DTEND;TZID=America/Nassau:20250217T170000
DTSTAMP:20260425T083826
CREATED:20250131T181000Z
LAST-MODIFIED:20250131T181000Z
UID:31985-1739786400-1739811600@www.industrialtribunal.bs
SUMMARY:Joanes LaFrance v Seabreeze Lodge & James Robertson NP2023-104
DESCRIPTION:
URL:https://www.industrialtribunal.bs/event/joanes-lafrance-v-seabreeze-lodge-james-robertson-np2023-104/
LOCATION:Court 4 – Vice President Ingrid Cooper-Brooks
CATEGORIES:Court 4
END:VEVENT
BEGIN:VEVENT
DTSTART;TZID=America/Nassau:20250217T100000
DTEND;TZID=America/Nassau:20250217T170000
DTSTAMP:20260425T083826
CREATED:20250131T180827Z
LAST-MODIFIED:20250131T180827Z
UID:31983-1739786400-1739811600@www.industrialtribunal.bs
SUMMARY:Ricardo D. Smith v Reliable Roofing NP2024-035
DESCRIPTION:
URL:https://www.industrialtribunal.bs/event/ricardo-d-smith-v-reliable-roofing-np2024-035-2/
LOCATION:Court 4 – Vice President Ingrid Cooper-Brooks
CATEGORIES:Court 4
END:VEVENT
BEGIN:VEVENT
DTSTART;TZID=America/Nassau:20250213T100000
DTEND;TZID=America/Nassau:20250213T170000
DTSTAMP:20260425T083826
CREATED:20250131T180702Z
LAST-MODIFIED:20250131T180702Z
UID:31981-1739440800-1739466000@www.industrialtribunal.bs
SUMMARY:Charles Rolle v Aetos Holdings Limited NP2023-067
DESCRIPTION:
URL:https://www.industrialtribunal.bs/event/charles-rolle-v-aetos-holdings-limited-np2023-067-8/
LOCATION:Court 4 – Vice President Ingrid Cooper-Brooks
CATEGORIES:Court 4
END:VEVENT
BEGIN:VEVENT
DTSTART;TZID=America/Nassau:20250212T100000
DTEND;TZID=America/Nassau:20250212T170000
DTSTAMP:20260425T083826
CREATED:20250131T180518Z
LAST-MODIFIED:20250131T180518Z
UID:31979-1739354400-1739379600@www.industrialtribunal.bs
SUMMARY:Charles Rolle v Aetos Holdings Limited NP2023-067
DESCRIPTION:
URL:https://www.industrialtribunal.bs/event/charles-rolle-v-aetos-holdings-limited-np2023-067-7/
LOCATION:Court 4 – Vice President Ingrid Cooper-Brooks
CATEGORIES:Court 4
END:VEVENT
BEGIN:VEVENT
DTSTART;TZID=America/Nassau:20250211T100000
DTEND;TZID=America/Nassau:20250211T170000
DTSTAMP:20260425T083826
CREATED:20250131T180304Z
LAST-MODIFIED:20250131T180304Z
UID:31977-1739268000-1739293200@www.industrialtribunal.bs
SUMMARY:Stephano Greene v Bahamas Power & Light NP2023-081
DESCRIPTION:
URL:https://www.industrialtribunal.bs/event/stephano-greene-v-bahamas-power-light-np2023-081/
LOCATION:Court 4 – Vice President Ingrid Cooper-Brooks
CATEGORIES:Court 4
END:VEVENT
BEGIN:VEVENT
DTSTART;TZID=America/Nassau:20250121T100000
DTEND;TZID=America/Nassau:20250121T170000
DTSTAMP:20260425T083826
CREATED:20250102T163702Z
LAST-MODIFIED:20250102T163702Z
UID:31899-1737453600-1737478800@www.industrialtribunal.bs
SUMMARY:Charles Rolle v Aetos Holdings Limited NP2023-067
DESCRIPTION:
URL:https://www.industrialtribunal.bs/event/charles-rolle-v-aetos-holdings-limited-np2023-067-6/
LOCATION:Court 4 – Vice President Ingrid Cooper-Brooks
CATEGORIES:Court 4
END:VEVENT
BEGIN:VEVENT
DTSTART;TZID=America/Nassau:20250120T100000
DTEND;TZID=America/Nassau:20250120T170000
DTSTAMP:20260425T083826
CREATED:20250102T163553Z
LAST-MODIFIED:20250102T163553Z
UID:31897-1737367200-1737392400@www.industrialtribunal.bs
SUMMARY:Charles Rolle v Aetos Holdings Limited NP2023-067
DESCRIPTION:
URL:https://www.industrialtribunal.bs/event/charles-rolle-v-aetos-holdings-limited-np2023-067-5/
LOCATION:Court 4 – Vice President Ingrid Cooper-Brooks
CATEGORIES:Court 4
END:VEVENT
BEGIN:VEVENT
DTSTART;TZID=America/Nassau:20250116T100000
DTEND;TZID=America/Nassau:20250116T170000
DTSTAMP:20260425T083826
CREATED:20250102T163445Z
LAST-MODIFIED:20250102T163445Z
UID:31895-1737021600-1737046800@www.industrialtribunal.bs
SUMMARY:Johnathan Clarke v Atlantis Paradise Island Bahamas NP2021-019
DESCRIPTION:
URL:https://www.industrialtribunal.bs/event/johnathan-clarke-v-atlantis-paradise-island-bahamas-np2021-019-2/
LOCATION:Court 4 – Vice President Ingrid Cooper-Brooks
CATEGORIES:Court 4
END:VEVENT
BEGIN:VEVENT
DTSTART;TZID=America/Nassau:20241211T100000
DTEND;TZID=America/Nassau:20241211T170000
DTSTAMP:20260425T083826
CREATED:20241205T145624Z
LAST-MODIFIED:20241205T145624Z
UID:31794-1733911200-1733936400@www.industrialtribunal.bs
SUMMARY:David Barlett v Nassau Cruise Port T/A Global Ports Holding NP2021-026
DESCRIPTION:
URL:https://www.industrialtribunal.bs/event/david-barlett-v-nassau-cruise-port-t-a-global-ports-holding-np2021-026/
LOCATION:Court 4 – Vice President Ingrid Cooper-Brooks
CATEGORIES:Court 4
END:VEVENT
BEGIN:VEVENT
DTSTART;TZID=America/Nassau:20241202T110000
DTEND;TZID=America/Nassau:20241202T170000
DTSTAMP:20260425T083826
CREATED:20241205T145445Z
LAST-MODIFIED:20241205T145445Z
UID:31792-1733137200-1733158800@www.industrialtribunal.bs
SUMMARY:Johnathan Clarke v Atlantis Paradise Island Bahamas NP2021-019
DESCRIPTION:
URL:https://www.industrialtribunal.bs/event/johnathan-clarke-v-atlantis-paradise-island-bahamas-np2021-019/
LOCATION:Court 4 – Vice President Ingrid Cooper-Brooks
CATEGORIES:Court 4
END:VEVENT
BEGIN:VEVENT
DTSTART;TZID=America/Nassau:20241202T110000
DTEND;TZID=America/Nassau:20241202T170000
DTSTAMP:20260425T083826
CREATED:20241205T145252Z
LAST-MODIFIED:20241205T145252Z
UID:31790-1733137200-1733158800@www.industrialtribunal.bs
SUMMARY:Donald McDonald v Island Hotel Company Limited NP2021-205
DESCRIPTION:
URL:https://www.industrialtribunal.bs/event/donald-mcdonald-v-island-hotel-company-limited-np2021-205-4/
LOCATION:Court 4 – Vice President Ingrid Cooper-Brooks
CATEGORIES:Court 4
END:VEVENT
BEGIN:VEVENT
DTSTART;TZID=America/Nassau:20241202T110000
DTEND;TZID=America/Nassau:20241202T170000
DTSTAMP:20260425T083826
CREATED:20241205T145059Z
LAST-MODIFIED:20241205T145059Z
UID:31788-1733137200-1733158800@www.industrialtribunal.bs
SUMMARY:Terah Black v RW Operations (Dunmore Beach) Harbour Island\, Eleuthera NP2021-222
DESCRIPTION:
URL:https://www.industrialtribunal.bs/event/terah-black-v-rw-operations-dunmore-beach-harbour-island-eleuthera-np2021-222/
LOCATION:Court 4 – Vice President Ingrid Cooper-Brooks
CATEGORIES:Court 4
END:VEVENT
BEGIN:VEVENT
DTSTART;TZID=America/Nassau:20241202T100000
DTEND;TZID=America/Nassau:20241202T170000
DTSTAMP:20260425T083826
CREATED:20241205T144730Z
LAST-MODIFIED:20241205T144730Z
UID:31786-1733133600-1733158800@www.industrialtribunal.bs
SUMMARY:Perry Linday v Easy Eco Car Limited NP2022-086
DESCRIPTION:
URL:https://www.industrialtribunal.bs/event/perry-linday-v-easy-eco-car-limited-np2022-086-2/
LOCATION:Court 4 – Vice President Ingrid Cooper-Brooks
CATEGORIES:Court 4
END:VEVENT
BEGIN:VEVENT
DTSTART;TZID=America/Nassau:20241202T100000
DTEND;TZID=America/Nassau:20241202T170000
DTSTAMP:20260425T083826
CREATED:20241205T144600Z
LAST-MODIFIED:20241205T144600Z
UID:31784-1733133600-1733158800@www.industrialtribunal.bs
SUMMARY:Keith Lightbourn v Easy Eco Car Limited NP2022-083
DESCRIPTION:
URL:https://www.industrialtribunal.bs/event/keith-lightbourn-v-easy-eco-car-limited-np2022-083/
LOCATION:Court 4 – Vice President Ingrid Cooper-Brooks
CATEGORIES:Court 4
END:VEVENT
BEGIN:VEVENT
DTSTART;TZID=America/Nassau:20241202T100000
DTEND;TZID=America/Nassau:20241202T170000
DTSTAMP:20260425T083826
CREATED:20241205T144422Z
LAST-MODIFIED:20241205T144422Z
UID:31782-1733133600-1733158800@www.industrialtribunal.bs
SUMMARY:Nathaniel Darling v Easy Eco Car Limited NP2022-082
DESCRIPTION:
URL:https://www.industrialtribunal.bs/event/nathaniel-darling-v-easy-eco-car-limited-np2022-082-3/
LOCATION:Court 4 – Vice President Ingrid Cooper-Brooks
CATEGORIES:Court 4
END:VEVENT
BEGIN:VEVENT
DTSTART;TZID=America/Nassau:20241202T100000
DTEND;TZID=America/Nassau:20241202T170000
DTSTAMP:20260425T083826
CREATED:20241205T144301Z
LAST-MODIFIED:20241205T144301Z
UID:31780-1733133600-1733158800@www.industrialtribunal.bs
SUMMARY:Kent Francis v Easy Eco Limited NP2022-081
DESCRIPTION:
URL:https://www.industrialtribunal.bs/event/kent-francis-v-easy-eco-limited-np2022-081-2/
LOCATION:Court 4 – Vice President Ingrid Cooper-Brooks
CATEGORIES:Court 4
END:VEVENT
BEGIN:VEVENT
DTSTART;TZID=America/Nassau:20241202T100000
DTEND;TZID=America/Nassau:20241202T170000
DTSTAMP:20260425T083826
CREATED:20241205T144139Z
LAST-MODIFIED:20241205T144139Z
UID:31778-1733133600-1733158800@www.industrialtribunal.bs
SUMMARY:Nicola Jones v F & B Security NP2021-062
DESCRIPTION:
URL:https://www.industrialtribunal.bs/event/nicola-jones-v-f-b-security-np2021-062-6/
LOCATION:Court 4 – Vice President Ingrid Cooper-Brooks
CATEGORIES:Court 4
END:VEVENT
BEGIN:VEVENT
DTSTART;TZID=America/Nassau:20240910T100000
DTEND;TZID=America/Nassau:20240910T170000
DTSTAMP:20260425T083826
CREATED:20240831T061003Z
LAST-MODIFIED:20240831T061003Z
UID:31331-1725962400-1725987600@www.industrialtribunal.bs
SUMMARY:Marisa D Mason Smith v The Bahamas Power And Light NP2023-058
DESCRIPTION:
URL:https://www.industrialtribunal.bs/event/marisa-d-mason-smith-v-the-bahamas-power-and-light-np2023-058/
LOCATION:Court 4 – Vice President Subusola Swain
CATEGORIES:Court 4
END:VEVENT
BEGIN:VEVENT
DTSTART;TZID=America/Nassau:20240909T100000
DTEND;TZID=America/Nassau:20240909T170000
DTSTAMP:20260425T083826
CREATED:20240831T060800Z
LAST-MODIFIED:20240831T060800Z
UID:31329-1725876000-1725901200@www.industrialtribunal.bs
SUMMARY:Marisa Mason Smith v The Bahamas Power And Light NP2023-058
DESCRIPTION:
URL:https://www.industrialtribunal.bs/event/marisa-mason-smith-v-the-bahamas-power-and-light-np2023-058/
LOCATION:Court 4 – Vice President Subusola Swain
CATEGORIES:Court 4
END:VEVENT
BEGIN:VEVENT
DTSTART;TZID=America/Nassau:20240905T100000
DTEND;TZID=America/Nassau:20240905T170000
DTSTAMP:20260425T083826
CREATED:20240831T060538Z
LAST-MODIFIED:20240831T060538Z
UID:31327-1725530400-1725555600@www.industrialtribunal.bs
SUMMARY:Anthony Saunders v Lifestyle Luxury Vacation Club NP2023-063
DESCRIPTION:
URL:https://www.industrialtribunal.bs/event/anthony-saunders-v-lifestyle-luxury-vacation-club-np2023-063-3/
LOCATION:Court 4 – Vice President Subusola Swain
CATEGORIES:Court 4
END:VEVENT
BEGIN:VEVENT
DTSTART;TZID=America/Nassau:20240904T100000
DTEND;TZID=America/Nassau:20240904T170000
DTSTAMP:20260425T083826
CREATED:20240831T060219Z
LAST-MODIFIED:20240831T060219Z
UID:31325-1725444000-1725469200@www.industrialtribunal.bs
SUMMARY:Anthony Saunders v Lifestyle Luxury Vacation Club NP2023-063
DESCRIPTION:
URL:https://www.industrialtribunal.bs/event/anthony-saunders-v-lifestyle-luxury-vacation-club-np2023-063-2/
LOCATION:Court 4 – Vice President Subusola Swain
CATEGORIES:Court 4
END:VEVENT
BEGIN:VEVENT
DTSTART;TZID=America/Nassau:20240808T100000
DTEND;TZID=America/Nassau:20240808T170000
DTSTAMP:20260425T083826
CREATED:20240731T191831Z
LAST-MODIFIED:20240731T191831Z
UID:31238-1723111200-1723136400@www.industrialtribunal.bs
SUMMARY:Patricia Ashe v Courtyard Marriott NP2024-009
DESCRIPTION:
URL:https://www.industrialtribunal.bs/event/patricia-ashe-v-courtyard-marriott-np2024-009-2/
LOCATION:Court 4 – Vice President Subusola Swain
CATEGORIES:Court 4
END:VEVENT
BEGIN:VEVENT
DTSTART;TZID=America/Nassau:20240806T100000
DTEND;TZID=America/Nassau:20240806T170000
DTSTAMP:20260425T083826
CREATED:20240731T191700Z
LAST-MODIFIED:20240731T191700Z
UID:31236-1722938400-1722963600@www.industrialtribunal.bs
SUMMARY:Preston Clarke v Courtyard Marriot NP2023-141
DESCRIPTION:
URL:https://www.industrialtribunal.bs/event/preston-clarke-v-courtyard-marriot-np2023-141-2/
LOCATION:Court 4 – Vice President Subusola Swain
CATEGORIES:Court 4
END:VEVENT
BEGIN:VEVENT
DTSTART;TZID=America/Nassau:20240725T100000
DTEND;TZID=America/Nassau:20240725T170000
DTSTAMP:20260425T083826
CREATED:20240712T184902Z
LAST-MODIFIED:20240712T184902Z
UID:31218-1721901600-1721926800@www.industrialtribunal.bs
SUMMARY:David Bartlett v Nassau Cruise Port T/A Global Ports Holding NP2024-026
DESCRIPTION:
URL:https://www.industrialtribunal.bs/event/david-bartlett-v-nassau-cruise-port-t-a-global-ports-holding-np2024-026/
LOCATION:Court 4 – Vice President Subusola Swain
CATEGORIES:Court 4
END:VEVENT
BEGIN:VEVENT
DTSTART;TZID=America/Nassau:20240718T100000
DTEND;TZID=America/Nassau:20240718T170000
DTSTAMP:20260425T083826
CREATED:20240628T193230Z
LAST-MODIFIED:20240628T193230Z
UID:31124-1721296800-1721322000@www.industrialtribunal.bs
SUMMARY:Beverly Turnquest v Cay Island Tours NP2023-121
DESCRIPTION:
URL:https://www.industrialtribunal.bs/event/beverly-turnquest-v-cay-island-tours-np2023-121/
LOCATION:Court 4 – Vice President Subusola Swain
CATEGORIES:Court 4
END:VEVENT
BEGIN:VEVENT
DTSTART;TZID=America/Nassau:20240715T100000
DTEND;TZID=America/Nassau:20240715T170000
DTSTAMP:20260425T083826
CREATED:20240628T192536Z
LAST-MODIFIED:20240628T192536Z
UID:31121-1721037600-1721062800@www.industrialtribunal.bs
SUMMARY:Anastacia Beneby v Candid Security Limited NP2023-054
DESCRIPTION:
URL:https://www.industrialtribunal.bs/event/anastacia-beneby-v-candid-security-limited-np2023-054/
LOCATION:Court 4 – Vice President Subusola Swain
CATEGORIES:Court 4
END:VEVENT
BEGIN:VEVENT
DTSTART;TZID=America/Nassau:20240715T100000
DTEND;TZID=America/Nassau:20240715T170000
DTSTAMP:20260425T083826
CREATED:20240628T192436Z
LAST-MODIFIED:20240628T192436Z
UID:31119-1721037600-1721062800@www.industrialtribunal.bs
SUMMARY:Kelecha Beckles v Jumbey Cafe NP2023-097
DESCRIPTION:
URL:https://www.industrialtribunal.bs/event/kelecha-beckles-v-jumbey-cafe-np2023-097-2/
LOCATION:Court 4 – Vice President Subusola Swain
CATEGORIES:Court 4
END:VEVENT
BEGIN:VEVENT
DTSTART;TZID=America/Nassau:20240715T100000
DTEND;TZID=America/Nassau:20240715T170000
DTSTAMP:20260425T083826
CREATED:20240628T192218Z
LAST-MODIFIED:20240628T192218Z
UID:31117-1721037600-1721062800@www.industrialtribunal.bs
SUMMARY:Turan Miller v Grand Hyatt Hotel NP2023-047
DESCRIPTION:
URL:https://www.industrialtribunal.bs/event/turan-miller-v-grand-hyatt-hotel-np2023-047-2/
LOCATION:Court 4 – Vice President Subusola Swain
CATEGORIES:Court 4
END:VEVENT
BEGIN:VEVENT
DTSTART;TZID=America/Nassau:20240708T100000
DTEND;TZID=America/Nassau:20240708T170000
DTSTAMP:20260425T083826
CREATED:20240628T192101Z
LAST-MODIFIED:20240628T192101Z
UID:31115-1720432800-1720458000@www.industrialtribunal.bs
SUMMARY:Anita Moxey v Harbourside at Atlantis Management T/A Harbourside Resort NP2023-126
DESCRIPTION:
URL:https://www.industrialtribunal.bs/event/anita-moxey-v-harbourside-at-atlantis-management-t-a-harbourside-resort-np2023-126/
LOCATION:Court 4 – Vice President Subusola Swain
CATEGORIES:Court 4
END:VEVENT
BEGIN:VEVENT
DTSTART;TZID=America/Nassau:20240708T100000
DTEND;TZID=America/Nassau:20240708T170000
DTSTAMP:20260425T083826
CREATED:20240628T191916Z
LAST-MODIFIED:20240628T191916Z
UID:31113-1720432800-1720458000@www.industrialtribunal.bs
SUMMARY:Larando Rolle v Harbourside at Atlantis Management T/A Harbourside Resort NP2023-122
DESCRIPTION:
URL:https://www.industrialtribunal.bs/event/larando-rolle-v-harbourside-at-atlantis-management-t-a-harbourside-resort-np2023-122/
LOCATION:Court 4 – Vice President Subusola Swain
CATEGORIES:Court 4
END:VEVENT
END:VCALENDAR