BEGIN:VCALENDAR
VERSION:2.0
PRODID:-//Bahamas Industrial Tribunal - ECPv6.15.20//NONSGML v1.0//EN
CALSCALE:GREGORIAN
METHOD:PUBLISH
X-ORIGINAL-URL:https://www.industrialtribunal.bs
X-WR-CALDESC:Events for Bahamas Industrial Tribunal
REFRESH-INTERVAL;VALUE=DURATION:PT1H
X-Robots-Tag:noindex
X-PUBLISHED-TTL:PT1H
BEGIN:VTIMEZONE
TZID:America/Nassau
BEGIN:DAYLIGHT
TZOFFSETFROM:-0500
TZOFFSETTO:-0400
TZNAME:EDT
DTSTART:20230312T070000
END:DAYLIGHT
BEGIN:STANDARD
TZOFFSETFROM:-0400
TZOFFSETTO:-0500
TZNAME:EST
DTSTART:20231105T060000
END:STANDARD
BEGIN:DAYLIGHT
TZOFFSETFROM:-0500
TZOFFSETTO:-0400
TZNAME:EDT
DTSTART:20240310T070000
END:DAYLIGHT
BEGIN:STANDARD
TZOFFSETFROM:-0400
TZOFFSETTO:-0500
TZNAME:EST
DTSTART:20241103T060000
END:STANDARD
BEGIN:DAYLIGHT
TZOFFSETFROM:-0500
TZOFFSETTO:-0400
TZNAME:EDT
DTSTART:20250309T070000
END:DAYLIGHT
BEGIN:STANDARD
TZOFFSETFROM:-0400
TZOFFSETTO:-0500
TZNAME:EST
DTSTART:20251102T060000
END:STANDARD
END:VTIMEZONE
BEGIN:VEVENT
DTSTART;TZID=America/Nassau:20241111T100000
DTEND;TZID=America/Nassau:20241111T170000
DTSTAMP:20260426T002539
CREATED:20241105T162741Z
LAST-MODIFIED:20241105T162741Z
UID:31623-1731319200-1731344400@www.industrialtribunal.bs
SUMMARY:Tiffany Delancey-Laing v Bahamas Union of Teachers NP2024-091
DESCRIPTION:
URL:https://www.industrialtribunal.bs/event/tiffany-delancey-laing-v-bahamas-union-of-teachers-np2024-091/
LOCATION:Court 5 – Vice President Rionda Godet\, Bank Lane\, Saffrey Square Building 2nd Floor\, New Providence\, Bahamas
CATEGORIES:Court 5
END:VEVENT
BEGIN:VEVENT
DTSTART;TZID=America/Nassau:20241111T100000
DTEND;TZID=America/Nassau:20241111T170000
DTSTAMP:20260426T002539
CREATED:20241105T163119Z
LAST-MODIFIED:20241105T163119Z
UID:31625-1731319200-1731344400@www.industrialtribunal.bs
SUMMARY:Livingstone Lightbourne v Sugar Factory /Sweet Foods (Bahamas) NP2024-001
DESCRIPTION:
URL:https://www.industrialtribunal.bs/event/livingstone-lightbourne-v-sugar-factory-sweet-foods-bahamas-np2024-001/
LOCATION:Court 5 – Vice President Rionda Godet\, Bank Lane\, Saffrey Square Building 2nd Floor\, New Providence\, Bahamas
CATEGORIES:Court 5
END:VEVENT
BEGIN:VEVENT
DTSTART;TZID=America/Nassau:20241112T100000
DTEND;TZID=America/Nassau:20241112T170000
DTSTAMP:20260426T002539
CREATED:20241105T163240Z
LAST-MODIFIED:20241105T163240Z
UID:31627-1731405600-1731430800@www.industrialtribunal.bs
SUMMARY:Eugene Ferguson v Catapult Construction NP2023-105
DESCRIPTION:
URL:https://www.industrialtribunal.bs/event/eugene-ferguson-v-catapult-construction-np2023-105/
LOCATION:Court 5 – Vice President Rionda Godet\, Bank Lane\, Saffrey Square Building 2nd Floor\, New Providence\, Bahamas
CATEGORIES:Court 5
END:VEVENT
BEGIN:VEVENT
DTSTART;TZID=America/Nassau:20241119T100000
DTEND;TZID=America/Nassau:20241119T170000
DTSTAMP:20260426T002539
CREATED:20241105T163418Z
LAST-MODIFIED:20241105T163418Z
UID:31629-1732010400-1732035600@www.industrialtribunal.bs
SUMMARY:Tatiana Tinker & Staff v More Security Bahamas (Exuma) NP2020-019
DESCRIPTION:
URL:https://www.industrialtribunal.bs/event/tatiana-tinker-staff-v-more-security-bahamas-exuma-np2020-019/
LOCATION:Court 5 – Vice President Rionda Godet\, Bank Lane\, Saffrey Square Building 2nd Floor\, New Providence\, Bahamas
CATEGORIES:Court 5
END:VEVENT
BEGIN:VEVENT
DTSTART;TZID=America/Nassau:20241120T100000
DTEND;TZID=America/Nassau:20241120T170000
DTSTAMP:20260426T002539
CREATED:20241105T163549Z
LAST-MODIFIED:20241105T163549Z
UID:31631-1732096800-1732122000@www.industrialtribunal.bs
SUMMARY:Tatiana Tinker & Staff v More Security Bahamas (Exuma) NP2020-019
DESCRIPTION:
URL:https://www.industrialtribunal.bs/event/tatiana-tinker-staff-v-more-security-bahamas-exuma-np2020-019-2/
LOCATION:Court 5 – Vice President Rionda Godet\, Bank Lane\, Saffrey Square Building 2nd Floor\, New Providence\, Bahamas
CATEGORIES:Court 5
END:VEVENT
BEGIN:VEVENT
DTSTART;TZID=America/Nassau:20241121T100000
DTEND;TZID=America/Nassau:20241121T170000
DTSTAMP:20260426T002539
CREATED:20241105T163748Z
LAST-MODIFIED:20241105T163748Z
UID:31633-1732183200-1732208400@www.industrialtribunal.bs
SUMMARY:Tatiana Tinker & Staff v More Security Bahamas (Exuma) NP2020-019
DESCRIPTION:
URL:https://www.industrialtribunal.bs/event/tatiana-tinker-staff-v-more-security-bahamas-exuma-np2020-019-3/
LOCATION:Court 5 – Vice President Rionda Godet\, Bank Lane\, Saffrey Square Building 2nd Floor\, New Providence\, Bahamas
CATEGORIES:Court 5
END:VEVENT
BEGIN:VEVENT
DTSTART;TZID=America/Nassau:20241125T100000
DTEND;TZID=America/Nassau:20241125T170000
DTSTAMP:20260426T002539
CREATED:20241105T163938Z
LAST-MODIFIED:20241105T163938Z
UID:31635-1732528800-1732554000@www.industrialtribunal.bs
SUMMARY:Patrice Panza v Holland America/Half Moon Cay NP2023-113
DESCRIPTION:
URL:https://www.industrialtribunal.bs/event/patrice-panza-v-holland-america-half-moon-cay-np2023-113/
LOCATION:Court 5 – Vice President Rionda Godet\, Bank Lane\, Saffrey Square Building 2nd Floor\, New Providence\, Bahamas
CATEGORIES:Court 5
END:VEVENT
BEGIN:VEVENT
DTSTART;TZID=America/Nassau:20241125T100000
DTEND;TZID=America/Nassau:20241125T170000
DTSTAMP:20260426T002539
CREATED:20241105T164112Z
LAST-MODIFIED:20241105T164112Z
UID:31637-1732528800-1732554000@www.industrialtribunal.bs
SUMMARY:Dominica Johnson v Brilliant Kidz Academy NP2023-143
DESCRIPTION:
URL:https://www.industrialtribunal.bs/event/dominica-johnson-v-brilliant-kidz-academy-np2023-143/
LOCATION:Court 5 – Vice President Rionda Godet\, Bank Lane\, Saffrey Square Building 2nd Floor\, New Providence\, Bahamas
CATEGORIES:Court 5
END:VEVENT
BEGIN:VEVENT
DTSTART;TZID=America/Nassau:20241125T100000
DTEND;TZID=America/Nassau:20241125T170000
DTSTAMP:20260426T002539
CREATED:20241105T164206Z
LAST-MODIFIED:20241105T164206Z
UID:31639-1732528800-1732554000@www.industrialtribunal.bs
SUMMARY:Rudy Taylor v Airport Authority NP2023-131
DESCRIPTION:
URL:https://www.industrialtribunal.bs/event/rudy-taylor-v-airport-authority-np2023-131/
LOCATION:Court 5 – Vice President Rionda Godet\, Bank Lane\, Saffrey Square Building 2nd Floor\, New Providence\, Bahamas
CATEGORIES:Court 5
END:VEVENT
BEGIN:VEVENT
DTSTART;TZID=America/Nassau:20241126T100000
DTEND;TZID=America/Nassau:20241126T170000
DTSTAMP:20260426T002539
CREATED:20241105T164330Z
LAST-MODIFIED:20241105T164330Z
UID:31641-1732615200-1732640400@www.industrialtribunal.bs
SUMMARY:Daria A. Johnson v Super Value Store Ltd NP2023-012
DESCRIPTION:
URL:https://www.industrialtribunal.bs/event/daria-a-johnson-v-super-value-store-ltd-np2023-012/
LOCATION:Court 5 – Vice President Rionda Godet\, Bank Lane\, Saffrey Square Building 2nd Floor\, New Providence\, Bahamas
CATEGORIES:Court 5
END:VEVENT
BEGIN:VEVENT
DTSTART;TZID=America/Nassau:20241127T100000
DTEND;TZID=America/Nassau:20241127T170000
DTSTAMP:20260426T002539
CREATED:20241105T164438Z
LAST-MODIFIED:20241105T164438Z
UID:31643-1732701600-1732726800@www.industrialtribunal.bs
SUMMARY:Larando Rolle BHC & AWU v Harbourside at Atlantis NP2023-122
DESCRIPTION:
URL:https://www.industrialtribunal.bs/event/larando-rolle-bhc-awu-v-harbourside-at-atlantis-np2023-122/
LOCATION:Court 5 – Vice President Rionda Godet\, Bank Lane\, Saffrey Square Building 2nd Floor\, New Providence\, Bahamas
CATEGORIES:Court 5
END:VEVENT
BEGIN:VEVENT
DTSTART;TZID=America/Nassau:20241128T100000
DTEND;TZID=America/Nassau:20241128T170000
DTSTAMP:20260426T002539
CREATED:20241105T165545Z
LAST-MODIFIED:20241105T165545Z
UID:31645-1732788000-1732813200@www.industrialtribunal.bs
SUMMARY:Anita Moxey BHC & AWU v Harbourside at Atlantis NP2023-126
DESCRIPTION:
URL:https://www.industrialtribunal.bs/event/anita-moxey-bhc-awu-v-harbourside-at-atlantis-np2023-126/
LOCATION:Court 5 – Vice President Rionda Godet\, Bank Lane\, Saffrey Square Building 2nd Floor\, New Providence\, Bahamas
CATEGORIES:Court 5
END:VEVENT
END:VCALENDAR