BEGIN:VCALENDAR
VERSION:2.0
PRODID:-//Bahamas Industrial Tribunal - ECPv6.15.20//NONSGML v1.0//EN
CALSCALE:GREGORIAN
METHOD:PUBLISH
X-WR-CALNAME:Bahamas Industrial Tribunal
X-ORIGINAL-URL:https://www.industrialtribunal.bs
X-WR-CALDESC:Events for Bahamas Industrial Tribunal
REFRESH-INTERVAL;VALUE=DURATION:PT1H
X-Robots-Tag:noindex
X-PUBLISHED-TTL:PT1H
BEGIN:VTIMEZONE
TZID:America/Nassau
BEGIN:DAYLIGHT
TZOFFSETFROM:-0500
TZOFFSETTO:-0400
TZNAME:EDT
DTSTART:20240310T070000
END:DAYLIGHT
BEGIN:STANDARD
TZOFFSETFROM:-0400
TZOFFSETTO:-0500
TZNAME:EST
DTSTART:20241103T060000
END:STANDARD
BEGIN:DAYLIGHT
TZOFFSETFROM:-0500
TZOFFSETTO:-0400
TZNAME:EDT
DTSTART:20250309T070000
END:DAYLIGHT
BEGIN:STANDARD
TZOFFSETFROM:-0400
TZOFFSETTO:-0500
TZNAME:EST
DTSTART:20251102T060000
END:STANDARD
BEGIN:DAYLIGHT
TZOFFSETFROM:-0500
TZOFFSETTO:-0400
TZNAME:EDT
DTSTART:20260308T070000
END:DAYLIGHT
BEGIN:STANDARD
TZOFFSETFROM:-0400
TZOFFSETTO:-0500
TZNAME:EST
DTSTART:20261101T060000
END:STANDARD
END:VTIMEZONE
BEGIN:VEVENT
DTSTART;TZID=America/Nassau:20250303T100000
DTEND;TZID=America/Nassau:20250303T170000
DTSTAMP:20260425T180538
CREATED:20250317T142747Z
LAST-MODIFIED:20250317T142747Z
UID:32267-1740996000-1741021200@www.industrialtribunal.bs
SUMMARY:Turan Miller v Grand Hyatt Baha Mar NP2023-047
DESCRIPTION:
URL:https://www.industrialtribunal.bs/event/turan-miller-v-grand-hyatt-baha-mar-np2023-047/
LOCATION:Court 5 – Vice President Rionda Godet\, Bank Lane\, Saffrey Square Building 2nd Floor\, New Providence\, Bahamas
CATEGORIES:Court 5
END:VEVENT
BEGIN:VEVENT
DTSTART;TZID=America/Nassau:20250311T100000
DTEND;TZID=America/Nassau:20250311T170000
DTSTAMP:20260425T180538
CREATED:20250317T142928Z
LAST-MODIFIED:20250317T142928Z
UID:32269-1741687200-1741712400@www.industrialtribunal.bs
SUMMARY:Carlton Smith v DTM Security Services & American Bridge NP2023-119
DESCRIPTION:
URL:https://www.industrialtribunal.bs/event/carlton-smith-v-dtm-security-services-american-bridge-np2023-119-2/
LOCATION:Court 5 – Vice President Rionda Godet\, Bank Lane\, Saffrey Square Building 2nd Floor\, New Providence\, Bahamas
CATEGORIES:Court 5
END:VEVENT
BEGIN:VEVENT
DTSTART;TZID=America/Nassau:20250312T100000
DTEND;TZID=America/Nassau:20250312T170000
DTSTAMP:20260425T180538
CREATED:20250317T143122Z
LAST-MODIFIED:20250317T143122Z
UID:32271-1741773600-1741798800@www.industrialtribunal.bs
SUMMARY:Carlton Smith v DTM Security Services & American Bridge NP2023-119
DESCRIPTION:
URL:https://www.industrialtribunal.bs/event/carlton-smith-v-dtm-security-services-american-bridge-np2023-119-3/
LOCATION:Court 5 – Vice President Rionda Godet\, Bank Lane\, Saffrey Square Building 2nd Floor\, New Providence\, Bahamas
CATEGORIES:Court 5
END:VEVENT
BEGIN:VEVENT
DTSTART;TZID=America/Nassau:20250313T100000
DTEND;TZID=America/Nassau:20250313T170000
DTSTAMP:20260425T180538
CREATED:20250317T143303Z
LAST-MODIFIED:20250317T143303Z
UID:32273-1741860000-1741885200@www.industrialtribunal.bs
SUMMARY:Carlton Smith v DTM Security Services & American Bridge NP2023-119
DESCRIPTION:
URL:https://www.industrialtribunal.bs/event/carlton-smith-v-dtm-security-services-american-bridge-np2023-119-4/
LOCATION:Court 5 – Vice President Rionda Godet\, Bank Lane\, Saffrey Square Building 2nd Floor\, New Providence\, Bahamas
CATEGORIES:Court 5
END:VEVENT
BEGIN:VEVENT
DTSTART;TZID=America/Nassau:20250319T100000
DTEND;TZID=America/Nassau:20250319T170000
DTSTAMP:20260425T180538
CREATED:20250317T143424Z
LAST-MODIFIED:20250317T143424Z
UID:32275-1742378400-1742403600@www.industrialtribunal.bs
SUMMARY:De'mon Charlton v Ultra Games NP2023-076
DESCRIPTION:
URL:https://www.industrialtribunal.bs/event/demon-charlton-v-ultra-games-np2023-076-3/
LOCATION:Court 5 – Vice President Rionda Godet\, Bank Lane\, Saffrey Square Building 2nd Floor\, New Providence\, Bahamas
CATEGORIES:Court 5
END:VEVENT
BEGIN:VEVENT
DTSTART;TZID=America/Nassau:20250320T100000
DTEND;TZID=America/Nassau:20250320T170000
DTSTAMP:20260425T180538
CREATED:20250317T143521Z
LAST-MODIFIED:20250317T143521Z
UID:32277-1742464800-1742490000@www.industrialtribunal.bs
SUMMARY:De'mon Charlton v Ultra Games NP2023-076
DESCRIPTION:
URL:https://www.industrialtribunal.bs/event/demon-charlton-v-ultra-games-np2023-076-4/
LOCATION:Court 5 – Vice President Rionda Godet\, Bank Lane\, Saffrey Square Building 2nd Floor\, New Providence\, Bahamas
CATEGORIES:Court 5
END:VEVENT
BEGIN:VEVENT
DTSTART;TZID=America/Nassau:20250327T100000
DTEND;TZID=America/Nassau:20250327T170000
DTSTAMP:20260425T180538
CREATED:20250317T143620Z
LAST-MODIFIED:20250317T143620Z
UID:32279-1743069600-1743094800@www.industrialtribunal.bs
SUMMARY:Frederick Hanna v Island Hotel Company Limited NP2023-028
DESCRIPTION:
URL:https://www.industrialtribunal.bs/event/frederick-hanna-v-island-hotel-company-limited-np2023-028-6/
LOCATION:Court 5 – Vice President Rionda Godet\, Bank Lane\, Saffrey Square Building 2nd Floor\, New Providence\, Bahamas
CATEGORIES:Court 5
END:VEVENT
BEGIN:VEVENT
DTSTART;TZID=America/Nassau:20250331T100000
DTEND;TZID=America/Nassau:20250331T170000
DTSTAMP:20260425T180538
CREATED:20250317T143731Z
LAST-MODIFIED:20250317T143731Z
UID:32281-1743415200-1743440400@www.industrialtribunal.bs
SUMMARY:Terrance Baker v Cherokee Air Ltd NP2023-124
DESCRIPTION:
URL:https://www.industrialtribunal.bs/event/terrance-baker-v-cherokee-air-ltd-np2023-124/
LOCATION:Court 5 – Vice President Rionda Godet\, Bank Lane\, Saffrey Square Building 2nd Floor\, New Providence\, Bahamas
CATEGORIES:Court 5
END:VEVENT
BEGIN:VEVENT
DTSTART;TZID=America/Nassau:20250331T100000
DTEND;TZID=America/Nassau:20250331T170000
DTSTAMP:20260425T180538
CREATED:20250317T144057Z
LAST-MODIFIED:20250317T144057Z
UID:32283-1743415200-1743440400@www.industrialtribunal.bs
SUMMARY:Marvin Johnson v Southern Air Charter NP2024-055
DESCRIPTION:
URL:https://www.industrialtribunal.bs/event/marvin-johnson-v-southern-air-charter-np2024-055/
LOCATION:Court 5 – Vice President Rionda Godet\, Bank Lane\, Saffrey Square Building 2nd Floor\, New Providence\, Bahamas
CATEGORIES:Court 5
END:VEVENT
BEGIN:VEVENT
DTSTART;TZID=America/Nassau:20250331T100000
DTEND;TZID=America/Nassau:20250331T170000
DTSTAMP:20260425T180538
CREATED:20250317T144150Z
LAST-MODIFIED:20250317T144150Z
UID:32285-1743415200-1743440400@www.industrialtribunal.bs
SUMMARY:Aaron Reckley v Lyford Cay Club NP2024-067
DESCRIPTION:
URL:https://www.industrialtribunal.bs/event/aaron-reckley-v-lyford-cay-club-np2024-067/
LOCATION:Court 5 – Vice President Rionda Godet\, Bank Lane\, Saffrey Square Building 2nd Floor\, New Providence\, Bahamas
CATEGORIES:Court 5
END:VEVENT
END:VCALENDAR